BEGIN:VCALENDAR
VERSION:2.0
PRODID:-//hacksw/handcal//NONSGML v1.0//EN
CALSCALE:GREGORIAN
BEGIN:VTIMEZONE
TZID:Europe/Berlin
X-LIC-LOCATION:Europe/Berlin
BEGIN:DAYLIGHT
TZOFFSETFROM:+0100
TZOFFSETTO:+0200
TZNAME:CEST
DTSTART:19700329T020000
RRULE:FREQ=YEARLY;BYDAY=-1SU;BYMONTH=3
END:DAYLIGHT
BEGIN:STANDARD
TZOFFSETFROM:+0200
TZOFFSETTO:+0100
TZNAME:CET
DTSTART:19701025T030000
RRULE:FREQ=YEARLY;BYDAY=-1SU;BYMONTH=10
END:STANDARD
END:VTIMEZONE
BEGIN:VEVENT
DTEND;TZID=Europe/Berlin:20260717T130000
UID:69e7d5b97a614
DTSTAMP:20260421T215329
LOCATION:Trebur- Theobaldstraße 
DESCRIPTION:!Achtung dies ist ein Angebot für Grundschulkinder!\r\n\r\nZwei Wochen voller Spiel\, Spaß und jeder Menge Überraschungen neben dem Schwimmbad in Trebur erwartet Ihr Kind! Ein warmes Mittagessen ist ebenfalls inklusive.\r\n\r\nDie Ferienspiele starten um 9.45 Uhr und enden um 15.15 Uhr\, freitags bereits um 13 Uhr. (Falls sich die Busfahrzeiten ändern sind Verschiebungen bei den Anfangs- und Endzeiten um wenige Minuten möglich.)\r\n\r\nSie haben die Möglichkeit Ihr Kind auch für die Frühbetreuung ab 7.30 Uhr und die Busfahrkarte anzumelden. \r\n
URL;VALUE=URI:https://www.unser-ferienprogramm.de/kiju-trebur/veranstaltung.php?id=239621
SUMMARY:Sommerferienspiele Trebur 2026
DTSTART;TZID=Europe/Berlin:20260706T095000
END:VEVENT

END:VCALENDAR
