BEGIN:VCALENDAR
VERSION:2.0
PRODID:-//hacksw/handcal//NONSGML v1.0//EN
CALSCALE:GREGORIAN
BEGIN:VTIMEZONE
TZID:Europe/Berlin
X-LIC-LOCATION:Europe/Berlin
BEGIN:DAYLIGHT
TZOFFSETFROM:+0100
TZOFFSETTO:+0200
TZNAME:CEST
DTSTART:19700329T020000
RRULE:FREQ=YEARLY;BYDAY=-1SU;BYMONTH=3
END:DAYLIGHT
BEGIN:STANDARD
TZOFFSETFROM:+0200
TZOFFSETTO:+0100
TZNAME:CET
DTSTART:19701025T030000
RRULE:FREQ=YEARLY;BYDAY=-1SU;BYMONTH=10
END:STANDARD
END:VTIMEZONE
BEGIN:VEVENT
DTEND;TZID=Europe/Berlin:20261009T163000
UID:69e5d098cce14
DTSTAMP:20260420T090704
LOCATION:Hans-Sachs-Str. 21\, 67117 Limburgerhof
DESCRIPTION:Das Ferienbetreuungsprogramm richtet sich an Grundschulkinder zwischen sechs und zehn Jahren sowie Kinder in weiterführenden Schulen bis Klasse 6. Für Kinder ab der sechsten Klasse bzw. ab 13 Jahren stehen zum jeweils gleichen Zeitraum teilweise andere Angebote zur Verfügung. (Alle Altersangaben gelten mit dem Beginn der jeweiligen Ferienaktion)\r\n\r\nDas Programm der Ferienbetreuungsangebote läuft von Montag bis Freitag (excl. Feiertage) täglich von 9 bis 16 h. Ankommen am Veranstaltungsort ist ab 8 h möglich - Abholen spätestens bis 17 h. Eine Frühbetreuung ab 7 h kann auf Antrag gewährt werden. Sie ist leider nur mit zusätzlichem Personal möglich und wird mit 15 €/Tag berechnet.\r\n\r\nInnerhalb des angegebenen Zeitraums besteht bei Teilnahme ein Anspruch auf ein Mittagessen\, Getränken und Snacks über den Tag\, die Teilnahme an Ausflügen sowie Betreuung im Zeitraum von jeweils 8 Uhr bis 17 Uhr von Montag bis Freitag (excl. Feiertage) Bei Ausflügen bitten wir den Kindern\, aus organisatorischen Gründen\, ein Lunch Paket mitzugeben.  Es besteht für jeden Teilnehmer eine Haftpflichtversicherung.\r\n\r\n
URL;VALUE=URI:https://www.unser-ferienprogramm.de/jukuz-limburgerhof/veranstaltung.php?id=295678
SUMMARY:Herbstferien 2026
DTSTART;TZID=Europe/Berlin:20261005T090000
END:VEVENT

END:VCALENDAR
