BEGIN:VCALENDAR
VERSION:2.0
PRODID:-//hacksw/handcal//NONSGML v1.0//EN
CALSCALE:GREGORIAN
BEGIN:VTIMEZONE
TZID:Europe/Berlin
X-LIC-LOCATION:Europe/Berlin
BEGIN:DAYLIGHT
TZOFFSETFROM:+0100
TZOFFSETTO:+0200
TZNAME:CEST
DTSTART:19700329T020000
RRULE:FREQ=YEARLY;BYDAY=-1SU;BYMONTH=3
END:DAYLIGHT
BEGIN:STANDARD
TZOFFSETFROM:+0200
TZOFFSETTO:+0100
TZNAME:CET
DTSTART:19701025T030000
RRULE:FREQ=YEARLY;BYDAY=-1SU;BYMONTH=10
END:STANDARD
END:VTIMEZONE
BEGIN:VEVENT
DTEND;TZID=Europe/Berlin:20260502T120000
UID:69ea0b599de18
DTSTAMP:20260423T140649
LOCATION:Baumholder
DESCRIPTION:Gestalte Dein Wesen aus dem Internet \, Comics …was ist Deine Idee zur aktuellen Weltsituation \, drücke Dich aus mit Avatar und Mangas \, spielerisch wird die Welt künstlerisch gestaltet mit aktuellem Augenzwinkern.\r\nWir brauchen Papier\, Stifte jeder Art \, Wachsmaler \, Wasser – und Acrylfarben
URL;VALUE=URI:https://www.unser-ferienprogramm.de/jukubir/veranstaltung.php?id=317065
SUMMARY:Manga\, Avatar & Ufos mit Judith Boy
DTSTART;TZID=Europe/Berlin:20260502T100000
END:VEVENT


BEGIN:VEVENT
DTEND;TZID=Europe/Berlin:20260516T120000
UID:69ea0b599de301
DTSTAMP:20260423T140649
LOCATION:Baumholder
DESCRIPTION:Gestalte Dein Wesen aus dem Internet \, Comics …was ist Deine Idee zur aktuellen Weltsituation \, drücke Dich aus mit Avatar und Mangas \, spielerisch wird die Welt künstlerisch gestaltet mit aktuellem Augenzwinkern.\r\nWir brauchen Papier\, Stifte jeder Art \, Wachsmaler \, Wasser – und Acrylfarben
URL;VALUE=URI:https://www.unser-ferienprogramm.de/jukubir/veranstaltung.php?id=317065
SUMMARY:Manga\, Avatar & Ufos mit Judith Boy
DTSTART;TZID=Europe/Berlin:20260516T100000
END:VEVENT

END:VCALENDAR
