BEGIN:VCALENDAR
VERSION:2.0
PRODID:-//hacksw/handcal//NONSGML v1.0//EN
CALSCALE:GREGORIAN
BEGIN:VTIMEZONE
TZID:Europe/Berlin
X-LIC-LOCATION:Europe/Berlin
BEGIN:DAYLIGHT
TZOFFSETFROM:+0100
TZOFFSETTO:+0200
TZNAME:CEST
DTSTART:19700329T020000
RRULE:FREQ=YEARLY;BYDAY=-1SU;BYMONTH=3
END:DAYLIGHT
BEGIN:STANDARD
TZOFFSETFROM:+0200
TZOFFSETTO:+0100
TZNAME:CET
DTSTART:19701025T030000
RRULE:FREQ=YEARLY;BYDAY=-1SU;BYMONTH=10
END:STANDARD
END:VTIMEZONE
BEGIN:VEVENT
DTEND;TZID=Europe/Berlin:20260319T170000
UID:69e7b02e041f3
DTSTAMP:20260421T191318
LOCATION:Haus der Jugend (Meslay-du-Maine-Straße 4\, 71686 Remseck am Neckar)
DESCRIPTION:Gemeinsam bemalen wir Tontöpfe und bepflanzen diese im Anschluss.\r\n\r\nDie Donnerstagskurse sind ein Angebot für Grundschulkinder.
URL;VALUE=URI:https://www.unser-ferienprogramm.de/jugendreferat-remseck/veranstaltung.php?id=303339
SUMMARY:Tontöpfe bemalen und bepflanzen
DTSTART;TZID=Europe/Berlin:20260319T150000
END:VEVENT

END:VCALENDAR
