BEGIN:VCALENDAR
VERSION:2.0
PRODID:-//hacksw/handcal//NONSGML v1.0//EN
CALSCALE:GREGORIAN
BEGIN:VTIMEZONE
TZID:Europe/Berlin
X-LIC-LOCATION:Europe/Berlin
BEGIN:DAYLIGHT
TZOFFSETFROM:+0100
TZOFFSETTO:+0200
TZNAME:CEST
DTSTART:19700329T020000
RRULE:FREQ=YEARLY;BYDAY=-1SU;BYMONTH=3
END:DAYLIGHT
BEGIN:STANDARD
TZOFFSETFROM:+0200
TZOFFSETTO:+0100
TZNAME:CET
DTSTART:19701025T030000
RRULE:FREQ=YEARLY;BYDAY=-1SU;BYMONTH=10
END:STANDARD
END:VTIMEZONE
BEGIN:VEVENT
DTEND;TZID=Europe/Berlin:20260312T170000
UID:69e7b038b29dc
DTSTAMP:20260421T191328
LOCATION:Haus der Jugend (Meslay-du-Maine-Straße 4\, 71686 Remseck am Neckar)
DESCRIPTION:Aus kleinen Perlen knüpfen die Kinder ihr eigenes\, frühlingshaftes Blumenarmband. \r\nDieser Kurs richtet sich an Kinder\, die bereits Erfahrung und Sicherheit im Knüpfen einfacher Perlenarmbänder gesammelt haben und Geduld mitbringen. \r\n\r\nDie Donnerstagskurse sind ein Angebot für Grundschulkinder.
URL;VALUE=URI:https://www.unser-ferienprogramm.de/jugendreferat-remseck/veranstaltung.php?id=303303
SUMMARY:Blumenarmband aus Perlen knüpfen
DTSTART;TZID=Europe/Berlin:20260312T150000
END:VEVENT

END:VCALENDAR
