BEGIN:VCALENDAR
VERSION:2.0
PRODID:-//hacksw/handcal//NONSGML v1.0//EN
CALSCALE:GREGORIAN
BEGIN:VTIMEZONE
TZID:Europe/Berlin
X-LIC-LOCATION:Europe/Berlin
BEGIN:DAYLIGHT
TZOFFSETFROM:+0100
TZOFFSETTO:+0200
TZNAME:CEST
DTSTART:19700329T020000
RRULE:FREQ=YEARLY;BYDAY=-1SU;BYMONTH=3
END:DAYLIGHT
BEGIN:STANDARD
TZOFFSETFROM:+0200
TZOFFSETTO:+0100
TZNAME:CET
DTSTART:19701025T030000
RRULE:FREQ=YEARLY;BYDAY=-1SU;BYMONTH=10
END:STANDARD
END:VTIMEZONE
BEGIN:VEVENT
DTEND;TZID=Europe/Berlin:20260803T093000
UID:69e77f078c60f
DTSTAMP:20260421T154335
LOCATION:Lise-Meitner-Gymnasium
DESCRIPTION:
URL;VALUE=URI:https://www.unser-ferienprogramm.de/jugendreferat-remseck/veranstaltung.php?id=299202
SUMMARY:Frühbetreuung MiniRemseck
DTSTART;TZID=Europe/Berlin:20260803T073000
END:VEVENT


BEGIN:VEVENT
DTEND;TZID=Europe/Berlin:20260804T093000
UID:69e77f078c6241
DTSTAMP:20260421T154335
LOCATION:Lise-Meitner-Gymnasium
DESCRIPTION:
URL;VALUE=URI:https://www.unser-ferienprogramm.de/jugendreferat-remseck/veranstaltung.php?id=299202
SUMMARY:Frühbetreuung MiniRemseck
DTSTART;TZID=Europe/Berlin:20260804T073000
END:VEVENT


BEGIN:VEVENT
DTEND;TZID=Europe/Berlin:20260805T093000
UID:69e77f078c6302
DTSTAMP:20260421T154335
LOCATION:Lise-Meitner-Gymnasium
DESCRIPTION:
URL;VALUE=URI:https://www.unser-ferienprogramm.de/jugendreferat-remseck/veranstaltung.php?id=299202
SUMMARY:Frühbetreuung MiniRemseck
DTSTART;TZID=Europe/Berlin:20260805T073000
END:VEVENT


BEGIN:VEVENT
DTEND;TZID=Europe/Berlin:20260806T093000
UID:69e77f078c6393
DTSTAMP:20260421T154335
LOCATION:Lise-Meitner-Gymnasium
DESCRIPTION:
URL;VALUE=URI:https://www.unser-ferienprogramm.de/jugendreferat-remseck/veranstaltung.php?id=299202
SUMMARY:Frühbetreuung MiniRemseck
DTSTART;TZID=Europe/Berlin:20260806T073000
END:VEVENT


BEGIN:VEVENT
DTEND;TZID=Europe/Berlin:20260807T093000
UID:69e77f078c6414
DTSTAMP:20260421T154335
LOCATION:Lise-Meitner-Gymnasium
DESCRIPTION:
URL;VALUE=URI:https://www.unser-ferienprogramm.de/jugendreferat-remseck/veranstaltung.php?id=299202
SUMMARY:Frühbetreuung MiniRemseck
DTSTART;TZID=Europe/Berlin:20260807T073000
END:VEVENT


BEGIN:VEVENT
DTEND;TZID=Europe/Berlin:20260810T093000
UID:69e77f078c64a5
DTSTAMP:20260421T154335
LOCATION:Lise-Meitner-Gymnasium
DESCRIPTION:
URL;VALUE=URI:https://www.unser-ferienprogramm.de/jugendreferat-remseck/veranstaltung.php?id=299202
SUMMARY:Frühbetreuung MiniRemseck
DTSTART;TZID=Europe/Berlin:20260810T073000
END:VEVENT


BEGIN:VEVENT
DTEND;TZID=Europe/Berlin:20260811T093000
UID:69e77f078c6526
DTSTAMP:20260421T154335
LOCATION:Lise-Meitner-Gymnasium
DESCRIPTION:
URL;VALUE=URI:https://www.unser-ferienprogramm.de/jugendreferat-remseck/veranstaltung.php?id=299202
SUMMARY:Frühbetreuung MiniRemseck
DTSTART;TZID=Europe/Berlin:20260811T073000
END:VEVENT


BEGIN:VEVENT
DTEND;TZID=Europe/Berlin:20260812T093000
UID:69e77f078c65a7
DTSTAMP:20260421T154335
LOCATION:Lise-Meitner-Gymnasium
DESCRIPTION:
URL;VALUE=URI:https://www.unser-ferienprogramm.de/jugendreferat-remseck/veranstaltung.php?id=299202
SUMMARY:Frühbetreuung MiniRemseck
DTSTART;TZID=Europe/Berlin:20260812T073000
END:VEVENT


BEGIN:VEVENT
DTEND;TZID=Europe/Berlin:20260813T093000
UID:69e77f078c6628
DTSTAMP:20260421T154335
LOCATION:Lise-Meitner-Gymnasium
DESCRIPTION:
URL;VALUE=URI:https://www.unser-ferienprogramm.de/jugendreferat-remseck/veranstaltung.php?id=299202
SUMMARY:Frühbetreuung MiniRemseck
DTSTART;TZID=Europe/Berlin:20260813T073000
END:VEVENT


BEGIN:VEVENT
DTEND;TZID=Europe/Berlin:20260814T093000
UID:69e77f078c66a9
DTSTAMP:20260421T154335
LOCATION:Lise-Meitner-Gymnasium
DESCRIPTION:
URL;VALUE=URI:https://www.unser-ferienprogramm.de/jugendreferat-remseck/veranstaltung.php?id=299202
SUMMARY:Frühbetreuung MiniRemseck
DTSTART;TZID=Europe/Berlin:20260814T073000
END:VEVENT

END:VCALENDAR
