BEGIN:VCALENDAR
VERSION:2.0
PRODID:-//hacksw/handcal//NONSGML v1.0//EN
CALSCALE:GREGORIAN
BEGIN:VTIMEZONE
TZID:Europe/Berlin
X-LIC-LOCATION:Europe/Berlin
BEGIN:DAYLIGHT
TZOFFSETFROM:+0100
TZOFFSETTO:+0200
TZNAME:CEST
DTSTART:19700329T020000
RRULE:FREQ=YEARLY;BYDAY=-1SU;BYMONTH=3
END:DAYLIGHT
BEGIN:STANDARD
TZOFFSETFROM:+0200
TZOFFSETTO:+0100
TZNAME:CET
DTSTART:19701025T030000
RRULE:FREQ=YEARLY;BYDAY=-1SU;BYMONTH=10
END:STANDARD
END:VTIMEZONE
BEGIN:VEVENT
DTEND;TZID=Europe/Berlin:20260803T160000
UID:69e77f067101f
DTSTAMP:20260421T154334
LOCATION:Lise-Meitner-Gymnasium
DESCRIPTION:Wo Kinder ihre Stimme erheben und Demokratie spielerisch erleben!\r\nDas Konzept der Kinderspielstadt legt den Schwerpunkt auf die spielerische und kindgerechte Vermittlung von politischen Bildungs- und Entscheidungsprozessen sowie dem Veranschaulichen und Erlernen wirtschaftlicher Abläufe. In MiniRemseck gibt es über 40 verschiedene Betriebe\, die von ehrenamtlichen Mitarbeitenden geleitet werden. So kann jedes Kind einen interessanten Beruf ausprobieren und dabei sein erstes eigenes Geld – die Mini€uro - verdienen.
URL;VALUE=URI:https://www.unser-ferienprogramm.de/jugendreferat-remseck/veranstaltung.php?id=299171
SUMMARY:MiniRemseck 2026
DTSTART;TZID=Europe/Berlin:20260803T093000
END:VEVENT


BEGIN:VEVENT
DTEND;TZID=Europe/Berlin:20260804T160000
UID:69e77f06710631
DTSTAMP:20260421T154334
LOCATION:Lise-Meitner-Gymnasium
DESCRIPTION:Wo Kinder ihre Stimme erheben und Demokratie spielerisch erleben!\r\nDas Konzept der Kinderspielstadt legt den Schwerpunkt auf die spielerische und kindgerechte Vermittlung von politischen Bildungs- und Entscheidungsprozessen sowie dem Veranschaulichen und Erlernen wirtschaftlicher Abläufe. In MiniRemseck gibt es über 40 verschiedene Betriebe\, die von ehrenamtlichen Mitarbeitenden geleitet werden. So kann jedes Kind einen interessanten Beruf ausprobieren und dabei sein erstes eigenes Geld – die Mini€uro - verdienen.
URL;VALUE=URI:https://www.unser-ferienprogramm.de/jugendreferat-remseck/veranstaltung.php?id=299171
SUMMARY:MiniRemseck 2026
DTSTART;TZID=Europe/Berlin:20260804T093000
END:VEVENT


BEGIN:VEVENT
DTEND;TZID=Europe/Berlin:20260805T160000
UID:69e77f06710712
DTSTAMP:20260421T154334
LOCATION:Lise-Meitner-Gymnasium
DESCRIPTION:Wo Kinder ihre Stimme erheben und Demokratie spielerisch erleben!\r\nDas Konzept der Kinderspielstadt legt den Schwerpunkt auf die spielerische und kindgerechte Vermittlung von politischen Bildungs- und Entscheidungsprozessen sowie dem Veranschaulichen und Erlernen wirtschaftlicher Abläufe. In MiniRemseck gibt es über 40 verschiedene Betriebe\, die von ehrenamtlichen Mitarbeitenden geleitet werden. So kann jedes Kind einen interessanten Beruf ausprobieren und dabei sein erstes eigenes Geld – die Mini€uro - verdienen.
URL;VALUE=URI:https://www.unser-ferienprogramm.de/jugendreferat-remseck/veranstaltung.php?id=299171
SUMMARY:MiniRemseck 2026
DTSTART;TZID=Europe/Berlin:20260805T093000
END:VEVENT


BEGIN:VEVENT
DTEND;TZID=Europe/Berlin:20260806T160000
UID:69e77f067107b3
DTSTAMP:20260421T154334
LOCATION:Lise-Meitner-Gymnasium
DESCRIPTION:Wo Kinder ihre Stimme erheben und Demokratie spielerisch erleben!\r\nDas Konzept der Kinderspielstadt legt den Schwerpunkt auf die spielerische und kindgerechte Vermittlung von politischen Bildungs- und Entscheidungsprozessen sowie dem Veranschaulichen und Erlernen wirtschaftlicher Abläufe. In MiniRemseck gibt es über 40 verschiedene Betriebe\, die von ehrenamtlichen Mitarbeitenden geleitet werden. So kann jedes Kind einen interessanten Beruf ausprobieren und dabei sein erstes eigenes Geld – die Mini€uro - verdienen.
URL;VALUE=URI:https://www.unser-ferienprogramm.de/jugendreferat-remseck/veranstaltung.php?id=299171
SUMMARY:MiniRemseck 2026
DTSTART;TZID=Europe/Berlin:20260806T093000
END:VEVENT


BEGIN:VEVENT
DTEND;TZID=Europe/Berlin:20260807T160000
UID:69e77f06710854
DTSTAMP:20260421T154334
LOCATION:Lise-Meitner-Gymnasium
DESCRIPTION:Wo Kinder ihre Stimme erheben und Demokratie spielerisch erleben!\r\nDas Konzept der Kinderspielstadt legt den Schwerpunkt auf die spielerische und kindgerechte Vermittlung von politischen Bildungs- und Entscheidungsprozessen sowie dem Veranschaulichen und Erlernen wirtschaftlicher Abläufe. In MiniRemseck gibt es über 40 verschiedene Betriebe\, die von ehrenamtlichen Mitarbeitenden geleitet werden. So kann jedes Kind einen interessanten Beruf ausprobieren und dabei sein erstes eigenes Geld – die Mini€uro - verdienen.
URL;VALUE=URI:https://www.unser-ferienprogramm.de/jugendreferat-remseck/veranstaltung.php?id=299171
SUMMARY:MiniRemseck 2026
DTSTART;TZID=Europe/Berlin:20260807T093000
END:VEVENT


BEGIN:VEVENT
DTEND;TZID=Europe/Berlin:20260810T160000
UID:69e77f067108e5
DTSTAMP:20260421T154334
LOCATION:Lise-Meitner-Gymnasium
DESCRIPTION:Wo Kinder ihre Stimme erheben und Demokratie spielerisch erleben!\r\nDas Konzept der Kinderspielstadt legt den Schwerpunkt auf die spielerische und kindgerechte Vermittlung von politischen Bildungs- und Entscheidungsprozessen sowie dem Veranschaulichen und Erlernen wirtschaftlicher Abläufe. In MiniRemseck gibt es über 40 verschiedene Betriebe\, die von ehrenamtlichen Mitarbeitenden geleitet werden. So kann jedes Kind einen interessanten Beruf ausprobieren und dabei sein erstes eigenes Geld – die Mini€uro - verdienen.
URL;VALUE=URI:https://www.unser-ferienprogramm.de/jugendreferat-remseck/veranstaltung.php?id=299171
SUMMARY:MiniRemseck 2026
DTSTART;TZID=Europe/Berlin:20260810T093000
END:VEVENT


BEGIN:VEVENT
DTEND;TZID=Europe/Berlin:20260811T160000
UID:69e77f06710976
DTSTAMP:20260421T154334
LOCATION:Lise-Meitner-Gymnasium
DESCRIPTION:Wo Kinder ihre Stimme erheben und Demokratie spielerisch erleben!\r\nDas Konzept der Kinderspielstadt legt den Schwerpunkt auf die spielerische und kindgerechte Vermittlung von politischen Bildungs- und Entscheidungsprozessen sowie dem Veranschaulichen und Erlernen wirtschaftlicher Abläufe. In MiniRemseck gibt es über 40 verschiedene Betriebe\, die von ehrenamtlichen Mitarbeitenden geleitet werden. So kann jedes Kind einen interessanten Beruf ausprobieren und dabei sein erstes eigenes Geld – die Mini€uro - verdienen.
URL;VALUE=URI:https://www.unser-ferienprogramm.de/jugendreferat-remseck/veranstaltung.php?id=299171
SUMMARY:MiniRemseck 2026
DTSTART;TZID=Europe/Berlin:20260811T093000
END:VEVENT


BEGIN:VEVENT
DTEND;TZID=Europe/Berlin:20260812T160000
UID:69e77f06710a07
DTSTAMP:20260421T154334
LOCATION:Lise-Meitner-Gymnasium
DESCRIPTION:Wo Kinder ihre Stimme erheben und Demokratie spielerisch erleben!\r\nDas Konzept der Kinderspielstadt legt den Schwerpunkt auf die spielerische und kindgerechte Vermittlung von politischen Bildungs- und Entscheidungsprozessen sowie dem Veranschaulichen und Erlernen wirtschaftlicher Abläufe. In MiniRemseck gibt es über 40 verschiedene Betriebe\, die von ehrenamtlichen Mitarbeitenden geleitet werden. So kann jedes Kind einen interessanten Beruf ausprobieren und dabei sein erstes eigenes Geld – die Mini€uro - verdienen.
URL;VALUE=URI:https://www.unser-ferienprogramm.de/jugendreferat-remseck/veranstaltung.php?id=299171
SUMMARY:MiniRemseck 2026
DTSTART;TZID=Europe/Berlin:20260812T093000
END:VEVENT


BEGIN:VEVENT
DTEND;TZID=Europe/Berlin:20260813T160000
UID:69e77f06710a98
DTSTAMP:20260421T154334
LOCATION:Lise-Meitner-Gymnasium
DESCRIPTION:Wo Kinder ihre Stimme erheben und Demokratie spielerisch erleben!\r\nDas Konzept der Kinderspielstadt legt den Schwerpunkt auf die spielerische und kindgerechte Vermittlung von politischen Bildungs- und Entscheidungsprozessen sowie dem Veranschaulichen und Erlernen wirtschaftlicher Abläufe. In MiniRemseck gibt es über 40 verschiedene Betriebe\, die von ehrenamtlichen Mitarbeitenden geleitet werden. So kann jedes Kind einen interessanten Beruf ausprobieren und dabei sein erstes eigenes Geld – die Mini€uro - verdienen.
URL;VALUE=URI:https://www.unser-ferienprogramm.de/jugendreferat-remseck/veranstaltung.php?id=299171
SUMMARY:MiniRemseck 2026
DTSTART;TZID=Europe/Berlin:20260813T093000
END:VEVENT


BEGIN:VEVENT
DTEND;TZID=Europe/Berlin:20260814T160000
UID:69e77f06710b19
DTSTAMP:20260421T154334
LOCATION:Lise-Meitner-Gymnasium
DESCRIPTION:Wo Kinder ihre Stimme erheben und Demokratie spielerisch erleben!\r\nDas Konzept der Kinderspielstadt legt den Schwerpunkt auf die spielerische und kindgerechte Vermittlung von politischen Bildungs- und Entscheidungsprozessen sowie dem Veranschaulichen und Erlernen wirtschaftlicher Abläufe. In MiniRemseck gibt es über 40 verschiedene Betriebe\, die von ehrenamtlichen Mitarbeitenden geleitet werden. So kann jedes Kind einen interessanten Beruf ausprobieren und dabei sein erstes eigenes Geld – die Mini€uro - verdienen.
URL;VALUE=URI:https://www.unser-ferienprogramm.de/jugendreferat-remseck/veranstaltung.php?id=299171
SUMMARY:MiniRemseck 2026
DTSTART;TZID=Europe/Berlin:20260814T093000
END:VEVENT

END:VCALENDAR
