BEGIN:VCALENDAR
VERSION:2.0
PRODID:-//hacksw/handcal//NONSGML v1.0//EN
CALSCALE:GREGORIAN
BEGIN:VTIMEZONE
TZID:Europe/Berlin
X-LIC-LOCATION:Europe/Berlin
BEGIN:DAYLIGHT
TZOFFSETFROM:+0100
TZOFFSETTO:+0200
TZNAME:CEST
DTSTART:19700329T020000
RRULE:FREQ=YEARLY;BYDAY=-1SU;BYMONTH=3
END:DAYLIGHT
BEGIN:STANDARD
TZOFFSETFROM:+0200
TZOFFSETTO:+0100
TZNAME:CET
DTSTART:19701025T030000
RRULE:FREQ=YEARLY;BYDAY=-1SU;BYMONTH=10
END:STANDARD
END:VTIMEZONE
BEGIN:VEVENT
DTEND;TZID=Europe/Berlin:20260329T170000
UID:69eb3e16f2cc2
DTSTAMP:20260424T115534
LOCATION:Stadthalle Betzdorf
DESCRIPTION:Wir verwandeln die Stadthalle Betzdorf in ein großes Zirkuszelt!\r\nVon Sonntag\, 29.03. bis Donnerstag\, 02.04.2026 besteht die Möglichkeit\, für 5 Tage in das Zirkusleben einzutauchen und verschiedene Zirkusnummern auszuprobieren und zu erlernen.\r\nEs werden Workshops mit den Themen Jonglage\, Akrobatik\, Einrad fahren\, Fakirtechnik u.v.m. angeboten. Unter Anleitung unterschiedlicher Workshopleiter/innen wird eine gemeinsame Präsentation bzw. Auftrittsnummer erarbeitet. Das Erlernte wird dann bei einer großen Aufführung am Do.\, 02.04.2026 um 18.00 Uhr präsentiert.\r\nWir treffen uns zu folgenden Zeiten in der Stadthalle:\r\n\r\nSonntag 29.03.          13 - 17 Uhr\r\nMontag 30.03.           10 - 16 Uhr\r\nDienstag 31.03.         10 - 16 Uhr\r\nMittwoch 01.04.         10 - 16 Uhr\r\nDonnerstag 02.04.     13 - Ende der Aufführung\r\n\r\nEine Teilnahme ist nur möglich\, wenn Sie uns die Fotofreigabe für Ihr Kind erteilen. Denn die Kinder stehen auf der Bühne und die Aufführung und einzelne Proben werden gefilmt und fotografiert. \r\nAls Verpflegung gibt es einen Mittagssnack. Zudem stehen Obst und Wasser Stärkung ausreichend zur Verfügung. (Bei besonderen Essgewohnheiten - vegetarisch\, vegan etc. - bitten wir um kurze Rückmeldung.) Die Kosten für die Aktion betragen 80\,00 € (60\,00 € pro Kind bei mehreren Kindern aus einer Familie).
URL;VALUE=URI:https://www.unser-ferienprogramm.de/jugendpflegen/veranstaltung.php?id=154048
SUMMARY:Ferienzirkus 2026
DTSTART;TZID=Europe/Berlin:20260329T130000
END:VEVENT


BEGIN:VEVENT
DTEND;TZID=Europe/Berlin:20260330T160000
UID:69eb3e16f2ced1
DTSTAMP:20260424T115534
LOCATION:Stadthalle Betzdorf
DESCRIPTION:Wir verwandeln die Stadthalle Betzdorf in ein großes Zirkuszelt!\r\nVon Sonntag\, 29.03. bis Donnerstag\, 02.04.2026 besteht die Möglichkeit\, für 5 Tage in das Zirkusleben einzutauchen und verschiedene Zirkusnummern auszuprobieren und zu erlernen.\r\nEs werden Workshops mit den Themen Jonglage\, Akrobatik\, Einrad fahren\, Fakirtechnik u.v.m. angeboten. Unter Anleitung unterschiedlicher Workshopleiter/innen wird eine gemeinsame Präsentation bzw. Auftrittsnummer erarbeitet. Das Erlernte wird dann bei einer großen Aufführung am Do.\, 02.04.2026 um 18.00 Uhr präsentiert.\r\nWir treffen uns zu folgenden Zeiten in der Stadthalle:\r\n\r\nSonntag 29.03.          13 - 17 Uhr\r\nMontag 30.03.           10 - 16 Uhr\r\nDienstag 31.03.         10 - 16 Uhr\r\nMittwoch 01.04.         10 - 16 Uhr\r\nDonnerstag 02.04.     13 - Ende der Aufführung\r\n\r\nEine Teilnahme ist nur möglich\, wenn Sie uns die Fotofreigabe für Ihr Kind erteilen. Denn die Kinder stehen auf der Bühne und die Aufführung und einzelne Proben werden gefilmt und fotografiert. \r\nAls Verpflegung gibt es einen Mittagssnack. Zudem stehen Obst und Wasser Stärkung ausreichend zur Verfügung. (Bei besonderen Essgewohnheiten - vegetarisch\, vegan etc. - bitten wir um kurze Rückmeldung.) Die Kosten für die Aktion betragen 80\,00 € (60\,00 € pro Kind bei mehreren Kindern aus einer Familie).
URL;VALUE=URI:https://www.unser-ferienprogramm.de/jugendpflegen/veranstaltung.php?id=154048
SUMMARY:Ferienzirkus 2026
DTSTART;TZID=Europe/Berlin:20260330T100000
END:VEVENT


BEGIN:VEVENT
DTEND;TZID=Europe/Berlin:20260331T160000
UID:69eb3e16f2cfd2
DTSTAMP:20260424T115534
LOCATION:Stadthalle Betzdorf
DESCRIPTION:Wir verwandeln die Stadthalle Betzdorf in ein großes Zirkuszelt!\r\nVon Sonntag\, 29.03. bis Donnerstag\, 02.04.2026 besteht die Möglichkeit\, für 5 Tage in das Zirkusleben einzutauchen und verschiedene Zirkusnummern auszuprobieren und zu erlernen.\r\nEs werden Workshops mit den Themen Jonglage\, Akrobatik\, Einrad fahren\, Fakirtechnik u.v.m. angeboten. Unter Anleitung unterschiedlicher Workshopleiter/innen wird eine gemeinsame Präsentation bzw. Auftrittsnummer erarbeitet. Das Erlernte wird dann bei einer großen Aufführung am Do.\, 02.04.2026 um 18.00 Uhr präsentiert.\r\nWir treffen uns zu folgenden Zeiten in der Stadthalle:\r\n\r\nSonntag 29.03.          13 - 17 Uhr\r\nMontag 30.03.           10 - 16 Uhr\r\nDienstag 31.03.         10 - 16 Uhr\r\nMittwoch 01.04.         10 - 16 Uhr\r\nDonnerstag 02.04.     13 - Ende der Aufführung\r\n\r\nEine Teilnahme ist nur möglich\, wenn Sie uns die Fotofreigabe für Ihr Kind erteilen. Denn die Kinder stehen auf der Bühne und die Aufführung und einzelne Proben werden gefilmt und fotografiert. \r\nAls Verpflegung gibt es einen Mittagssnack. Zudem stehen Obst und Wasser Stärkung ausreichend zur Verfügung. (Bei besonderen Essgewohnheiten - vegetarisch\, vegan etc. - bitten wir um kurze Rückmeldung.) Die Kosten für die Aktion betragen 80\,00 € (60\,00 € pro Kind bei mehreren Kindern aus einer Familie).
URL;VALUE=URI:https://www.unser-ferienprogramm.de/jugendpflegen/veranstaltung.php?id=154048
SUMMARY:Ferienzirkus 2026
DTSTART;TZID=Europe/Berlin:20260331T100000
END:VEVENT


BEGIN:VEVENT
DTEND;TZID=Europe/Berlin:20260401T160000
UID:69eb3e16f2d093
DTSTAMP:20260424T115534
LOCATION:Stadthalle Betzdorf
DESCRIPTION:Wir verwandeln die Stadthalle Betzdorf in ein großes Zirkuszelt!\r\nVon Sonntag\, 29.03. bis Donnerstag\, 02.04.2026 besteht die Möglichkeit\, für 5 Tage in das Zirkusleben einzutauchen und verschiedene Zirkusnummern auszuprobieren und zu erlernen.\r\nEs werden Workshops mit den Themen Jonglage\, Akrobatik\, Einrad fahren\, Fakirtechnik u.v.m. angeboten. Unter Anleitung unterschiedlicher Workshopleiter/innen wird eine gemeinsame Präsentation bzw. Auftrittsnummer erarbeitet. Das Erlernte wird dann bei einer großen Aufführung am Do.\, 02.04.2026 um 18.00 Uhr präsentiert.\r\nWir treffen uns zu folgenden Zeiten in der Stadthalle:\r\n\r\nSonntag 29.03.          13 - 17 Uhr\r\nMontag 30.03.           10 - 16 Uhr\r\nDienstag 31.03.         10 - 16 Uhr\r\nMittwoch 01.04.         10 - 16 Uhr\r\nDonnerstag 02.04.     13 - Ende der Aufführung\r\n\r\nEine Teilnahme ist nur möglich\, wenn Sie uns die Fotofreigabe für Ihr Kind erteilen. Denn die Kinder stehen auf der Bühne und die Aufführung und einzelne Proben werden gefilmt und fotografiert. \r\nAls Verpflegung gibt es einen Mittagssnack. Zudem stehen Obst und Wasser Stärkung ausreichend zur Verfügung. (Bei besonderen Essgewohnheiten - vegetarisch\, vegan etc. - bitten wir um kurze Rückmeldung.) Die Kosten für die Aktion betragen 80\,00 € (60\,00 € pro Kind bei mehreren Kindern aus einer Familie).
URL;VALUE=URI:https://www.unser-ferienprogramm.de/jugendpflegen/veranstaltung.php?id=154048
SUMMARY:Ferienzirkus 2026
DTSTART;TZID=Europe/Berlin:20260401T100000
END:VEVENT


BEGIN:VEVENT
DTEND;TZID=Europe/Berlin:20260402T210000
UID:69eb3e16f2d154
DTSTAMP:20260424T115534
LOCATION:Stadthalle Betzdorf
DESCRIPTION:Wir verwandeln die Stadthalle Betzdorf in ein großes Zirkuszelt!\r\nVon Sonntag\, 29.03. bis Donnerstag\, 02.04.2026 besteht die Möglichkeit\, für 5 Tage in das Zirkusleben einzutauchen und verschiedene Zirkusnummern auszuprobieren und zu erlernen.\r\nEs werden Workshops mit den Themen Jonglage\, Akrobatik\, Einrad fahren\, Fakirtechnik u.v.m. angeboten. Unter Anleitung unterschiedlicher Workshopleiter/innen wird eine gemeinsame Präsentation bzw. Auftrittsnummer erarbeitet. Das Erlernte wird dann bei einer großen Aufführung am Do.\, 02.04.2026 um 18.00 Uhr präsentiert.\r\nWir treffen uns zu folgenden Zeiten in der Stadthalle:\r\n\r\nSonntag 29.03.          13 - 17 Uhr\r\nMontag 30.03.           10 - 16 Uhr\r\nDienstag 31.03.         10 - 16 Uhr\r\nMittwoch 01.04.         10 - 16 Uhr\r\nDonnerstag 02.04.     13 - Ende der Aufführung\r\n\r\nEine Teilnahme ist nur möglich\, wenn Sie uns die Fotofreigabe für Ihr Kind erteilen. Denn die Kinder stehen auf der Bühne und die Aufführung und einzelne Proben werden gefilmt und fotografiert. \r\nAls Verpflegung gibt es einen Mittagssnack. Zudem stehen Obst und Wasser Stärkung ausreichend zur Verfügung. (Bei besonderen Essgewohnheiten - vegetarisch\, vegan etc. - bitten wir um kurze Rückmeldung.) Die Kosten für die Aktion betragen 80\,00 € (60\,00 € pro Kind bei mehreren Kindern aus einer Familie).
URL;VALUE=URI:https://www.unser-ferienprogramm.de/jugendpflegen/veranstaltung.php?id=154048
SUMMARY:Ferienzirkus 2026
DTSTART;TZID=Europe/Berlin:20260402T130000
END:VEVENT

END:VCALENDAR
