BEGIN:VCALENDAR
VERSION:2.0
PRODID:-//hacksw/handcal//NONSGML v1.0//EN
CALSCALE:GREGORIAN
BEGIN:VTIMEZONE
TZID:Europe/Berlin
X-LIC-LOCATION:Europe/Berlin
BEGIN:DAYLIGHT
TZOFFSETFROM:+0100
TZOFFSETTO:+0200
TZNAME:CEST
DTSTART:19700329T020000
RRULE:FREQ=YEARLY;BYDAY=-1SU;BYMONTH=3
END:DAYLIGHT
BEGIN:STANDARD
TZOFFSETFROM:+0200
TZOFFSETTO:+0100
TZNAME:CET
DTSTART:19701025T030000
RRULE:FREQ=YEARLY;BYDAY=-1SU;BYMONTH=10
END:STANDARD
END:VTIMEZONE
BEGIN:VEVENT
DTEND;TZID=Europe/Berlin:20260213T170000
UID:69e9417fee8f5
DTSTAMP:20260422T234535
LOCATION:Hochstraße 50 45731 Waltrop
DESCRIPTION:Kinderkarnevalsparty im Yahoo Waltrop\r\n\r\nDas Kinder- und Jugendzentrum Yahoo in Waltrop lädt herzlich zur großen Kinderkarnevalsparty ein!\r\nAm Freitag\, den 13.02.2026\, feiern wir von 14:00 bis 17:00 Uhr gemeinsam Karneval – mit viel Musik\, Bewegung\, Spaß und guter Laune.\r\n\r\nEingeladen sind alle Kinder im Alter von 6 bis 10 Jahren\, die Lust haben\, sich zu verkleiden\, zu tanzen und einen fröhlichen Nachmittag mit anderen Kindern zu verbringen. Ob Prinzessin\, Superheld\, Tier oder Fantasiefigur – alle Kostüme sind willkommen!\r\n\r\nEin DJ sorgt für altersgerechte Karnevals- und Partymusik\r\nAbwechslungsreiche Spiele laden zum Mitmachen ein\r\nTanzen und Feiern mit Freunden\r\nIn der Fotobox entstehen schöne Erinnerungsfotos\r\nBeim Kostümwettbewerb werden die kreativsten Kostüme gefeiert\r\n\r\n Im Eintrittspreis enthalten:\r\n• 1 Getränk\r\n• 1 Eis\r\n• 1 Erinnerungsfoto\r\n\r\nDie Veranstaltung wird vom Team des Kinder- und Jugendzentrums begleitet und bietet einen sicheren\, fröhlichen Rahmen für einen gelungenen Karnevalsnachmittag.\r\n\r\nWir freuen uns auf viele bunte Kostüme\, lachende Gesichter und eine tolle Karnevalsparty im Yahoo!\r\n\r\n
URL;VALUE=URI:https://www.unser-ferienprogramm.de/jugendbuero-waltrop/veranstaltung.php?id=299824
SUMMARY:Kinderkarneval im Yahoo
DTSTART;TZID=Europe/Berlin:20260213T140000
END:VEVENT

END:VCALENDAR
