BEGIN:VCALENDAR
VERSION:2.0
PRODID:-//hacksw/handcal//NONSGML v1.0//EN
CALSCALE:GREGORIAN
BEGIN:VTIMEZONE
TZID:Europe/Berlin
X-LIC-LOCATION:Europe/Berlin
BEGIN:DAYLIGHT
TZOFFSETFROM:+0100
TZOFFSETTO:+0200
TZNAME:CEST
DTSTART:19700329T020000
RRULE:FREQ=YEARLY;BYDAY=-1SU;BYMONTH=3
END:DAYLIGHT
BEGIN:STANDARD
TZOFFSETFROM:+0200
TZOFFSETTO:+0100
TZNAME:CET
DTSTART:19701025T030000
RRULE:FREQ=YEARLY;BYDAY=-1SU;BYMONTH=10
END:STANDARD
END:VTIMEZONE
BEGIN:VEVENT
DTEND;TZID=Europe/Berlin:20260223T180000
UID:69e95920721f3
DTSTAMP:20260423T012624
LOCATION:Hochstr. 50
DESCRIPTION:Gemeinsam backen wir superleckere vegane Brownies und verwandeln die Küche in eine kleine Schoko‑Werkstatt. Ihr dürft rühren\, mischen und den Teig ganz nach euren Ideen verfeinern. Während die Brownies im Ofen backen und es überall nach Schokolade duftet\, steigt die Vorfreude immer mehr. Am Ende probieren wir natürlich zusammen unsere warmen\, saftigen Brownies. Ein schokoladiger Nachmittag voller Spaß und Teamwork wartet auf euch!
URL;VALUE=URI:https://www.unser-ferienprogramm.de/jugendbuero-waltrop/veranstaltung.php?id=299768
SUMMARY:Brownie-Zauber - vegan & lecker
DTSTART;TZID=Europe/Berlin:20260223T150000
END:VEVENT

END:VCALENDAR
