BEGIN:VCALENDAR
VERSION:2.0
PRODID:-//hacksw/handcal//NONSGML v1.0//EN
CALSCALE:GREGORIAN
BEGIN:VTIMEZONE
TZID:Europe/Berlin
X-LIC-LOCATION:Europe/Berlin
BEGIN:DAYLIGHT
TZOFFSETFROM:+0100
TZOFFSETTO:+0200
TZNAME:CEST
DTSTART:19700329T020000
RRULE:FREQ=YEARLY;BYDAY=-1SU;BYMONTH=3
END:DAYLIGHT
BEGIN:STANDARD
TZOFFSETFROM:+0200
TZOFFSETTO:+0100
TZNAME:CET
DTSTART:19701025T030000
RRULE:FREQ=YEARLY;BYDAY=-1SU;BYMONTH=10
END:STANDARD
END:VTIMEZONE
BEGIN:VEVENT
DTEND;TZID=Europe/Berlin:20260209T180000
UID:69e9414b58945
DTSTAMP:20260422T234443
LOCATION:Hochstr. 50
DESCRIPTION:Gemeinsam backen wir superleckere vegane Kekse und verwandeln die Küche in eine fröhliche Keks‑Werkstatt. Ihr dürft den Teig kneten\, ausrollen und mit vielen lustigen Ausstechern eure eigenen Lieblingsformen machen – Sterne\, Tiere oder ganz verrückte Fantasiefiguren. Während die Kekse im Ofen goldbraun werden\, duftet es überall richtig lecker. Am Ende probieren wir natürlich gemeinsam unsere selbst gebackenen\, veganen Kekse. Ein süßer Nachmittag voller Spaß\, Kreativität und Knusperfreude wartet auf euch!
URL;VALUE=URI:https://www.unser-ferienprogramm.de/jugendbuero-waltrop/veranstaltung.php?id=299764
SUMMARY:Vegane Keks-Werkstatt
DTSTART;TZID=Europe/Berlin:20260209T150000
END:VEVENT

END:VCALENDAR
