BEGIN:VCALENDAR
VERSION:2.0
PRODID:-//hacksw/handcal//NONSGML v1.0//EN
CALSCALE:GREGORIAN
BEGIN:VTIMEZONE
TZID:Europe/Berlin
X-LIC-LOCATION:Europe/Berlin
BEGIN:DAYLIGHT
TZOFFSETFROM:+0100
TZOFFSETTO:+0200
TZNAME:CEST
DTSTART:19700329T020000
RRULE:FREQ=YEARLY;BYDAY=-1SU;BYMONTH=3
END:DAYLIGHT
BEGIN:STANDARD
TZOFFSETFROM:+0200
TZOFFSETTO:+0100
TZNAME:CET
DTSTART:19701025T030000
RRULE:FREQ=YEARLY;BYDAY=-1SU;BYMONTH=10
END:STANDARD
END:VTIMEZONE
BEGIN:VEVENT
DTEND;TZID=Europe/Berlin:20260216T180000
UID:69e941214533c
DTSTAMP:20260422T234401
LOCATION:Hochstr. 50
DESCRIPTION:Gemeinsam kochen macht richtig Spaß – und diesmal zaubern wir unseren eigenen veganen Pudding! Wir mischen alles zusammen\, rühren fleißig im Topf und schauen zu\, wie der Pudding immer dicker und cremiger wird. Jeder darf mithelfen und ausprobieren. Am Ende lassen wir uns unseren selbstgemachten Pudding natürlich schmecken. Ein süßes Abenteuer\, bei dem ihr echte Küchenprofis werdet!
URL;VALUE=URI:https://www.unser-ferienprogramm.de/jugendbuero-waltrop/veranstaltung.php?id=299762
SUMMARY:Vegane Puddingparty im Jugendcafé
DTSTART;TZID=Europe/Berlin:20260216T150000
END:VEVENT

END:VCALENDAR
