BEGIN:VCALENDAR
VERSION:2.0
PRODID:-//hacksw/handcal//NONSGML v1.0//EN
CALSCALE:GREGORIAN
BEGIN:VTIMEZONE
TZID:Europe/Berlin
X-LIC-LOCATION:Europe/Berlin
BEGIN:DAYLIGHT
TZOFFSETFROM:+0100
TZOFFSETTO:+0200
TZNAME:CEST
DTSTART:19700329T020000
RRULE:FREQ=YEARLY;BYDAY=-1SU;BYMONTH=3
END:DAYLIGHT
BEGIN:STANDARD
TZOFFSETFROM:+0200
TZOFFSETTO:+0100
TZNAME:CET
DTSTART:19701025T030000
RRULE:FREQ=YEARLY;BYDAY=-1SU;BYMONTH=10
END:STANDARD
END:VTIMEZONE
BEGIN:VEVENT
DTEND;TZID=Europe/Berlin:20260115T200000
UID:69e90c2615995
DTSTAMP:20260422T195758
LOCATION:Yahoo Waltrop Hochstraße 50
DESCRIPTION:Offene Kinder- und Jugendarbeit im YAHOO Waltrop\r\n\r\nDu bist zwischen 10 und 16 Jahren alt und suchst einen Ort zum Treffen\, Chillen und Mitmachen?\r\nDann bist du im YAHOO Waltrop genau richtig.\r\n\r\nIm YAHOO gibt es viele Freizeitmöglichkeiten wie ein Jugendcafé\, Karaoke\, Kickern\, Tischtennis\, Dart\, Brettspiele sowie Konsolen und andere Spiele. Außerdem bieten wir kreative Angebote zum Ausprobieren an.\r\n\r\nUnsere Preise sind taschengeldfreundlich. Es gibt keinen Konsumzwang.\r\nEigene Ideen und Mitgestaltung sind ausdrücklich erwünscht.\r\n\r\nEgal ob du spielen\, kreativ sein\, singen oder einfach Zeit mit Freundinnen und Freunden verbringen möchtest – bei uns bist du willkommen.\r\n\r\nHerzlich willkommen im YAHOO Waltrop. Wir freuen uns auf dich.
URL;VALUE=URI:https://www.unser-ferienprogramm.de/jugendbuero-waltrop/veranstaltung.php?id=299127
SUMMARY:(Kopie) Offener Treff für Teens im Yahoo
DTSTART;TZID=Europe/Berlin:20260115T160000
END:VEVENT


BEGIN:VEVENT
DTEND;TZID=Europe/Berlin:20260122T200000
UID:69e90c26159d81
DTSTAMP:20260422T195758
LOCATION:Yahoo Waltrop Hochstraße 50
DESCRIPTION:Offene Kinder- und Jugendarbeit im YAHOO Waltrop\r\n\r\nDu bist zwischen 10 und 16 Jahren alt und suchst einen Ort zum Treffen\, Chillen und Mitmachen?\r\nDann bist du im YAHOO Waltrop genau richtig.\r\n\r\nIm YAHOO gibt es viele Freizeitmöglichkeiten wie ein Jugendcafé\, Karaoke\, Kickern\, Tischtennis\, Dart\, Brettspiele sowie Konsolen und andere Spiele. Außerdem bieten wir kreative Angebote zum Ausprobieren an.\r\n\r\nUnsere Preise sind taschengeldfreundlich. Es gibt keinen Konsumzwang.\r\nEigene Ideen und Mitgestaltung sind ausdrücklich erwünscht.\r\n\r\nEgal ob du spielen\, kreativ sein\, singen oder einfach Zeit mit Freundinnen und Freunden verbringen möchtest – bei uns bist du willkommen.\r\n\r\nHerzlich willkommen im YAHOO Waltrop. Wir freuen uns auf dich.
URL;VALUE=URI:https://www.unser-ferienprogramm.de/jugendbuero-waltrop/veranstaltung.php?id=299127
SUMMARY:(Kopie) Offener Treff für Teens im Yahoo
DTSTART;TZID=Europe/Berlin:20260122T160000
END:VEVENT


BEGIN:VEVENT
DTEND;TZID=Europe/Berlin:20260129T200000
UID:69e90c26159ea2
DTSTAMP:20260422T195758
LOCATION:Yahoo Waltrop Hochstraße 50
DESCRIPTION:Offene Kinder- und Jugendarbeit im YAHOO Waltrop\r\n\r\nDu bist zwischen 10 und 16 Jahren alt und suchst einen Ort zum Treffen\, Chillen und Mitmachen?\r\nDann bist du im YAHOO Waltrop genau richtig.\r\n\r\nIm YAHOO gibt es viele Freizeitmöglichkeiten wie ein Jugendcafé\, Karaoke\, Kickern\, Tischtennis\, Dart\, Brettspiele sowie Konsolen und andere Spiele. Außerdem bieten wir kreative Angebote zum Ausprobieren an.\r\n\r\nUnsere Preise sind taschengeldfreundlich. Es gibt keinen Konsumzwang.\r\nEigene Ideen und Mitgestaltung sind ausdrücklich erwünscht.\r\n\r\nEgal ob du spielen\, kreativ sein\, singen oder einfach Zeit mit Freundinnen und Freunden verbringen möchtest – bei uns bist du willkommen.\r\n\r\nHerzlich willkommen im YAHOO Waltrop. Wir freuen uns auf dich.
URL;VALUE=URI:https://www.unser-ferienprogramm.de/jugendbuero-waltrop/veranstaltung.php?id=299127
SUMMARY:(Kopie) Offener Treff für Teens im Yahoo
DTSTART;TZID=Europe/Berlin:20260129T160000
END:VEVENT


BEGIN:VEVENT
DTEND;TZID=Europe/Berlin:20260205T200000
UID:69e90c26159f93
DTSTAMP:20260422T195758
LOCATION:Yahoo Waltrop Hochstraße 50
DESCRIPTION:Offene Kinder- und Jugendarbeit im YAHOO Waltrop\r\n\r\nDu bist zwischen 10 und 16 Jahren alt und suchst einen Ort zum Treffen\, Chillen und Mitmachen?\r\nDann bist du im YAHOO Waltrop genau richtig.\r\n\r\nIm YAHOO gibt es viele Freizeitmöglichkeiten wie ein Jugendcafé\, Karaoke\, Kickern\, Tischtennis\, Dart\, Brettspiele sowie Konsolen und andere Spiele. Außerdem bieten wir kreative Angebote zum Ausprobieren an.\r\n\r\nUnsere Preise sind taschengeldfreundlich. Es gibt keinen Konsumzwang.\r\nEigene Ideen und Mitgestaltung sind ausdrücklich erwünscht.\r\n\r\nEgal ob du spielen\, kreativ sein\, singen oder einfach Zeit mit Freundinnen und Freunden verbringen möchtest – bei uns bist du willkommen.\r\n\r\nHerzlich willkommen im YAHOO Waltrop. Wir freuen uns auf dich.
URL;VALUE=URI:https://www.unser-ferienprogramm.de/jugendbuero-waltrop/veranstaltung.php?id=299127
SUMMARY:(Kopie) Offener Treff für Teens im Yahoo
DTSTART;TZID=Europe/Berlin:20260205T160000
END:VEVENT


BEGIN:VEVENT
DTEND;TZID=Europe/Berlin:20260212T200000
UID:69e90c2615a064
DTSTAMP:20260422T195758
LOCATION:Yahoo Waltrop Hochstraße 50
DESCRIPTION:Offene Kinder- und Jugendarbeit im YAHOO Waltrop\r\n\r\nDu bist zwischen 10 und 16 Jahren alt und suchst einen Ort zum Treffen\, Chillen und Mitmachen?\r\nDann bist du im YAHOO Waltrop genau richtig.\r\n\r\nIm YAHOO gibt es viele Freizeitmöglichkeiten wie ein Jugendcafé\, Karaoke\, Kickern\, Tischtennis\, Dart\, Brettspiele sowie Konsolen und andere Spiele. Außerdem bieten wir kreative Angebote zum Ausprobieren an.\r\n\r\nUnsere Preise sind taschengeldfreundlich. Es gibt keinen Konsumzwang.\r\nEigene Ideen und Mitgestaltung sind ausdrücklich erwünscht.\r\n\r\nEgal ob du spielen\, kreativ sein\, singen oder einfach Zeit mit Freundinnen und Freunden verbringen möchtest – bei uns bist du willkommen.\r\n\r\nHerzlich willkommen im YAHOO Waltrop. Wir freuen uns auf dich.
URL;VALUE=URI:https://www.unser-ferienprogramm.de/jugendbuero-waltrop/veranstaltung.php?id=299127
SUMMARY:(Kopie) Offener Treff für Teens im Yahoo
DTSTART;TZID=Europe/Berlin:20260212T160000
END:VEVENT


BEGIN:VEVENT
DTEND;TZID=Europe/Berlin:20260219T200000
UID:69e90c2615a165
DTSTAMP:20260422T195758
LOCATION:Yahoo Waltrop Hochstraße 50
DESCRIPTION:Offene Kinder- und Jugendarbeit im YAHOO Waltrop\r\n\r\nDu bist zwischen 10 und 16 Jahren alt und suchst einen Ort zum Treffen\, Chillen und Mitmachen?\r\nDann bist du im YAHOO Waltrop genau richtig.\r\n\r\nIm YAHOO gibt es viele Freizeitmöglichkeiten wie ein Jugendcafé\, Karaoke\, Kickern\, Tischtennis\, Dart\, Brettspiele sowie Konsolen und andere Spiele. Außerdem bieten wir kreative Angebote zum Ausprobieren an.\r\n\r\nUnsere Preise sind taschengeldfreundlich. Es gibt keinen Konsumzwang.\r\nEigene Ideen und Mitgestaltung sind ausdrücklich erwünscht.\r\n\r\nEgal ob du spielen\, kreativ sein\, singen oder einfach Zeit mit Freundinnen und Freunden verbringen möchtest – bei uns bist du willkommen.\r\n\r\nHerzlich willkommen im YAHOO Waltrop. Wir freuen uns auf dich.
URL;VALUE=URI:https://www.unser-ferienprogramm.de/jugendbuero-waltrop/veranstaltung.php?id=299127
SUMMARY:(Kopie) Offener Treff für Teens im Yahoo
DTSTART;TZID=Europe/Berlin:20260219T160000
END:VEVENT


BEGIN:VEVENT
DTEND;TZID=Europe/Berlin:20260226T200000
UID:69e90c2615a236
DTSTAMP:20260422T195758
LOCATION:Yahoo Waltrop Hochstraße 50
DESCRIPTION:Offene Kinder- und Jugendarbeit im YAHOO Waltrop\r\n\r\nDu bist zwischen 10 und 16 Jahren alt und suchst einen Ort zum Treffen\, Chillen und Mitmachen?\r\nDann bist du im YAHOO Waltrop genau richtig.\r\n\r\nIm YAHOO gibt es viele Freizeitmöglichkeiten wie ein Jugendcafé\, Karaoke\, Kickern\, Tischtennis\, Dart\, Brettspiele sowie Konsolen und andere Spiele. Außerdem bieten wir kreative Angebote zum Ausprobieren an.\r\n\r\nUnsere Preise sind taschengeldfreundlich. Es gibt keinen Konsumzwang.\r\nEigene Ideen und Mitgestaltung sind ausdrücklich erwünscht.\r\n\r\nEgal ob du spielen\, kreativ sein\, singen oder einfach Zeit mit Freundinnen und Freunden verbringen möchtest – bei uns bist du willkommen.\r\n\r\nHerzlich willkommen im YAHOO Waltrop. Wir freuen uns auf dich.
URL;VALUE=URI:https://www.unser-ferienprogramm.de/jugendbuero-waltrop/veranstaltung.php?id=299127
SUMMARY:(Kopie) Offener Treff für Teens im Yahoo
DTSTART;TZID=Europe/Berlin:20260226T160000
END:VEVENT


BEGIN:VEVENT
DTEND;TZID=Europe/Berlin:20260305T200000
UID:69e90c2615a307
DTSTAMP:20260422T195758
LOCATION:Yahoo Waltrop Hochstraße 50
DESCRIPTION:Offene Kinder- und Jugendarbeit im YAHOO Waltrop\r\n\r\nDu bist zwischen 10 und 16 Jahren alt und suchst einen Ort zum Treffen\, Chillen und Mitmachen?\r\nDann bist du im YAHOO Waltrop genau richtig.\r\n\r\nIm YAHOO gibt es viele Freizeitmöglichkeiten wie ein Jugendcafé\, Karaoke\, Kickern\, Tischtennis\, Dart\, Brettspiele sowie Konsolen und andere Spiele. Außerdem bieten wir kreative Angebote zum Ausprobieren an.\r\n\r\nUnsere Preise sind taschengeldfreundlich. Es gibt keinen Konsumzwang.\r\nEigene Ideen und Mitgestaltung sind ausdrücklich erwünscht.\r\n\r\nEgal ob du spielen\, kreativ sein\, singen oder einfach Zeit mit Freundinnen und Freunden verbringen möchtest – bei uns bist du willkommen.\r\n\r\nHerzlich willkommen im YAHOO Waltrop. Wir freuen uns auf dich.
URL;VALUE=URI:https://www.unser-ferienprogramm.de/jugendbuero-waltrop/veranstaltung.php?id=299127
SUMMARY:(Kopie) Offener Treff für Teens im Yahoo
DTSTART;TZID=Europe/Berlin:20260305T160000
END:VEVENT


BEGIN:VEVENT
DTEND;TZID=Europe/Berlin:20260312T200000
UID:69e90c2615a3c8
DTSTAMP:20260422T195758
LOCATION:Yahoo Waltrop Hochstraße 50
DESCRIPTION:Offene Kinder- und Jugendarbeit im YAHOO Waltrop\r\n\r\nDu bist zwischen 10 und 16 Jahren alt und suchst einen Ort zum Treffen\, Chillen und Mitmachen?\r\nDann bist du im YAHOO Waltrop genau richtig.\r\n\r\nIm YAHOO gibt es viele Freizeitmöglichkeiten wie ein Jugendcafé\, Karaoke\, Kickern\, Tischtennis\, Dart\, Brettspiele sowie Konsolen und andere Spiele. Außerdem bieten wir kreative Angebote zum Ausprobieren an.\r\n\r\nUnsere Preise sind taschengeldfreundlich. Es gibt keinen Konsumzwang.\r\nEigene Ideen und Mitgestaltung sind ausdrücklich erwünscht.\r\n\r\nEgal ob du spielen\, kreativ sein\, singen oder einfach Zeit mit Freundinnen und Freunden verbringen möchtest – bei uns bist du willkommen.\r\n\r\nHerzlich willkommen im YAHOO Waltrop. Wir freuen uns auf dich.
URL;VALUE=URI:https://www.unser-ferienprogramm.de/jugendbuero-waltrop/veranstaltung.php?id=299127
SUMMARY:(Kopie) Offener Treff für Teens im Yahoo
DTSTART;TZID=Europe/Berlin:20260312T160000
END:VEVENT


BEGIN:VEVENT
DTEND;TZID=Europe/Berlin:20260319T200000
UID:69e90c2615a499
DTSTAMP:20260422T195758
LOCATION:Yahoo Waltrop Hochstraße 50
DESCRIPTION:Offene Kinder- und Jugendarbeit im YAHOO Waltrop\r\n\r\nDu bist zwischen 10 und 16 Jahren alt und suchst einen Ort zum Treffen\, Chillen und Mitmachen?\r\nDann bist du im YAHOO Waltrop genau richtig.\r\n\r\nIm YAHOO gibt es viele Freizeitmöglichkeiten wie ein Jugendcafé\, Karaoke\, Kickern\, Tischtennis\, Dart\, Brettspiele sowie Konsolen und andere Spiele. Außerdem bieten wir kreative Angebote zum Ausprobieren an.\r\n\r\nUnsere Preise sind taschengeldfreundlich. Es gibt keinen Konsumzwang.\r\nEigene Ideen und Mitgestaltung sind ausdrücklich erwünscht.\r\n\r\nEgal ob du spielen\, kreativ sein\, singen oder einfach Zeit mit Freundinnen und Freunden verbringen möchtest – bei uns bist du willkommen.\r\n\r\nHerzlich willkommen im YAHOO Waltrop. Wir freuen uns auf dich.
URL;VALUE=URI:https://www.unser-ferienprogramm.de/jugendbuero-waltrop/veranstaltung.php?id=299127
SUMMARY:(Kopie) Offener Treff für Teens im Yahoo
DTSTART;TZID=Europe/Berlin:20260319T160000
END:VEVENT


BEGIN:VEVENT
DTEND;TZID=Europe/Berlin:20260326T200000
UID:69e90c2615a5610
DTSTAMP:20260422T195758
LOCATION:Yahoo Waltrop Hochstraße 50
DESCRIPTION:Offene Kinder- und Jugendarbeit im YAHOO Waltrop\r\n\r\nDu bist zwischen 10 und 16 Jahren alt und suchst einen Ort zum Treffen\, Chillen und Mitmachen?\r\nDann bist du im YAHOO Waltrop genau richtig.\r\n\r\nIm YAHOO gibt es viele Freizeitmöglichkeiten wie ein Jugendcafé\, Karaoke\, Kickern\, Tischtennis\, Dart\, Brettspiele sowie Konsolen und andere Spiele. Außerdem bieten wir kreative Angebote zum Ausprobieren an.\r\n\r\nUnsere Preise sind taschengeldfreundlich. Es gibt keinen Konsumzwang.\r\nEigene Ideen und Mitgestaltung sind ausdrücklich erwünscht.\r\n\r\nEgal ob du spielen\, kreativ sein\, singen oder einfach Zeit mit Freundinnen und Freunden verbringen möchtest – bei uns bist du willkommen.\r\n\r\nHerzlich willkommen im YAHOO Waltrop. Wir freuen uns auf dich.
URL;VALUE=URI:https://www.unser-ferienprogramm.de/jugendbuero-waltrop/veranstaltung.php?id=299127
SUMMARY:(Kopie) Offener Treff für Teens im Yahoo
DTSTART;TZID=Europe/Berlin:20260326T160000
END:VEVENT


BEGIN:VEVENT
DTEND;TZID=Europe/Berlin:20260402T200000
UID:69e90c2615a6211
DTSTAMP:20260422T195758
LOCATION:Yahoo Waltrop Hochstraße 50
DESCRIPTION:Offene Kinder- und Jugendarbeit im YAHOO Waltrop\r\n\r\nDu bist zwischen 10 und 16 Jahren alt und suchst einen Ort zum Treffen\, Chillen und Mitmachen?\r\nDann bist du im YAHOO Waltrop genau richtig.\r\n\r\nIm YAHOO gibt es viele Freizeitmöglichkeiten wie ein Jugendcafé\, Karaoke\, Kickern\, Tischtennis\, Dart\, Brettspiele sowie Konsolen und andere Spiele. Außerdem bieten wir kreative Angebote zum Ausprobieren an.\r\n\r\nUnsere Preise sind taschengeldfreundlich. Es gibt keinen Konsumzwang.\r\nEigene Ideen und Mitgestaltung sind ausdrücklich erwünscht.\r\n\r\nEgal ob du spielen\, kreativ sein\, singen oder einfach Zeit mit Freundinnen und Freunden verbringen möchtest – bei uns bist du willkommen.\r\n\r\nHerzlich willkommen im YAHOO Waltrop. Wir freuen uns auf dich.
URL;VALUE=URI:https://www.unser-ferienprogramm.de/jugendbuero-waltrop/veranstaltung.php?id=299127
SUMMARY:(Kopie) Offener Treff für Teens im Yahoo
DTSTART;TZID=Europe/Berlin:20260402T160000
END:VEVENT


BEGIN:VEVENT
DTEND;TZID=Europe/Berlin:20260409T200000
UID:69e90c2615a6f12
DTSTAMP:20260422T195758
LOCATION:Yahoo Waltrop Hochstraße 50
DESCRIPTION:Offene Kinder- und Jugendarbeit im YAHOO Waltrop\r\n\r\nDu bist zwischen 10 und 16 Jahren alt und suchst einen Ort zum Treffen\, Chillen und Mitmachen?\r\nDann bist du im YAHOO Waltrop genau richtig.\r\n\r\nIm YAHOO gibt es viele Freizeitmöglichkeiten wie ein Jugendcafé\, Karaoke\, Kickern\, Tischtennis\, Dart\, Brettspiele sowie Konsolen und andere Spiele. Außerdem bieten wir kreative Angebote zum Ausprobieren an.\r\n\r\nUnsere Preise sind taschengeldfreundlich. Es gibt keinen Konsumzwang.\r\nEigene Ideen und Mitgestaltung sind ausdrücklich erwünscht.\r\n\r\nEgal ob du spielen\, kreativ sein\, singen oder einfach Zeit mit Freundinnen und Freunden verbringen möchtest – bei uns bist du willkommen.\r\n\r\nHerzlich willkommen im YAHOO Waltrop. Wir freuen uns auf dich.
URL;VALUE=URI:https://www.unser-ferienprogramm.de/jugendbuero-waltrop/veranstaltung.php?id=299127
SUMMARY:(Kopie) Offener Treff für Teens im Yahoo
DTSTART;TZID=Europe/Berlin:20260409T160000
END:VEVENT


BEGIN:VEVENT
DTEND;TZID=Europe/Berlin:20260416T200000
UID:69e90c2615a7b13
DTSTAMP:20260422T195758
LOCATION:Yahoo Waltrop Hochstraße 50
DESCRIPTION:Offene Kinder- und Jugendarbeit im YAHOO Waltrop\r\n\r\nDu bist zwischen 10 und 16 Jahren alt und suchst einen Ort zum Treffen\, Chillen und Mitmachen?\r\nDann bist du im YAHOO Waltrop genau richtig.\r\n\r\nIm YAHOO gibt es viele Freizeitmöglichkeiten wie ein Jugendcafé\, Karaoke\, Kickern\, Tischtennis\, Dart\, Brettspiele sowie Konsolen und andere Spiele. Außerdem bieten wir kreative Angebote zum Ausprobieren an.\r\n\r\nUnsere Preise sind taschengeldfreundlich. Es gibt keinen Konsumzwang.\r\nEigene Ideen und Mitgestaltung sind ausdrücklich erwünscht.\r\n\r\nEgal ob du spielen\, kreativ sein\, singen oder einfach Zeit mit Freundinnen und Freunden verbringen möchtest – bei uns bist du willkommen.\r\n\r\nHerzlich willkommen im YAHOO Waltrop. Wir freuen uns auf dich.
URL;VALUE=URI:https://www.unser-ferienprogramm.de/jugendbuero-waltrop/veranstaltung.php?id=299127
SUMMARY:(Kopie) Offener Treff für Teens im Yahoo
DTSTART;TZID=Europe/Berlin:20260416T160000
END:VEVENT


BEGIN:VEVENT
DTEND;TZID=Europe/Berlin:20260423T200000
UID:69e90c2615a8814
DTSTAMP:20260422T195758
LOCATION:Yahoo Waltrop Hochstraße 50
DESCRIPTION:Offene Kinder- und Jugendarbeit im YAHOO Waltrop\r\n\r\nDu bist zwischen 10 und 16 Jahren alt und suchst einen Ort zum Treffen\, Chillen und Mitmachen?\r\nDann bist du im YAHOO Waltrop genau richtig.\r\n\r\nIm YAHOO gibt es viele Freizeitmöglichkeiten wie ein Jugendcafé\, Karaoke\, Kickern\, Tischtennis\, Dart\, Brettspiele sowie Konsolen und andere Spiele. Außerdem bieten wir kreative Angebote zum Ausprobieren an.\r\n\r\nUnsere Preise sind taschengeldfreundlich. Es gibt keinen Konsumzwang.\r\nEigene Ideen und Mitgestaltung sind ausdrücklich erwünscht.\r\n\r\nEgal ob du spielen\, kreativ sein\, singen oder einfach Zeit mit Freundinnen und Freunden verbringen möchtest – bei uns bist du willkommen.\r\n\r\nHerzlich willkommen im YAHOO Waltrop. Wir freuen uns auf dich.
URL;VALUE=URI:https://www.unser-ferienprogramm.de/jugendbuero-waltrop/veranstaltung.php?id=299127
SUMMARY:(Kopie) Offener Treff für Teens im Yahoo
DTSTART;TZID=Europe/Berlin:20260423T160000
END:VEVENT


BEGIN:VEVENT
DTEND;TZID=Europe/Berlin:20260430T200000
UID:69e90c2615a9515
DTSTAMP:20260422T195758
LOCATION:Yahoo Waltrop Hochstraße 50
DESCRIPTION:Offene Kinder- und Jugendarbeit im YAHOO Waltrop\r\n\r\nDu bist zwischen 10 und 16 Jahren alt und suchst einen Ort zum Treffen\, Chillen und Mitmachen?\r\nDann bist du im YAHOO Waltrop genau richtig.\r\n\r\nIm YAHOO gibt es viele Freizeitmöglichkeiten wie ein Jugendcafé\, Karaoke\, Kickern\, Tischtennis\, Dart\, Brettspiele sowie Konsolen und andere Spiele. Außerdem bieten wir kreative Angebote zum Ausprobieren an.\r\n\r\nUnsere Preise sind taschengeldfreundlich. Es gibt keinen Konsumzwang.\r\nEigene Ideen und Mitgestaltung sind ausdrücklich erwünscht.\r\n\r\nEgal ob du spielen\, kreativ sein\, singen oder einfach Zeit mit Freundinnen und Freunden verbringen möchtest – bei uns bist du willkommen.\r\n\r\nHerzlich willkommen im YAHOO Waltrop. Wir freuen uns auf dich.
URL;VALUE=URI:https://www.unser-ferienprogramm.de/jugendbuero-waltrop/veranstaltung.php?id=299127
SUMMARY:(Kopie) Offener Treff für Teens im Yahoo
DTSTART;TZID=Europe/Berlin:20260430T160000
END:VEVENT

END:VCALENDAR
