BEGIN:VCALENDAR
VERSION:2.0
PRODID:-//hacksw/handcal//NONSGML v1.0//EN
CALSCALE:GREGORIAN
BEGIN:VTIMEZONE
TZID:Europe/Berlin
X-LIC-LOCATION:Europe/Berlin
BEGIN:DAYLIGHT
TZOFFSETFROM:+0100
TZOFFSETTO:+0200
TZNAME:CEST
DTSTART:19700329T020000
RRULE:FREQ=YEARLY;BYDAY=-1SU;BYMONTH=3
END:DAYLIGHT
BEGIN:STANDARD
TZOFFSETFROM:+0200
TZOFFSETTO:+0100
TZNAME:CET
DTSTART:19701025T030000
RRULE:FREQ=YEARLY;BYDAY=-1SU;BYMONTH=10
END:STANDARD
END:VTIMEZONE
BEGIN:VEVENT
DTEND;TZID=Europe/Berlin:20260120T180000
UID:69e90c0caaf76
DTSTAMP:20260422T195732
LOCATION:Yahoo Waltrop Hochstraße 50
DESCRIPTION:Offene Kinder- und Jugendarbeit im YAHOO Waltrop\r\n\r\nDu bist zwischen 10 und 16 Jahren alt und suchst einen Ort zum Treffen\, Chillen und Mitmachen?\r\nDann bist du im YAHOO Waltrop genau richtig.\r\n\r\nIm YAHOO gibt es viele Freizeitmöglichkeiten wie ein Jugendcafé\, Karaoke\, Kickern\, Tischtennis\, Dart\, Brettspiele sowie Konsolen und andere Spiele. Außerdem bieten wir kreative Angebote zum Ausprobieren an.\r\n\r\nUnsere Preise sind taschengeldfreundlich. Es gibt keinen Konsumzwang.\r\nEigene Ideen und Mitgestaltung sind ausdrücklich erwünscht.\r\n\r\nEgal ob du spielen\, kreativ sein\, singen oder einfach Zeit mit Freundinnen und Freunden verbringen möchtest – bei uns bist du willkommen.\r\n\r\nHerzlich willkommen im YAHOO Waltrop. Wir freuen uns auf dich.
URL;VALUE=URI:https://www.unser-ferienprogramm.de/jugendbuero-waltrop/veranstaltung.php?id=299126
SUMMARY:Offener Treff für Teens im Yahoo
DTSTART;TZID=Europe/Berlin:20260120T150000
END:VEVENT


BEGIN:VEVENT
DTEND;TZID=Europe/Berlin:20260127T180000
UID:69e90c0caaf971
DTSTAMP:20260422T195732
LOCATION:Yahoo Waltrop Hochstraße 50
DESCRIPTION:Offene Kinder- und Jugendarbeit im YAHOO Waltrop\r\n\r\nDu bist zwischen 10 und 16 Jahren alt und suchst einen Ort zum Treffen\, Chillen und Mitmachen?\r\nDann bist du im YAHOO Waltrop genau richtig.\r\n\r\nIm YAHOO gibt es viele Freizeitmöglichkeiten wie ein Jugendcafé\, Karaoke\, Kickern\, Tischtennis\, Dart\, Brettspiele sowie Konsolen und andere Spiele. Außerdem bieten wir kreative Angebote zum Ausprobieren an.\r\n\r\nUnsere Preise sind taschengeldfreundlich. Es gibt keinen Konsumzwang.\r\nEigene Ideen und Mitgestaltung sind ausdrücklich erwünscht.\r\n\r\nEgal ob du spielen\, kreativ sein\, singen oder einfach Zeit mit Freundinnen und Freunden verbringen möchtest – bei uns bist du willkommen.\r\n\r\nHerzlich willkommen im YAHOO Waltrop. Wir freuen uns auf dich.
URL;VALUE=URI:https://www.unser-ferienprogramm.de/jugendbuero-waltrop/veranstaltung.php?id=299126
SUMMARY:Offener Treff für Teens im Yahoo
DTSTART;TZID=Europe/Berlin:20260127T150000
END:VEVENT


BEGIN:VEVENT
DTEND;TZID=Europe/Berlin:20260203T180000
UID:69e90c0caafa92
DTSTAMP:20260422T195732
LOCATION:Yahoo Waltrop Hochstraße 50
DESCRIPTION:Offene Kinder- und Jugendarbeit im YAHOO Waltrop\r\n\r\nDu bist zwischen 10 und 16 Jahren alt und suchst einen Ort zum Treffen\, Chillen und Mitmachen?\r\nDann bist du im YAHOO Waltrop genau richtig.\r\n\r\nIm YAHOO gibt es viele Freizeitmöglichkeiten wie ein Jugendcafé\, Karaoke\, Kickern\, Tischtennis\, Dart\, Brettspiele sowie Konsolen und andere Spiele. Außerdem bieten wir kreative Angebote zum Ausprobieren an.\r\n\r\nUnsere Preise sind taschengeldfreundlich. Es gibt keinen Konsumzwang.\r\nEigene Ideen und Mitgestaltung sind ausdrücklich erwünscht.\r\n\r\nEgal ob du spielen\, kreativ sein\, singen oder einfach Zeit mit Freundinnen und Freunden verbringen möchtest – bei uns bist du willkommen.\r\n\r\nHerzlich willkommen im YAHOO Waltrop. Wir freuen uns auf dich.
URL;VALUE=URI:https://www.unser-ferienprogramm.de/jugendbuero-waltrop/veranstaltung.php?id=299126
SUMMARY:Offener Treff für Teens im Yahoo
DTSTART;TZID=Europe/Berlin:20260203T150000
END:VEVENT


BEGIN:VEVENT
DTEND;TZID=Europe/Berlin:20260210T180000
UID:69e90c0caafb73
DTSTAMP:20260422T195732
LOCATION:Yahoo Waltrop Hochstraße 50
DESCRIPTION:Offene Kinder- und Jugendarbeit im YAHOO Waltrop\r\n\r\nDu bist zwischen 10 und 16 Jahren alt und suchst einen Ort zum Treffen\, Chillen und Mitmachen?\r\nDann bist du im YAHOO Waltrop genau richtig.\r\n\r\nIm YAHOO gibt es viele Freizeitmöglichkeiten wie ein Jugendcafé\, Karaoke\, Kickern\, Tischtennis\, Dart\, Brettspiele sowie Konsolen und andere Spiele. Außerdem bieten wir kreative Angebote zum Ausprobieren an.\r\n\r\nUnsere Preise sind taschengeldfreundlich. Es gibt keinen Konsumzwang.\r\nEigene Ideen und Mitgestaltung sind ausdrücklich erwünscht.\r\n\r\nEgal ob du spielen\, kreativ sein\, singen oder einfach Zeit mit Freundinnen und Freunden verbringen möchtest – bei uns bist du willkommen.\r\n\r\nHerzlich willkommen im YAHOO Waltrop. Wir freuen uns auf dich.
URL;VALUE=URI:https://www.unser-ferienprogramm.de/jugendbuero-waltrop/veranstaltung.php?id=299126
SUMMARY:Offener Treff für Teens im Yahoo
DTSTART;TZID=Europe/Berlin:20260210T150000
END:VEVENT


BEGIN:VEVENT
DTEND;TZID=Europe/Berlin:20260217T180000
UID:69e90c0caafc44
DTSTAMP:20260422T195732
LOCATION:Yahoo Waltrop Hochstraße 50
DESCRIPTION:Offene Kinder- und Jugendarbeit im YAHOO Waltrop\r\n\r\nDu bist zwischen 10 und 16 Jahren alt und suchst einen Ort zum Treffen\, Chillen und Mitmachen?\r\nDann bist du im YAHOO Waltrop genau richtig.\r\n\r\nIm YAHOO gibt es viele Freizeitmöglichkeiten wie ein Jugendcafé\, Karaoke\, Kickern\, Tischtennis\, Dart\, Brettspiele sowie Konsolen und andere Spiele. Außerdem bieten wir kreative Angebote zum Ausprobieren an.\r\n\r\nUnsere Preise sind taschengeldfreundlich. Es gibt keinen Konsumzwang.\r\nEigene Ideen und Mitgestaltung sind ausdrücklich erwünscht.\r\n\r\nEgal ob du spielen\, kreativ sein\, singen oder einfach Zeit mit Freundinnen und Freunden verbringen möchtest – bei uns bist du willkommen.\r\n\r\nHerzlich willkommen im YAHOO Waltrop. Wir freuen uns auf dich.
URL;VALUE=URI:https://www.unser-ferienprogramm.de/jugendbuero-waltrop/veranstaltung.php?id=299126
SUMMARY:Offener Treff für Teens im Yahoo
DTSTART;TZID=Europe/Berlin:20260217T150000
END:VEVENT


BEGIN:VEVENT
DTEND;TZID=Europe/Berlin:20260224T180000
UID:69e90c0caafd45
DTSTAMP:20260422T195732
LOCATION:Yahoo Waltrop Hochstraße 50
DESCRIPTION:Offene Kinder- und Jugendarbeit im YAHOO Waltrop\r\n\r\nDu bist zwischen 10 und 16 Jahren alt und suchst einen Ort zum Treffen\, Chillen und Mitmachen?\r\nDann bist du im YAHOO Waltrop genau richtig.\r\n\r\nIm YAHOO gibt es viele Freizeitmöglichkeiten wie ein Jugendcafé\, Karaoke\, Kickern\, Tischtennis\, Dart\, Brettspiele sowie Konsolen und andere Spiele. Außerdem bieten wir kreative Angebote zum Ausprobieren an.\r\n\r\nUnsere Preise sind taschengeldfreundlich. Es gibt keinen Konsumzwang.\r\nEigene Ideen und Mitgestaltung sind ausdrücklich erwünscht.\r\n\r\nEgal ob du spielen\, kreativ sein\, singen oder einfach Zeit mit Freundinnen und Freunden verbringen möchtest – bei uns bist du willkommen.\r\n\r\nHerzlich willkommen im YAHOO Waltrop. Wir freuen uns auf dich.
URL;VALUE=URI:https://www.unser-ferienprogramm.de/jugendbuero-waltrop/veranstaltung.php?id=299126
SUMMARY:Offener Treff für Teens im Yahoo
DTSTART;TZID=Europe/Berlin:20260224T150000
END:VEVENT


BEGIN:VEVENT
DTEND;TZID=Europe/Berlin:20260303T180000
UID:69e90c0caafe16
DTSTAMP:20260422T195732
LOCATION:Yahoo Waltrop Hochstraße 50
DESCRIPTION:Offene Kinder- und Jugendarbeit im YAHOO Waltrop\r\n\r\nDu bist zwischen 10 und 16 Jahren alt und suchst einen Ort zum Treffen\, Chillen und Mitmachen?\r\nDann bist du im YAHOO Waltrop genau richtig.\r\n\r\nIm YAHOO gibt es viele Freizeitmöglichkeiten wie ein Jugendcafé\, Karaoke\, Kickern\, Tischtennis\, Dart\, Brettspiele sowie Konsolen und andere Spiele. Außerdem bieten wir kreative Angebote zum Ausprobieren an.\r\n\r\nUnsere Preise sind taschengeldfreundlich. Es gibt keinen Konsumzwang.\r\nEigene Ideen und Mitgestaltung sind ausdrücklich erwünscht.\r\n\r\nEgal ob du spielen\, kreativ sein\, singen oder einfach Zeit mit Freundinnen und Freunden verbringen möchtest – bei uns bist du willkommen.\r\n\r\nHerzlich willkommen im YAHOO Waltrop. Wir freuen uns auf dich.
URL;VALUE=URI:https://www.unser-ferienprogramm.de/jugendbuero-waltrop/veranstaltung.php?id=299126
SUMMARY:Offener Treff für Teens im Yahoo
DTSTART;TZID=Europe/Berlin:20260303T150000
END:VEVENT


BEGIN:VEVENT
DTEND;TZID=Europe/Berlin:20260310T180000
UID:69e90c0caafee7
DTSTAMP:20260422T195732
LOCATION:Yahoo Waltrop Hochstraße 50
DESCRIPTION:Offene Kinder- und Jugendarbeit im YAHOO Waltrop\r\n\r\nDu bist zwischen 10 und 16 Jahren alt und suchst einen Ort zum Treffen\, Chillen und Mitmachen?\r\nDann bist du im YAHOO Waltrop genau richtig.\r\n\r\nIm YAHOO gibt es viele Freizeitmöglichkeiten wie ein Jugendcafé\, Karaoke\, Kickern\, Tischtennis\, Dart\, Brettspiele sowie Konsolen und andere Spiele. Außerdem bieten wir kreative Angebote zum Ausprobieren an.\r\n\r\nUnsere Preise sind taschengeldfreundlich. Es gibt keinen Konsumzwang.\r\nEigene Ideen und Mitgestaltung sind ausdrücklich erwünscht.\r\n\r\nEgal ob du spielen\, kreativ sein\, singen oder einfach Zeit mit Freundinnen und Freunden verbringen möchtest – bei uns bist du willkommen.\r\n\r\nHerzlich willkommen im YAHOO Waltrop. Wir freuen uns auf dich.
URL;VALUE=URI:https://www.unser-ferienprogramm.de/jugendbuero-waltrop/veranstaltung.php?id=299126
SUMMARY:Offener Treff für Teens im Yahoo
DTSTART;TZID=Europe/Berlin:20260310T150000
END:VEVENT


BEGIN:VEVENT
DTEND;TZID=Europe/Berlin:20260317T180000
UID:69e90c0caaffa8
DTSTAMP:20260422T195732
LOCATION:Yahoo Waltrop Hochstraße 50
DESCRIPTION:Offene Kinder- und Jugendarbeit im YAHOO Waltrop\r\n\r\nDu bist zwischen 10 und 16 Jahren alt und suchst einen Ort zum Treffen\, Chillen und Mitmachen?\r\nDann bist du im YAHOO Waltrop genau richtig.\r\n\r\nIm YAHOO gibt es viele Freizeitmöglichkeiten wie ein Jugendcafé\, Karaoke\, Kickern\, Tischtennis\, Dart\, Brettspiele sowie Konsolen und andere Spiele. Außerdem bieten wir kreative Angebote zum Ausprobieren an.\r\n\r\nUnsere Preise sind taschengeldfreundlich. Es gibt keinen Konsumzwang.\r\nEigene Ideen und Mitgestaltung sind ausdrücklich erwünscht.\r\n\r\nEgal ob du spielen\, kreativ sein\, singen oder einfach Zeit mit Freundinnen und Freunden verbringen möchtest – bei uns bist du willkommen.\r\n\r\nHerzlich willkommen im YAHOO Waltrop. Wir freuen uns auf dich.
URL;VALUE=URI:https://www.unser-ferienprogramm.de/jugendbuero-waltrop/veranstaltung.php?id=299126
SUMMARY:Offener Treff für Teens im Yahoo
DTSTART;TZID=Europe/Berlin:20260317T150000
END:VEVENT


BEGIN:VEVENT
DTEND;TZID=Europe/Berlin:20260324T180000
UID:69e90c0cab0069
DTSTAMP:20260422T195732
LOCATION:Yahoo Waltrop Hochstraße 50
DESCRIPTION:Offene Kinder- und Jugendarbeit im YAHOO Waltrop\r\n\r\nDu bist zwischen 10 und 16 Jahren alt und suchst einen Ort zum Treffen\, Chillen und Mitmachen?\r\nDann bist du im YAHOO Waltrop genau richtig.\r\n\r\nIm YAHOO gibt es viele Freizeitmöglichkeiten wie ein Jugendcafé\, Karaoke\, Kickern\, Tischtennis\, Dart\, Brettspiele sowie Konsolen und andere Spiele. Außerdem bieten wir kreative Angebote zum Ausprobieren an.\r\n\r\nUnsere Preise sind taschengeldfreundlich. Es gibt keinen Konsumzwang.\r\nEigene Ideen und Mitgestaltung sind ausdrücklich erwünscht.\r\n\r\nEgal ob du spielen\, kreativ sein\, singen oder einfach Zeit mit Freundinnen und Freunden verbringen möchtest – bei uns bist du willkommen.\r\n\r\nHerzlich willkommen im YAHOO Waltrop. Wir freuen uns auf dich.
URL;VALUE=URI:https://www.unser-ferienprogramm.de/jugendbuero-waltrop/veranstaltung.php?id=299126
SUMMARY:Offener Treff für Teens im Yahoo
DTSTART;TZID=Europe/Berlin:20260324T150000
END:VEVENT


BEGIN:VEVENT
DTEND;TZID=Europe/Berlin:20260331T180000
UID:69e90c0cab01310
DTSTAMP:20260422T195732
LOCATION:Yahoo Waltrop Hochstraße 50
DESCRIPTION:Offene Kinder- und Jugendarbeit im YAHOO Waltrop\r\n\r\nDu bist zwischen 10 und 16 Jahren alt und suchst einen Ort zum Treffen\, Chillen und Mitmachen?\r\nDann bist du im YAHOO Waltrop genau richtig.\r\n\r\nIm YAHOO gibt es viele Freizeitmöglichkeiten wie ein Jugendcafé\, Karaoke\, Kickern\, Tischtennis\, Dart\, Brettspiele sowie Konsolen und andere Spiele. Außerdem bieten wir kreative Angebote zum Ausprobieren an.\r\n\r\nUnsere Preise sind taschengeldfreundlich. Es gibt keinen Konsumzwang.\r\nEigene Ideen und Mitgestaltung sind ausdrücklich erwünscht.\r\n\r\nEgal ob du spielen\, kreativ sein\, singen oder einfach Zeit mit Freundinnen und Freunden verbringen möchtest – bei uns bist du willkommen.\r\n\r\nHerzlich willkommen im YAHOO Waltrop. Wir freuen uns auf dich.
URL;VALUE=URI:https://www.unser-ferienprogramm.de/jugendbuero-waltrop/veranstaltung.php?id=299126
SUMMARY:Offener Treff für Teens im Yahoo
DTSTART;TZID=Europe/Berlin:20260331T150000
END:VEVENT


BEGIN:VEVENT
DTEND;TZID=Europe/Berlin:20260407T180000
UID:69e90c0cab02011
DTSTAMP:20260422T195732
LOCATION:Yahoo Waltrop Hochstraße 50
DESCRIPTION:Offene Kinder- und Jugendarbeit im YAHOO Waltrop\r\n\r\nDu bist zwischen 10 und 16 Jahren alt und suchst einen Ort zum Treffen\, Chillen und Mitmachen?\r\nDann bist du im YAHOO Waltrop genau richtig.\r\n\r\nIm YAHOO gibt es viele Freizeitmöglichkeiten wie ein Jugendcafé\, Karaoke\, Kickern\, Tischtennis\, Dart\, Brettspiele sowie Konsolen und andere Spiele. Außerdem bieten wir kreative Angebote zum Ausprobieren an.\r\n\r\nUnsere Preise sind taschengeldfreundlich. Es gibt keinen Konsumzwang.\r\nEigene Ideen und Mitgestaltung sind ausdrücklich erwünscht.\r\n\r\nEgal ob du spielen\, kreativ sein\, singen oder einfach Zeit mit Freundinnen und Freunden verbringen möchtest – bei uns bist du willkommen.\r\n\r\nHerzlich willkommen im YAHOO Waltrop. Wir freuen uns auf dich.
URL;VALUE=URI:https://www.unser-ferienprogramm.de/jugendbuero-waltrop/veranstaltung.php?id=299126
SUMMARY:Offener Treff für Teens im Yahoo
DTSTART;TZID=Europe/Berlin:20260407T150000
END:VEVENT


BEGIN:VEVENT
DTEND;TZID=Europe/Berlin:20260414T180000
UID:69e90c0cab02c12
DTSTAMP:20260422T195732
LOCATION:Yahoo Waltrop Hochstraße 50
DESCRIPTION:Offene Kinder- und Jugendarbeit im YAHOO Waltrop\r\n\r\nDu bist zwischen 10 und 16 Jahren alt und suchst einen Ort zum Treffen\, Chillen und Mitmachen?\r\nDann bist du im YAHOO Waltrop genau richtig.\r\n\r\nIm YAHOO gibt es viele Freizeitmöglichkeiten wie ein Jugendcafé\, Karaoke\, Kickern\, Tischtennis\, Dart\, Brettspiele sowie Konsolen und andere Spiele. Außerdem bieten wir kreative Angebote zum Ausprobieren an.\r\n\r\nUnsere Preise sind taschengeldfreundlich. Es gibt keinen Konsumzwang.\r\nEigene Ideen und Mitgestaltung sind ausdrücklich erwünscht.\r\n\r\nEgal ob du spielen\, kreativ sein\, singen oder einfach Zeit mit Freundinnen und Freunden verbringen möchtest – bei uns bist du willkommen.\r\n\r\nHerzlich willkommen im YAHOO Waltrop. Wir freuen uns auf dich.
URL;VALUE=URI:https://www.unser-ferienprogramm.de/jugendbuero-waltrop/veranstaltung.php?id=299126
SUMMARY:Offener Treff für Teens im Yahoo
DTSTART;TZID=Europe/Berlin:20260414T150000
END:VEVENT


BEGIN:VEVENT
DTEND;TZID=Europe/Berlin:20260421T180000
UID:69e90c0cab03913
DTSTAMP:20260422T195732
LOCATION:Yahoo Waltrop Hochstraße 50
DESCRIPTION:Offene Kinder- und Jugendarbeit im YAHOO Waltrop\r\n\r\nDu bist zwischen 10 und 16 Jahren alt und suchst einen Ort zum Treffen\, Chillen und Mitmachen?\r\nDann bist du im YAHOO Waltrop genau richtig.\r\n\r\nIm YAHOO gibt es viele Freizeitmöglichkeiten wie ein Jugendcafé\, Karaoke\, Kickern\, Tischtennis\, Dart\, Brettspiele sowie Konsolen und andere Spiele. Außerdem bieten wir kreative Angebote zum Ausprobieren an.\r\n\r\nUnsere Preise sind taschengeldfreundlich. Es gibt keinen Konsumzwang.\r\nEigene Ideen und Mitgestaltung sind ausdrücklich erwünscht.\r\n\r\nEgal ob du spielen\, kreativ sein\, singen oder einfach Zeit mit Freundinnen und Freunden verbringen möchtest – bei uns bist du willkommen.\r\n\r\nHerzlich willkommen im YAHOO Waltrop. Wir freuen uns auf dich.
URL;VALUE=URI:https://www.unser-ferienprogramm.de/jugendbuero-waltrop/veranstaltung.php?id=299126
SUMMARY:Offener Treff für Teens im Yahoo
DTSTART;TZID=Europe/Berlin:20260421T150000
END:VEVENT


BEGIN:VEVENT
DTEND;TZID=Europe/Berlin:20260428T180000
UID:69e90c0cab04514
DTSTAMP:20260422T195732
LOCATION:Yahoo Waltrop Hochstraße 50
DESCRIPTION:Offene Kinder- und Jugendarbeit im YAHOO Waltrop\r\n\r\nDu bist zwischen 10 und 16 Jahren alt und suchst einen Ort zum Treffen\, Chillen und Mitmachen?\r\nDann bist du im YAHOO Waltrop genau richtig.\r\n\r\nIm YAHOO gibt es viele Freizeitmöglichkeiten wie ein Jugendcafé\, Karaoke\, Kickern\, Tischtennis\, Dart\, Brettspiele sowie Konsolen und andere Spiele. Außerdem bieten wir kreative Angebote zum Ausprobieren an.\r\n\r\nUnsere Preise sind taschengeldfreundlich. Es gibt keinen Konsumzwang.\r\nEigene Ideen und Mitgestaltung sind ausdrücklich erwünscht.\r\n\r\nEgal ob du spielen\, kreativ sein\, singen oder einfach Zeit mit Freundinnen und Freunden verbringen möchtest – bei uns bist du willkommen.\r\n\r\nHerzlich willkommen im YAHOO Waltrop. Wir freuen uns auf dich.
URL;VALUE=URI:https://www.unser-ferienprogramm.de/jugendbuero-waltrop/veranstaltung.php?id=299126
SUMMARY:Offener Treff für Teens im Yahoo
DTSTART;TZID=Europe/Berlin:20260428T150000
END:VEVENT


BEGIN:VEVENT
DTEND;TZID=Europe/Berlin:20260505T180000
UID:69e90c0cab05215
DTSTAMP:20260422T195732
LOCATION:Yahoo Waltrop Hochstraße 50
DESCRIPTION:Offene Kinder- und Jugendarbeit im YAHOO Waltrop\r\n\r\nDu bist zwischen 10 und 16 Jahren alt und suchst einen Ort zum Treffen\, Chillen und Mitmachen?\r\nDann bist du im YAHOO Waltrop genau richtig.\r\n\r\nIm YAHOO gibt es viele Freizeitmöglichkeiten wie ein Jugendcafé\, Karaoke\, Kickern\, Tischtennis\, Dart\, Brettspiele sowie Konsolen und andere Spiele. Außerdem bieten wir kreative Angebote zum Ausprobieren an.\r\n\r\nUnsere Preise sind taschengeldfreundlich. Es gibt keinen Konsumzwang.\r\nEigene Ideen und Mitgestaltung sind ausdrücklich erwünscht.\r\n\r\nEgal ob du spielen\, kreativ sein\, singen oder einfach Zeit mit Freundinnen und Freunden verbringen möchtest – bei uns bist du willkommen.\r\n\r\nHerzlich willkommen im YAHOO Waltrop. Wir freuen uns auf dich.
URL;VALUE=URI:https://www.unser-ferienprogramm.de/jugendbuero-waltrop/veranstaltung.php?id=299126
SUMMARY:Offener Treff für Teens im Yahoo
DTSTART;TZID=Europe/Berlin:20260505T150000
END:VEVENT

END:VCALENDAR
