BEGIN:VCALENDAR
VERSION:2.0
PRODID:-//hacksw/handcal//NONSGML v1.0//EN
CALSCALE:GREGORIAN
BEGIN:VTIMEZONE
TZID:Europe/Berlin
X-LIC-LOCATION:Europe/Berlin
BEGIN:DAYLIGHT
TZOFFSETFROM:+0100
TZOFFSETTO:+0200
TZNAME:CEST
DTSTART:19700329T020000
RRULE:FREQ=YEARLY;BYDAY=-1SU;BYMONTH=3
END:DAYLIGHT
BEGIN:STANDARD
TZOFFSETFROM:+0200
TZOFFSETTO:+0100
TZNAME:CET
DTSTART:19701025T030000
RRULE:FREQ=YEARLY;BYDAY=-1SU;BYMONTH=10
END:STANDARD
END:VTIMEZONE
BEGIN:VEVENT
DTEND;TZID=Europe/Berlin:20260122T200000
UID:69e90c0d26441
DTSTAMP:20260422T195733
LOCATION:Hafenstraße 74 a
DESCRIPTION:Offene Kinder- und Jugendarbeit am Cliquentreff\r\n\r\nDer Cliquentreff in der Hafenstraße 74 (hinter der Skatefläche) bietet offene Kinder- und Jugendarbeit für Teens im Alter von 10 bis 16 Jahren an.\r\nJeden Donnerstag wird von 16:00 bis 20:00 Uhr im Cliquentreff gekocht und Jugendliche haben die Möglichkeit\, ihre Freizeit in einer lockeren und sicheren Atmosphäre zu verbringen.\r\n\r\nOb abhängen mit Freund*innen\, neue Leute kennenlernen\, spielen\, kreativ sein oder einfach entspannen – der Cliquentreff ist ein Ort\, an dem eigene Interessen Platz haben. Die Angebote sind freiwillig\, kostenlos und richten sich nach den Wünschen der Jugendlichen.\r\nDas Team der mobilen Jugendarbeit freut sich auf euch!\r\n\r\n✨ Ohne Anmeldung – alle sind herzlich willkommen! ✨\r\n\r\nKomm einfach vorbei und mach mit!
URL;VALUE=URI:https://www.unser-ferienprogramm.de/jugendbuero-waltrop/veranstaltung.php?id=299122
SUMMARY:Offener Treff für Teens im Cliquentreff
DTSTART;TZID=Europe/Berlin:20260122T160000
END:VEVENT


BEGIN:VEVENT
DTEND;TZID=Europe/Berlin:20260129T200000
UID:69e90c0d2645d1
DTSTAMP:20260422T195733
LOCATION:Hafenstraße 74 a
DESCRIPTION:Offene Kinder- und Jugendarbeit am Cliquentreff\r\n\r\nDer Cliquentreff in der Hafenstraße 74 (hinter der Skatefläche) bietet offene Kinder- und Jugendarbeit für Teens im Alter von 10 bis 16 Jahren an.\r\nJeden Donnerstag wird von 16:00 bis 20:00 Uhr im Cliquentreff gekocht und Jugendliche haben die Möglichkeit\, ihre Freizeit in einer lockeren und sicheren Atmosphäre zu verbringen.\r\n\r\nOb abhängen mit Freund*innen\, neue Leute kennenlernen\, spielen\, kreativ sein oder einfach entspannen – der Cliquentreff ist ein Ort\, an dem eigene Interessen Platz haben. Die Angebote sind freiwillig\, kostenlos und richten sich nach den Wünschen der Jugendlichen.\r\nDas Team der mobilen Jugendarbeit freut sich auf euch!\r\n\r\n✨ Ohne Anmeldung – alle sind herzlich willkommen! ✨\r\n\r\nKomm einfach vorbei und mach mit!
URL;VALUE=URI:https://www.unser-ferienprogramm.de/jugendbuero-waltrop/veranstaltung.php?id=299122
SUMMARY:Offener Treff für Teens im Cliquentreff
DTSTART;TZID=Europe/Berlin:20260129T160000
END:VEVENT


BEGIN:VEVENT
DTEND;TZID=Europe/Berlin:20260205T200000
UID:69e90c0d2646f2
DTSTAMP:20260422T195733
LOCATION:Hafenstraße 74 a
DESCRIPTION:Offene Kinder- und Jugendarbeit am Cliquentreff\r\n\r\nDer Cliquentreff in der Hafenstraße 74 (hinter der Skatefläche) bietet offene Kinder- und Jugendarbeit für Teens im Alter von 10 bis 16 Jahren an.\r\nJeden Donnerstag wird von 16:00 bis 20:00 Uhr im Cliquentreff gekocht und Jugendliche haben die Möglichkeit\, ihre Freizeit in einer lockeren und sicheren Atmosphäre zu verbringen.\r\n\r\nOb abhängen mit Freund*innen\, neue Leute kennenlernen\, spielen\, kreativ sein oder einfach entspannen – der Cliquentreff ist ein Ort\, an dem eigene Interessen Platz haben. Die Angebote sind freiwillig\, kostenlos und richten sich nach den Wünschen der Jugendlichen.\r\nDas Team der mobilen Jugendarbeit freut sich auf euch!\r\n\r\n✨ Ohne Anmeldung – alle sind herzlich willkommen! ✨\r\n\r\nKomm einfach vorbei und mach mit!
URL;VALUE=URI:https://www.unser-ferienprogramm.de/jugendbuero-waltrop/veranstaltung.php?id=299122
SUMMARY:Offener Treff für Teens im Cliquentreff
DTSTART;TZID=Europe/Berlin:20260205T160000
END:VEVENT


BEGIN:VEVENT
DTEND;TZID=Europe/Berlin:20260212T200000
UID:69e90c0d2647d3
DTSTAMP:20260422T195733
LOCATION:Hafenstraße 74 a
DESCRIPTION:Offene Kinder- und Jugendarbeit am Cliquentreff\r\n\r\nDer Cliquentreff in der Hafenstraße 74 (hinter der Skatefläche) bietet offene Kinder- und Jugendarbeit für Teens im Alter von 10 bis 16 Jahren an.\r\nJeden Donnerstag wird von 16:00 bis 20:00 Uhr im Cliquentreff gekocht und Jugendliche haben die Möglichkeit\, ihre Freizeit in einer lockeren und sicheren Atmosphäre zu verbringen.\r\n\r\nOb abhängen mit Freund*innen\, neue Leute kennenlernen\, spielen\, kreativ sein oder einfach entspannen – der Cliquentreff ist ein Ort\, an dem eigene Interessen Platz haben. Die Angebote sind freiwillig\, kostenlos und richten sich nach den Wünschen der Jugendlichen.\r\nDas Team der mobilen Jugendarbeit freut sich auf euch!\r\n\r\n✨ Ohne Anmeldung – alle sind herzlich willkommen! ✨\r\n\r\nKomm einfach vorbei und mach mit!
URL;VALUE=URI:https://www.unser-ferienprogramm.de/jugendbuero-waltrop/veranstaltung.php?id=299122
SUMMARY:Offener Treff für Teens im Cliquentreff
DTSTART;TZID=Europe/Berlin:20260212T160000
END:VEVENT


BEGIN:VEVENT
DTEND;TZID=Europe/Berlin:20260219T200000
UID:69e90c0d2648a4
DTSTAMP:20260422T195733
LOCATION:Hafenstraße 74 a
DESCRIPTION:Offene Kinder- und Jugendarbeit am Cliquentreff\r\n\r\nDer Cliquentreff in der Hafenstraße 74 (hinter der Skatefläche) bietet offene Kinder- und Jugendarbeit für Teens im Alter von 10 bis 16 Jahren an.\r\nJeden Donnerstag wird von 16:00 bis 20:00 Uhr im Cliquentreff gekocht und Jugendliche haben die Möglichkeit\, ihre Freizeit in einer lockeren und sicheren Atmosphäre zu verbringen.\r\n\r\nOb abhängen mit Freund*innen\, neue Leute kennenlernen\, spielen\, kreativ sein oder einfach entspannen – der Cliquentreff ist ein Ort\, an dem eigene Interessen Platz haben. Die Angebote sind freiwillig\, kostenlos und richten sich nach den Wünschen der Jugendlichen.\r\nDas Team der mobilen Jugendarbeit freut sich auf euch!\r\n\r\n✨ Ohne Anmeldung – alle sind herzlich willkommen! ✨\r\n\r\nKomm einfach vorbei und mach mit!
URL;VALUE=URI:https://www.unser-ferienprogramm.de/jugendbuero-waltrop/veranstaltung.php?id=299122
SUMMARY:Offener Treff für Teens im Cliquentreff
DTSTART;TZID=Europe/Berlin:20260219T160000
END:VEVENT


BEGIN:VEVENT
DTEND;TZID=Europe/Berlin:20260226T200000
UID:69e90c0d264975
DTSTAMP:20260422T195733
LOCATION:Hafenstraße 74 a
DESCRIPTION:Offene Kinder- und Jugendarbeit am Cliquentreff\r\n\r\nDer Cliquentreff in der Hafenstraße 74 (hinter der Skatefläche) bietet offene Kinder- und Jugendarbeit für Teens im Alter von 10 bis 16 Jahren an.\r\nJeden Donnerstag wird von 16:00 bis 20:00 Uhr im Cliquentreff gekocht und Jugendliche haben die Möglichkeit\, ihre Freizeit in einer lockeren und sicheren Atmosphäre zu verbringen.\r\n\r\nOb abhängen mit Freund*innen\, neue Leute kennenlernen\, spielen\, kreativ sein oder einfach entspannen – der Cliquentreff ist ein Ort\, an dem eigene Interessen Platz haben. Die Angebote sind freiwillig\, kostenlos und richten sich nach den Wünschen der Jugendlichen.\r\nDas Team der mobilen Jugendarbeit freut sich auf euch!\r\n\r\n✨ Ohne Anmeldung – alle sind herzlich willkommen! ✨\r\n\r\nKomm einfach vorbei und mach mit!
URL;VALUE=URI:https://www.unser-ferienprogramm.de/jugendbuero-waltrop/veranstaltung.php?id=299122
SUMMARY:Offener Treff für Teens im Cliquentreff
DTSTART;TZID=Europe/Berlin:20260226T160000
END:VEVENT


BEGIN:VEVENT
DTEND;TZID=Europe/Berlin:20260305T200000
UID:69e90c0d264a36
DTSTAMP:20260422T195733
LOCATION:Hafenstraße 74 a
DESCRIPTION:Offene Kinder- und Jugendarbeit am Cliquentreff\r\n\r\nDer Cliquentreff in der Hafenstraße 74 (hinter der Skatefläche) bietet offene Kinder- und Jugendarbeit für Teens im Alter von 10 bis 16 Jahren an.\r\nJeden Donnerstag wird von 16:00 bis 20:00 Uhr im Cliquentreff gekocht und Jugendliche haben die Möglichkeit\, ihre Freizeit in einer lockeren und sicheren Atmosphäre zu verbringen.\r\n\r\nOb abhängen mit Freund*innen\, neue Leute kennenlernen\, spielen\, kreativ sein oder einfach entspannen – der Cliquentreff ist ein Ort\, an dem eigene Interessen Platz haben. Die Angebote sind freiwillig\, kostenlos und richten sich nach den Wünschen der Jugendlichen.\r\nDas Team der mobilen Jugendarbeit freut sich auf euch!\r\n\r\n✨ Ohne Anmeldung – alle sind herzlich willkommen! ✨\r\n\r\nKomm einfach vorbei und mach mit!
URL;VALUE=URI:https://www.unser-ferienprogramm.de/jugendbuero-waltrop/veranstaltung.php?id=299122
SUMMARY:Offener Treff für Teens im Cliquentreff
DTSTART;TZID=Europe/Berlin:20260305T160000
END:VEVENT


BEGIN:VEVENT
DTEND;TZID=Europe/Berlin:20260312T200000
UID:69e90c0d264b07
DTSTAMP:20260422T195733
LOCATION:Hafenstraße 74 a
DESCRIPTION:Offene Kinder- und Jugendarbeit am Cliquentreff\r\n\r\nDer Cliquentreff in der Hafenstraße 74 (hinter der Skatefläche) bietet offene Kinder- und Jugendarbeit für Teens im Alter von 10 bis 16 Jahren an.\r\nJeden Donnerstag wird von 16:00 bis 20:00 Uhr im Cliquentreff gekocht und Jugendliche haben die Möglichkeit\, ihre Freizeit in einer lockeren und sicheren Atmosphäre zu verbringen.\r\n\r\nOb abhängen mit Freund*innen\, neue Leute kennenlernen\, spielen\, kreativ sein oder einfach entspannen – der Cliquentreff ist ein Ort\, an dem eigene Interessen Platz haben. Die Angebote sind freiwillig\, kostenlos und richten sich nach den Wünschen der Jugendlichen.\r\nDas Team der mobilen Jugendarbeit freut sich auf euch!\r\n\r\n✨ Ohne Anmeldung – alle sind herzlich willkommen! ✨\r\n\r\nKomm einfach vorbei und mach mit!
URL;VALUE=URI:https://www.unser-ferienprogramm.de/jugendbuero-waltrop/veranstaltung.php?id=299122
SUMMARY:Offener Treff für Teens im Cliquentreff
DTSTART;TZID=Europe/Berlin:20260312T160000
END:VEVENT


BEGIN:VEVENT
DTEND;TZID=Europe/Berlin:20260319T200000
UID:69e90c0d264bc8
DTSTAMP:20260422T195733
LOCATION:Hafenstraße 74 a
DESCRIPTION:Offene Kinder- und Jugendarbeit am Cliquentreff\r\n\r\nDer Cliquentreff in der Hafenstraße 74 (hinter der Skatefläche) bietet offene Kinder- und Jugendarbeit für Teens im Alter von 10 bis 16 Jahren an.\r\nJeden Donnerstag wird von 16:00 bis 20:00 Uhr im Cliquentreff gekocht und Jugendliche haben die Möglichkeit\, ihre Freizeit in einer lockeren und sicheren Atmosphäre zu verbringen.\r\n\r\nOb abhängen mit Freund*innen\, neue Leute kennenlernen\, spielen\, kreativ sein oder einfach entspannen – der Cliquentreff ist ein Ort\, an dem eigene Interessen Platz haben. Die Angebote sind freiwillig\, kostenlos und richten sich nach den Wünschen der Jugendlichen.\r\nDas Team der mobilen Jugendarbeit freut sich auf euch!\r\n\r\n✨ Ohne Anmeldung – alle sind herzlich willkommen! ✨\r\n\r\nKomm einfach vorbei und mach mit!
URL;VALUE=URI:https://www.unser-ferienprogramm.de/jugendbuero-waltrop/veranstaltung.php?id=299122
SUMMARY:Offener Treff für Teens im Cliquentreff
DTSTART;TZID=Europe/Berlin:20260319T160000
END:VEVENT


BEGIN:VEVENT
DTEND;TZID=Europe/Berlin:20260326T200000
UID:69e90c0d264c89
DTSTAMP:20260422T195733
LOCATION:Hafenstraße 74 a
DESCRIPTION:Offene Kinder- und Jugendarbeit am Cliquentreff\r\n\r\nDer Cliquentreff in der Hafenstraße 74 (hinter der Skatefläche) bietet offene Kinder- und Jugendarbeit für Teens im Alter von 10 bis 16 Jahren an.\r\nJeden Donnerstag wird von 16:00 bis 20:00 Uhr im Cliquentreff gekocht und Jugendliche haben die Möglichkeit\, ihre Freizeit in einer lockeren und sicheren Atmosphäre zu verbringen.\r\n\r\nOb abhängen mit Freund*innen\, neue Leute kennenlernen\, spielen\, kreativ sein oder einfach entspannen – der Cliquentreff ist ein Ort\, an dem eigene Interessen Platz haben. Die Angebote sind freiwillig\, kostenlos und richten sich nach den Wünschen der Jugendlichen.\r\nDas Team der mobilen Jugendarbeit freut sich auf euch!\r\n\r\n✨ Ohne Anmeldung – alle sind herzlich willkommen! ✨\r\n\r\nKomm einfach vorbei und mach mit!
URL;VALUE=URI:https://www.unser-ferienprogramm.de/jugendbuero-waltrop/veranstaltung.php?id=299122
SUMMARY:Offener Treff für Teens im Cliquentreff
DTSTART;TZID=Europe/Berlin:20260326T160000
END:VEVENT


BEGIN:VEVENT
DTEND;TZID=Europe/Berlin:20260402T200000
UID:69e90c0d264d410
DTSTAMP:20260422T195733
LOCATION:Hafenstraße 74 a
DESCRIPTION:Offene Kinder- und Jugendarbeit am Cliquentreff\r\n\r\nDer Cliquentreff in der Hafenstraße 74 (hinter der Skatefläche) bietet offene Kinder- und Jugendarbeit für Teens im Alter von 10 bis 16 Jahren an.\r\nJeden Donnerstag wird von 16:00 bis 20:00 Uhr im Cliquentreff gekocht und Jugendliche haben die Möglichkeit\, ihre Freizeit in einer lockeren und sicheren Atmosphäre zu verbringen.\r\n\r\nOb abhängen mit Freund*innen\, neue Leute kennenlernen\, spielen\, kreativ sein oder einfach entspannen – der Cliquentreff ist ein Ort\, an dem eigene Interessen Platz haben. Die Angebote sind freiwillig\, kostenlos und richten sich nach den Wünschen der Jugendlichen.\r\nDas Team der mobilen Jugendarbeit freut sich auf euch!\r\n\r\n✨ Ohne Anmeldung – alle sind herzlich willkommen! ✨\r\n\r\nKomm einfach vorbei und mach mit!
URL;VALUE=URI:https://www.unser-ferienprogramm.de/jugendbuero-waltrop/veranstaltung.php?id=299122
SUMMARY:Offener Treff für Teens im Cliquentreff
DTSTART;TZID=Europe/Berlin:20260402T160000
END:VEVENT


BEGIN:VEVENT
DTEND;TZID=Europe/Berlin:20260409T200000
UID:69e90c0d264e111
DTSTAMP:20260422T195733
LOCATION:Hafenstraße 74 a
DESCRIPTION:Offene Kinder- und Jugendarbeit am Cliquentreff\r\n\r\nDer Cliquentreff in der Hafenstraße 74 (hinter der Skatefläche) bietet offene Kinder- und Jugendarbeit für Teens im Alter von 10 bis 16 Jahren an.\r\nJeden Donnerstag wird von 16:00 bis 20:00 Uhr im Cliquentreff gekocht und Jugendliche haben die Möglichkeit\, ihre Freizeit in einer lockeren und sicheren Atmosphäre zu verbringen.\r\n\r\nOb abhängen mit Freund*innen\, neue Leute kennenlernen\, spielen\, kreativ sein oder einfach entspannen – der Cliquentreff ist ein Ort\, an dem eigene Interessen Platz haben. Die Angebote sind freiwillig\, kostenlos und richten sich nach den Wünschen der Jugendlichen.\r\nDas Team der mobilen Jugendarbeit freut sich auf euch!\r\n\r\n✨ Ohne Anmeldung – alle sind herzlich willkommen! ✨\r\n\r\nKomm einfach vorbei und mach mit!
URL;VALUE=URI:https://www.unser-ferienprogramm.de/jugendbuero-waltrop/veranstaltung.php?id=299122
SUMMARY:Offener Treff für Teens im Cliquentreff
DTSTART;TZID=Europe/Berlin:20260409T160000
END:VEVENT


BEGIN:VEVENT
DTEND;TZID=Europe/Berlin:20260416T200000
UID:69e90c0d264ed12
DTSTAMP:20260422T195733
LOCATION:Hafenstraße 74 a
DESCRIPTION:Offene Kinder- und Jugendarbeit am Cliquentreff\r\n\r\nDer Cliquentreff in der Hafenstraße 74 (hinter der Skatefläche) bietet offene Kinder- und Jugendarbeit für Teens im Alter von 10 bis 16 Jahren an.\r\nJeden Donnerstag wird von 16:00 bis 20:00 Uhr im Cliquentreff gekocht und Jugendliche haben die Möglichkeit\, ihre Freizeit in einer lockeren und sicheren Atmosphäre zu verbringen.\r\n\r\nOb abhängen mit Freund*innen\, neue Leute kennenlernen\, spielen\, kreativ sein oder einfach entspannen – der Cliquentreff ist ein Ort\, an dem eigene Interessen Platz haben. Die Angebote sind freiwillig\, kostenlos und richten sich nach den Wünschen der Jugendlichen.\r\nDas Team der mobilen Jugendarbeit freut sich auf euch!\r\n\r\n✨ Ohne Anmeldung – alle sind herzlich willkommen! ✨\r\n\r\nKomm einfach vorbei und mach mit!
URL;VALUE=URI:https://www.unser-ferienprogramm.de/jugendbuero-waltrop/veranstaltung.php?id=299122
SUMMARY:Offener Treff für Teens im Cliquentreff
DTSTART;TZID=Europe/Berlin:20260416T160000
END:VEVENT


BEGIN:VEVENT
DTEND;TZID=Europe/Berlin:20260423T200000
UID:69e90c0d264f913
DTSTAMP:20260422T195733
LOCATION:Hafenstraße 74 a
DESCRIPTION:Offene Kinder- und Jugendarbeit am Cliquentreff\r\n\r\nDer Cliquentreff in der Hafenstraße 74 (hinter der Skatefläche) bietet offene Kinder- und Jugendarbeit für Teens im Alter von 10 bis 16 Jahren an.\r\nJeden Donnerstag wird von 16:00 bis 20:00 Uhr im Cliquentreff gekocht und Jugendliche haben die Möglichkeit\, ihre Freizeit in einer lockeren und sicheren Atmosphäre zu verbringen.\r\n\r\nOb abhängen mit Freund*innen\, neue Leute kennenlernen\, spielen\, kreativ sein oder einfach entspannen – der Cliquentreff ist ein Ort\, an dem eigene Interessen Platz haben. Die Angebote sind freiwillig\, kostenlos und richten sich nach den Wünschen der Jugendlichen.\r\nDas Team der mobilen Jugendarbeit freut sich auf euch!\r\n\r\n✨ Ohne Anmeldung – alle sind herzlich willkommen! ✨\r\n\r\nKomm einfach vorbei und mach mit!
URL;VALUE=URI:https://www.unser-ferienprogramm.de/jugendbuero-waltrop/veranstaltung.php?id=299122
SUMMARY:Offener Treff für Teens im Cliquentreff
DTSTART;TZID=Europe/Berlin:20260423T160000
END:VEVENT


BEGIN:VEVENT
DTEND;TZID=Europe/Berlin:20260430T200000
UID:69e90c0d2650614
DTSTAMP:20260422T195733
LOCATION:Hafenstraße 74 a
DESCRIPTION:Offene Kinder- und Jugendarbeit am Cliquentreff\r\n\r\nDer Cliquentreff in der Hafenstraße 74 (hinter der Skatefläche) bietet offene Kinder- und Jugendarbeit für Teens im Alter von 10 bis 16 Jahren an.\r\nJeden Donnerstag wird von 16:00 bis 20:00 Uhr im Cliquentreff gekocht und Jugendliche haben die Möglichkeit\, ihre Freizeit in einer lockeren und sicheren Atmosphäre zu verbringen.\r\n\r\nOb abhängen mit Freund*innen\, neue Leute kennenlernen\, spielen\, kreativ sein oder einfach entspannen – der Cliquentreff ist ein Ort\, an dem eigene Interessen Platz haben. Die Angebote sind freiwillig\, kostenlos und richten sich nach den Wünschen der Jugendlichen.\r\nDas Team der mobilen Jugendarbeit freut sich auf euch!\r\n\r\n✨ Ohne Anmeldung – alle sind herzlich willkommen! ✨\r\n\r\nKomm einfach vorbei und mach mit!
URL;VALUE=URI:https://www.unser-ferienprogramm.de/jugendbuero-waltrop/veranstaltung.php?id=299122
SUMMARY:Offener Treff für Teens im Cliquentreff
DTSTART;TZID=Europe/Berlin:20260430T160000
END:VEVENT


BEGIN:VEVENT
DTEND;TZID=Europe/Berlin:20260507T200000
UID:69e90c0d2651215
DTSTAMP:20260422T195733
LOCATION:Hafenstraße 74 a
DESCRIPTION:Offene Kinder- und Jugendarbeit am Cliquentreff\r\n\r\nDer Cliquentreff in der Hafenstraße 74 (hinter der Skatefläche) bietet offene Kinder- und Jugendarbeit für Teens im Alter von 10 bis 16 Jahren an.\r\nJeden Donnerstag wird von 16:00 bis 20:00 Uhr im Cliquentreff gekocht und Jugendliche haben die Möglichkeit\, ihre Freizeit in einer lockeren und sicheren Atmosphäre zu verbringen.\r\n\r\nOb abhängen mit Freund*innen\, neue Leute kennenlernen\, spielen\, kreativ sein oder einfach entspannen – der Cliquentreff ist ein Ort\, an dem eigene Interessen Platz haben. Die Angebote sind freiwillig\, kostenlos und richten sich nach den Wünschen der Jugendlichen.\r\nDas Team der mobilen Jugendarbeit freut sich auf euch!\r\n\r\n✨ Ohne Anmeldung – alle sind herzlich willkommen! ✨\r\n\r\nKomm einfach vorbei und mach mit!
URL;VALUE=URI:https://www.unser-ferienprogramm.de/jugendbuero-waltrop/veranstaltung.php?id=299122
SUMMARY:Offener Treff für Teens im Cliquentreff
DTSTART;TZID=Europe/Berlin:20260507T160000
END:VEVENT

END:VCALENDAR
