BEGIN:VCALENDAR
VERSION:2.0
PRODID:-//hacksw/handcal//NONSGML v1.0//EN
CALSCALE:GREGORIAN
BEGIN:VTIMEZONE
TZID:Europe/Berlin
X-LIC-LOCATION:Europe/Berlin
BEGIN:DAYLIGHT
TZOFFSETFROM:+0100
TZOFFSETTO:+0200
TZNAME:CEST
DTSTART:19700329T020000
RRULE:FREQ=YEARLY;BYDAY=-1SU;BYMONTH=3
END:DAYLIGHT
BEGIN:STANDARD
TZOFFSETFROM:+0200
TZOFFSETTO:+0100
TZNAME:CET
DTSTART:19701025T030000
RRULE:FREQ=YEARLY;BYDAY=-1SU;BYMONTH=10
END:STANDARD
END:VTIMEZONE
BEGIN:VEVENT
DTEND;TZID=Europe/Berlin:20260116T210000
UID:69e90c259b132
DTSTAMP:20260422T195757
LOCATION:Hafenstrasse 74 a
DESCRIPTION:Offene Kinder- und Jugendarbeit am Cliquentreff\r\n\r\nDer Cliquentreff in der Hafenstraße 74 (hinter der Skatefläche) bietet offene Kinder- und Jugendarbeit für Teens im Alter von 10 bis 16 Jahren an.\r\nJeden Freitag von 16:00 bis 21:00 Uhr haben Jugendliche die Möglichkeit\, ihre Freizeit in einer lockeren und sicheren Atmosphäre zu verbringen.\r\n\r\nOb abhängen mit Freund*innen\, neue Leute kennenlernen\, spielen\, kreativ sein oder einfach entspannen – der Cliquentreff ist ein Ort\, an dem eigene Interessen Platz haben. Die Angebote sind freiwillig\, kostenlos und richten sich nach den Wünschen der Jugendlichen.\r\nDas Team der mobilen Jugendarbeit freut sich auf euch!\r\n\r\n✨ Ohne Anmeldung – alle sind herzlich willkommen! ✨\r\n\r\nKomm einfach vorbei und mach mit!
URL;VALUE=URI:https://www.unser-ferienprogramm.de/jugendbuero-waltrop/veranstaltung.php?id=299119
SUMMARY:Offener Treff für Teens im Cliquentreff
DTSTART;TZID=Europe/Berlin:20260116T160000
END:VEVENT


BEGIN:VEVENT
DTEND;TZID=Europe/Berlin:20260123T210000
UID:69e90c259b1761
DTSTAMP:20260422T195757
LOCATION:Hafenstrasse 74 a
DESCRIPTION:Offene Kinder- und Jugendarbeit am Cliquentreff\r\n\r\nDer Cliquentreff in der Hafenstraße 74 (hinter der Skatefläche) bietet offene Kinder- und Jugendarbeit für Teens im Alter von 10 bis 16 Jahren an.\r\nJeden Freitag von 16:00 bis 21:00 Uhr haben Jugendliche die Möglichkeit\, ihre Freizeit in einer lockeren und sicheren Atmosphäre zu verbringen.\r\n\r\nOb abhängen mit Freund*innen\, neue Leute kennenlernen\, spielen\, kreativ sein oder einfach entspannen – der Cliquentreff ist ein Ort\, an dem eigene Interessen Platz haben. Die Angebote sind freiwillig\, kostenlos und richten sich nach den Wünschen der Jugendlichen.\r\nDas Team der mobilen Jugendarbeit freut sich auf euch!\r\n\r\n✨ Ohne Anmeldung – alle sind herzlich willkommen! ✨\r\n\r\nKomm einfach vorbei und mach mit!
URL;VALUE=URI:https://www.unser-ferienprogramm.de/jugendbuero-waltrop/veranstaltung.php?id=299119
SUMMARY:Offener Treff für Teens im Cliquentreff
DTSTART;TZID=Europe/Berlin:20260123T160000
END:VEVENT


BEGIN:VEVENT
DTEND;TZID=Europe/Berlin:20260130T210000
UID:69e90c259b1872
DTSTAMP:20260422T195757
LOCATION:Hafenstrasse 74 a
DESCRIPTION:Offene Kinder- und Jugendarbeit am Cliquentreff\r\n\r\nDer Cliquentreff in der Hafenstraße 74 (hinter der Skatefläche) bietet offene Kinder- und Jugendarbeit für Teens im Alter von 10 bis 16 Jahren an.\r\nJeden Freitag von 16:00 bis 21:00 Uhr haben Jugendliche die Möglichkeit\, ihre Freizeit in einer lockeren und sicheren Atmosphäre zu verbringen.\r\n\r\nOb abhängen mit Freund*innen\, neue Leute kennenlernen\, spielen\, kreativ sein oder einfach entspannen – der Cliquentreff ist ein Ort\, an dem eigene Interessen Platz haben. Die Angebote sind freiwillig\, kostenlos und richten sich nach den Wünschen der Jugendlichen.\r\nDas Team der mobilen Jugendarbeit freut sich auf euch!\r\n\r\n✨ Ohne Anmeldung – alle sind herzlich willkommen! ✨\r\n\r\nKomm einfach vorbei und mach mit!
URL;VALUE=URI:https://www.unser-ferienprogramm.de/jugendbuero-waltrop/veranstaltung.php?id=299119
SUMMARY:Offener Treff für Teens im Cliquentreff
DTSTART;TZID=Europe/Berlin:20260130T160000
END:VEVENT


BEGIN:VEVENT
DTEND;TZID=Europe/Berlin:20260206T210000
UID:69e90c259b1953
DTSTAMP:20260422T195757
LOCATION:Hafenstrasse 74 a
DESCRIPTION:Offene Kinder- und Jugendarbeit am Cliquentreff\r\n\r\nDer Cliquentreff in der Hafenstraße 74 (hinter der Skatefläche) bietet offene Kinder- und Jugendarbeit für Teens im Alter von 10 bis 16 Jahren an.\r\nJeden Freitag von 16:00 bis 21:00 Uhr haben Jugendliche die Möglichkeit\, ihre Freizeit in einer lockeren und sicheren Atmosphäre zu verbringen.\r\n\r\nOb abhängen mit Freund*innen\, neue Leute kennenlernen\, spielen\, kreativ sein oder einfach entspannen – der Cliquentreff ist ein Ort\, an dem eigene Interessen Platz haben. Die Angebote sind freiwillig\, kostenlos und richten sich nach den Wünschen der Jugendlichen.\r\nDas Team der mobilen Jugendarbeit freut sich auf euch!\r\n\r\n✨ Ohne Anmeldung – alle sind herzlich willkommen! ✨\r\n\r\nKomm einfach vorbei und mach mit!
URL;VALUE=URI:https://www.unser-ferienprogramm.de/jugendbuero-waltrop/veranstaltung.php?id=299119
SUMMARY:Offener Treff für Teens im Cliquentreff
DTSTART;TZID=Europe/Berlin:20260206T160000
END:VEVENT


BEGIN:VEVENT
DTEND;TZID=Europe/Berlin:20260213T210000
UID:69e90c259b1a34
DTSTAMP:20260422T195757
LOCATION:Hafenstrasse 74 a
DESCRIPTION:Offene Kinder- und Jugendarbeit am Cliquentreff\r\n\r\nDer Cliquentreff in der Hafenstraße 74 (hinter der Skatefläche) bietet offene Kinder- und Jugendarbeit für Teens im Alter von 10 bis 16 Jahren an.\r\nJeden Freitag von 16:00 bis 21:00 Uhr haben Jugendliche die Möglichkeit\, ihre Freizeit in einer lockeren und sicheren Atmosphäre zu verbringen.\r\n\r\nOb abhängen mit Freund*innen\, neue Leute kennenlernen\, spielen\, kreativ sein oder einfach entspannen – der Cliquentreff ist ein Ort\, an dem eigene Interessen Platz haben. Die Angebote sind freiwillig\, kostenlos und richten sich nach den Wünschen der Jugendlichen.\r\nDas Team der mobilen Jugendarbeit freut sich auf euch!\r\n\r\n✨ Ohne Anmeldung – alle sind herzlich willkommen! ✨\r\n\r\nKomm einfach vorbei und mach mit!
URL;VALUE=URI:https://www.unser-ferienprogramm.de/jugendbuero-waltrop/veranstaltung.php?id=299119
SUMMARY:Offener Treff für Teens im Cliquentreff
DTSTART;TZID=Europe/Berlin:20260213T160000
END:VEVENT


BEGIN:VEVENT
DTEND;TZID=Europe/Berlin:20260220T210000
UID:69e90c259b1af5
DTSTAMP:20260422T195757
LOCATION:Hafenstrasse 74 a
DESCRIPTION:Offene Kinder- und Jugendarbeit am Cliquentreff\r\n\r\nDer Cliquentreff in der Hafenstraße 74 (hinter der Skatefläche) bietet offene Kinder- und Jugendarbeit für Teens im Alter von 10 bis 16 Jahren an.\r\nJeden Freitag von 16:00 bis 21:00 Uhr haben Jugendliche die Möglichkeit\, ihre Freizeit in einer lockeren und sicheren Atmosphäre zu verbringen.\r\n\r\nOb abhängen mit Freund*innen\, neue Leute kennenlernen\, spielen\, kreativ sein oder einfach entspannen – der Cliquentreff ist ein Ort\, an dem eigene Interessen Platz haben. Die Angebote sind freiwillig\, kostenlos und richten sich nach den Wünschen der Jugendlichen.\r\nDas Team der mobilen Jugendarbeit freut sich auf euch!\r\n\r\n✨ Ohne Anmeldung – alle sind herzlich willkommen! ✨\r\n\r\nKomm einfach vorbei und mach mit!
URL;VALUE=URI:https://www.unser-ferienprogramm.de/jugendbuero-waltrop/veranstaltung.php?id=299119
SUMMARY:Offener Treff für Teens im Cliquentreff
DTSTART;TZID=Europe/Berlin:20260220T160000
END:VEVENT


BEGIN:VEVENT
DTEND;TZID=Europe/Berlin:20260227T210000
UID:69e90c259b1bc6
DTSTAMP:20260422T195757
LOCATION:Hafenstrasse 74 a
DESCRIPTION:Offene Kinder- und Jugendarbeit am Cliquentreff\r\n\r\nDer Cliquentreff in der Hafenstraße 74 (hinter der Skatefläche) bietet offene Kinder- und Jugendarbeit für Teens im Alter von 10 bis 16 Jahren an.\r\nJeden Freitag von 16:00 bis 21:00 Uhr haben Jugendliche die Möglichkeit\, ihre Freizeit in einer lockeren und sicheren Atmosphäre zu verbringen.\r\n\r\nOb abhängen mit Freund*innen\, neue Leute kennenlernen\, spielen\, kreativ sein oder einfach entspannen – der Cliquentreff ist ein Ort\, an dem eigene Interessen Platz haben. Die Angebote sind freiwillig\, kostenlos und richten sich nach den Wünschen der Jugendlichen.\r\nDas Team der mobilen Jugendarbeit freut sich auf euch!\r\n\r\n✨ Ohne Anmeldung – alle sind herzlich willkommen! ✨\r\n\r\nKomm einfach vorbei und mach mit!
URL;VALUE=URI:https://www.unser-ferienprogramm.de/jugendbuero-waltrop/veranstaltung.php?id=299119
SUMMARY:Offener Treff für Teens im Cliquentreff
DTSTART;TZID=Europe/Berlin:20260227T160000
END:VEVENT


BEGIN:VEVENT
DTEND;TZID=Europe/Berlin:20260306T210000
UID:69e90c259b1c87
DTSTAMP:20260422T195757
LOCATION:Hafenstrasse 74 a
DESCRIPTION:Offene Kinder- und Jugendarbeit am Cliquentreff\r\n\r\nDer Cliquentreff in der Hafenstraße 74 (hinter der Skatefläche) bietet offene Kinder- und Jugendarbeit für Teens im Alter von 10 bis 16 Jahren an.\r\nJeden Freitag von 16:00 bis 21:00 Uhr haben Jugendliche die Möglichkeit\, ihre Freizeit in einer lockeren und sicheren Atmosphäre zu verbringen.\r\n\r\nOb abhängen mit Freund*innen\, neue Leute kennenlernen\, spielen\, kreativ sein oder einfach entspannen – der Cliquentreff ist ein Ort\, an dem eigene Interessen Platz haben. Die Angebote sind freiwillig\, kostenlos und richten sich nach den Wünschen der Jugendlichen.\r\nDas Team der mobilen Jugendarbeit freut sich auf euch!\r\n\r\n✨ Ohne Anmeldung – alle sind herzlich willkommen! ✨\r\n\r\nKomm einfach vorbei und mach mit!
URL;VALUE=URI:https://www.unser-ferienprogramm.de/jugendbuero-waltrop/veranstaltung.php?id=299119
SUMMARY:Offener Treff für Teens im Cliquentreff
DTSTART;TZID=Europe/Berlin:20260306T160000
END:VEVENT


BEGIN:VEVENT
DTEND;TZID=Europe/Berlin:20260313T210000
UID:69e90c259b1d58
DTSTAMP:20260422T195757
LOCATION:Hafenstrasse 74 a
DESCRIPTION:Offene Kinder- und Jugendarbeit am Cliquentreff\r\n\r\nDer Cliquentreff in der Hafenstraße 74 (hinter der Skatefläche) bietet offene Kinder- und Jugendarbeit für Teens im Alter von 10 bis 16 Jahren an.\r\nJeden Freitag von 16:00 bis 21:00 Uhr haben Jugendliche die Möglichkeit\, ihre Freizeit in einer lockeren und sicheren Atmosphäre zu verbringen.\r\n\r\nOb abhängen mit Freund*innen\, neue Leute kennenlernen\, spielen\, kreativ sein oder einfach entspannen – der Cliquentreff ist ein Ort\, an dem eigene Interessen Platz haben. Die Angebote sind freiwillig\, kostenlos und richten sich nach den Wünschen der Jugendlichen.\r\nDas Team der mobilen Jugendarbeit freut sich auf euch!\r\n\r\n✨ Ohne Anmeldung – alle sind herzlich willkommen! ✨\r\n\r\nKomm einfach vorbei und mach mit!
URL;VALUE=URI:https://www.unser-ferienprogramm.de/jugendbuero-waltrop/veranstaltung.php?id=299119
SUMMARY:Offener Treff für Teens im Cliquentreff
DTSTART;TZID=Europe/Berlin:20260313T160000
END:VEVENT


BEGIN:VEVENT
DTEND;TZID=Europe/Berlin:20260320T210000
UID:69e90c259b1e19
DTSTAMP:20260422T195757
LOCATION:Hafenstrasse 74 a
DESCRIPTION:Offene Kinder- und Jugendarbeit am Cliquentreff\r\n\r\nDer Cliquentreff in der Hafenstraße 74 (hinter der Skatefläche) bietet offene Kinder- und Jugendarbeit für Teens im Alter von 10 bis 16 Jahren an.\r\nJeden Freitag von 16:00 bis 21:00 Uhr haben Jugendliche die Möglichkeit\, ihre Freizeit in einer lockeren und sicheren Atmosphäre zu verbringen.\r\n\r\nOb abhängen mit Freund*innen\, neue Leute kennenlernen\, spielen\, kreativ sein oder einfach entspannen – der Cliquentreff ist ein Ort\, an dem eigene Interessen Platz haben. Die Angebote sind freiwillig\, kostenlos und richten sich nach den Wünschen der Jugendlichen.\r\nDas Team der mobilen Jugendarbeit freut sich auf euch!\r\n\r\n✨ Ohne Anmeldung – alle sind herzlich willkommen! ✨\r\n\r\nKomm einfach vorbei und mach mit!
URL;VALUE=URI:https://www.unser-ferienprogramm.de/jugendbuero-waltrop/veranstaltung.php?id=299119
SUMMARY:Offener Treff für Teens im Cliquentreff
DTSTART;TZID=Europe/Berlin:20260320T160000
END:VEVENT


BEGIN:VEVENT
DTEND;TZID=Europe/Berlin:20260327T210000
UID:69e90c259b1ed10
DTSTAMP:20260422T195757
LOCATION:Hafenstrasse 74 a
DESCRIPTION:Offene Kinder- und Jugendarbeit am Cliquentreff\r\n\r\nDer Cliquentreff in der Hafenstraße 74 (hinter der Skatefläche) bietet offene Kinder- und Jugendarbeit für Teens im Alter von 10 bis 16 Jahren an.\r\nJeden Freitag von 16:00 bis 21:00 Uhr haben Jugendliche die Möglichkeit\, ihre Freizeit in einer lockeren und sicheren Atmosphäre zu verbringen.\r\n\r\nOb abhängen mit Freund*innen\, neue Leute kennenlernen\, spielen\, kreativ sein oder einfach entspannen – der Cliquentreff ist ein Ort\, an dem eigene Interessen Platz haben. Die Angebote sind freiwillig\, kostenlos und richten sich nach den Wünschen der Jugendlichen.\r\nDas Team der mobilen Jugendarbeit freut sich auf euch!\r\n\r\n✨ Ohne Anmeldung – alle sind herzlich willkommen! ✨\r\n\r\nKomm einfach vorbei und mach mit!
URL;VALUE=URI:https://www.unser-ferienprogramm.de/jugendbuero-waltrop/veranstaltung.php?id=299119
SUMMARY:Offener Treff für Teens im Cliquentreff
DTSTART;TZID=Europe/Berlin:20260327T160000
END:VEVENT


BEGIN:VEVENT
DTEND;TZID=Europe/Berlin:20260403T210000
UID:69e90c259b1fa11
DTSTAMP:20260422T195757
LOCATION:Hafenstrasse 74 a
DESCRIPTION:Offene Kinder- und Jugendarbeit am Cliquentreff\r\n\r\nDer Cliquentreff in der Hafenstraße 74 (hinter der Skatefläche) bietet offene Kinder- und Jugendarbeit für Teens im Alter von 10 bis 16 Jahren an.\r\nJeden Freitag von 16:00 bis 21:00 Uhr haben Jugendliche die Möglichkeit\, ihre Freizeit in einer lockeren und sicheren Atmosphäre zu verbringen.\r\n\r\nOb abhängen mit Freund*innen\, neue Leute kennenlernen\, spielen\, kreativ sein oder einfach entspannen – der Cliquentreff ist ein Ort\, an dem eigene Interessen Platz haben. Die Angebote sind freiwillig\, kostenlos und richten sich nach den Wünschen der Jugendlichen.\r\nDas Team der mobilen Jugendarbeit freut sich auf euch!\r\n\r\n✨ Ohne Anmeldung – alle sind herzlich willkommen! ✨\r\n\r\nKomm einfach vorbei und mach mit!
URL;VALUE=URI:https://www.unser-ferienprogramm.de/jugendbuero-waltrop/veranstaltung.php?id=299119
SUMMARY:Offener Treff für Teens im Cliquentreff
DTSTART;TZID=Europe/Berlin:20260403T160000
END:VEVENT


BEGIN:VEVENT
DTEND;TZID=Europe/Berlin:20260410T210000
UID:69e90c259b20612
DTSTAMP:20260422T195757
LOCATION:Hafenstrasse 74 a
DESCRIPTION:Offene Kinder- und Jugendarbeit am Cliquentreff\r\n\r\nDer Cliquentreff in der Hafenstraße 74 (hinter der Skatefläche) bietet offene Kinder- und Jugendarbeit für Teens im Alter von 10 bis 16 Jahren an.\r\nJeden Freitag von 16:00 bis 21:00 Uhr haben Jugendliche die Möglichkeit\, ihre Freizeit in einer lockeren und sicheren Atmosphäre zu verbringen.\r\n\r\nOb abhängen mit Freund*innen\, neue Leute kennenlernen\, spielen\, kreativ sein oder einfach entspannen – der Cliquentreff ist ein Ort\, an dem eigene Interessen Platz haben. Die Angebote sind freiwillig\, kostenlos und richten sich nach den Wünschen der Jugendlichen.\r\nDas Team der mobilen Jugendarbeit freut sich auf euch!\r\n\r\n✨ Ohne Anmeldung – alle sind herzlich willkommen! ✨\r\n\r\nKomm einfach vorbei und mach mit!
URL;VALUE=URI:https://www.unser-ferienprogramm.de/jugendbuero-waltrop/veranstaltung.php?id=299119
SUMMARY:Offener Treff für Teens im Cliquentreff
DTSTART;TZID=Europe/Berlin:20260410T160000
END:VEVENT


BEGIN:VEVENT
DTEND;TZID=Europe/Berlin:20260417T210000
UID:69e90c259b21313
DTSTAMP:20260422T195757
LOCATION:Hafenstrasse 74 a
DESCRIPTION:Offene Kinder- und Jugendarbeit am Cliquentreff\r\n\r\nDer Cliquentreff in der Hafenstraße 74 (hinter der Skatefläche) bietet offene Kinder- und Jugendarbeit für Teens im Alter von 10 bis 16 Jahren an.\r\nJeden Freitag von 16:00 bis 21:00 Uhr haben Jugendliche die Möglichkeit\, ihre Freizeit in einer lockeren und sicheren Atmosphäre zu verbringen.\r\n\r\nOb abhängen mit Freund*innen\, neue Leute kennenlernen\, spielen\, kreativ sein oder einfach entspannen – der Cliquentreff ist ein Ort\, an dem eigene Interessen Platz haben. Die Angebote sind freiwillig\, kostenlos und richten sich nach den Wünschen der Jugendlichen.\r\nDas Team der mobilen Jugendarbeit freut sich auf euch!\r\n\r\n✨ Ohne Anmeldung – alle sind herzlich willkommen! ✨\r\n\r\nKomm einfach vorbei und mach mit!
URL;VALUE=URI:https://www.unser-ferienprogramm.de/jugendbuero-waltrop/veranstaltung.php?id=299119
SUMMARY:Offener Treff für Teens im Cliquentreff
DTSTART;TZID=Europe/Berlin:20260417T160000
END:VEVENT


BEGIN:VEVENT
DTEND;TZID=Europe/Berlin:20260424T210000
UID:69e90c259b21f14
DTSTAMP:20260422T195757
LOCATION:Hafenstrasse 74 a
DESCRIPTION:Offene Kinder- und Jugendarbeit am Cliquentreff\r\n\r\nDer Cliquentreff in der Hafenstraße 74 (hinter der Skatefläche) bietet offene Kinder- und Jugendarbeit für Teens im Alter von 10 bis 16 Jahren an.\r\nJeden Freitag von 16:00 bis 21:00 Uhr haben Jugendliche die Möglichkeit\, ihre Freizeit in einer lockeren und sicheren Atmosphäre zu verbringen.\r\n\r\nOb abhängen mit Freund*innen\, neue Leute kennenlernen\, spielen\, kreativ sein oder einfach entspannen – der Cliquentreff ist ein Ort\, an dem eigene Interessen Platz haben. Die Angebote sind freiwillig\, kostenlos und richten sich nach den Wünschen der Jugendlichen.\r\nDas Team der mobilen Jugendarbeit freut sich auf euch!\r\n\r\n✨ Ohne Anmeldung – alle sind herzlich willkommen! ✨\r\n\r\nKomm einfach vorbei und mach mit!
URL;VALUE=URI:https://www.unser-ferienprogramm.de/jugendbuero-waltrop/veranstaltung.php?id=299119
SUMMARY:Offener Treff für Teens im Cliquentreff
DTSTART;TZID=Europe/Berlin:20260424T160000
END:VEVENT


BEGIN:VEVENT
DTEND;TZID=Europe/Berlin:20260508T210000
UID:69e90c259b22b15
DTSTAMP:20260422T195757
LOCATION:Hafenstrasse 74 a
DESCRIPTION:Offene Kinder- und Jugendarbeit am Cliquentreff\r\n\r\nDer Cliquentreff in der Hafenstraße 74 (hinter der Skatefläche) bietet offene Kinder- und Jugendarbeit für Teens im Alter von 10 bis 16 Jahren an.\r\nJeden Freitag von 16:00 bis 21:00 Uhr haben Jugendliche die Möglichkeit\, ihre Freizeit in einer lockeren und sicheren Atmosphäre zu verbringen.\r\n\r\nOb abhängen mit Freund*innen\, neue Leute kennenlernen\, spielen\, kreativ sein oder einfach entspannen – der Cliquentreff ist ein Ort\, an dem eigene Interessen Platz haben. Die Angebote sind freiwillig\, kostenlos und richten sich nach den Wünschen der Jugendlichen.\r\nDas Team der mobilen Jugendarbeit freut sich auf euch!\r\n\r\n✨ Ohne Anmeldung – alle sind herzlich willkommen! ✨\r\n\r\nKomm einfach vorbei und mach mit!
URL;VALUE=URI:https://www.unser-ferienprogramm.de/jugendbuero-waltrop/veranstaltung.php?id=299119
SUMMARY:Offener Treff für Teens im Cliquentreff
DTSTART;TZID=Europe/Berlin:20260508T160000
END:VEVENT

END:VCALENDAR
