BEGIN:VCALENDAR
VERSION:2.0
PRODID:-//hacksw/handcal//NONSGML v1.0//EN
CALSCALE:GREGORIAN
BEGIN:VTIMEZONE
TZID:Europe/Berlin
X-LIC-LOCATION:Europe/Berlin
BEGIN:DAYLIGHT
TZOFFSETFROM:+0100
TZOFFSETTO:+0200
TZNAME:CEST
DTSTART:19700329T020000
RRULE:FREQ=YEARLY;BYDAY=-1SU;BYMONTH=3
END:DAYLIGHT
BEGIN:STANDARD
TZOFFSETFROM:+0200
TZOFFSETTO:+0100
TZNAME:CET
DTSTART:19701025T030000
RRULE:FREQ=YEARLY;BYDAY=-1SU;BYMONTH=10
END:STANDARD
END:VTIMEZONE
BEGIN:VEVENT
DTEND;TZID=Europe/Berlin:20260119T200000
UID:69e90bfc02206
DTSTAMP:20260422T195716
LOCATION:Hafenstraße 74a
DESCRIPTION:Offene Kinder- und Jugendarbeit am Cliquentreff \r\n\r\nDer Cliquentreff in der Hafenstraße 74 (hinter der Skatefläche) bietet offene Kinder- und Jugendarbeit für Teens im Alter von 10 bis 16 Jahren an.\r\nJeden Montag von 16:00 bis 20:00 Uhr haben Jugendliche die Möglichkeit\, ihre Freizeit in einer lockeren und sicheren Atmosphäre zu verbringen.\r\n\r\nOb abhängen mit Freund*innen\, neue Leute kennenlernen\, spielen\, kreativ sein oder einfach entspannen – der Cliquentreff ist ein Ort\, an dem eigene Interessen Platz haben. Die Angebote sind freiwillig\, kostenlos und richten sich nach den Wünschen der Jugendlichen.\r\nDas Team der mobilen Jugendarbeit freut sich auf euch!\r\n\r\n✨ Ohne Anmeldung – alle sind herzlich willkommen! ✨\r\n\r\nKomm einfach vorbei und mach mit!
URL;VALUE=URI:https://www.unser-ferienprogramm.de/jugendbuero-waltrop/veranstaltung.php?id=299116
SUMMARY:Offener Treff für Teens im Cliquentreff
DTSTART;TZID=Europe/Berlin:20260119T160000
END:VEVENT


BEGIN:VEVENT
DTEND;TZID=Europe/Berlin:20260126T200000
UID:69e90bfc022491
DTSTAMP:20260422T195716
LOCATION:Hafenstraße 74a
DESCRIPTION:Offene Kinder- und Jugendarbeit am Cliquentreff \r\n\r\nDer Cliquentreff in der Hafenstraße 74 (hinter der Skatefläche) bietet offene Kinder- und Jugendarbeit für Teens im Alter von 10 bis 16 Jahren an.\r\nJeden Montag von 16:00 bis 20:00 Uhr haben Jugendliche die Möglichkeit\, ihre Freizeit in einer lockeren und sicheren Atmosphäre zu verbringen.\r\n\r\nOb abhängen mit Freund*innen\, neue Leute kennenlernen\, spielen\, kreativ sein oder einfach entspannen – der Cliquentreff ist ein Ort\, an dem eigene Interessen Platz haben. Die Angebote sind freiwillig\, kostenlos und richten sich nach den Wünschen der Jugendlichen.\r\nDas Team der mobilen Jugendarbeit freut sich auf euch!\r\n\r\n✨ Ohne Anmeldung – alle sind herzlich willkommen! ✨\r\n\r\nKomm einfach vorbei und mach mit!
URL;VALUE=URI:https://www.unser-ferienprogramm.de/jugendbuero-waltrop/veranstaltung.php?id=299116
SUMMARY:Offener Treff für Teens im Cliquentreff
DTSTART;TZID=Europe/Berlin:20260126T160000
END:VEVENT


BEGIN:VEVENT
DTEND;TZID=Europe/Berlin:20260202T200000
UID:69e90bfc0225b2
DTSTAMP:20260422T195716
LOCATION:Hafenstraße 74a
DESCRIPTION:Offene Kinder- und Jugendarbeit am Cliquentreff \r\n\r\nDer Cliquentreff in der Hafenstraße 74 (hinter der Skatefläche) bietet offene Kinder- und Jugendarbeit für Teens im Alter von 10 bis 16 Jahren an.\r\nJeden Montag von 16:00 bis 20:00 Uhr haben Jugendliche die Möglichkeit\, ihre Freizeit in einer lockeren und sicheren Atmosphäre zu verbringen.\r\n\r\nOb abhängen mit Freund*innen\, neue Leute kennenlernen\, spielen\, kreativ sein oder einfach entspannen – der Cliquentreff ist ein Ort\, an dem eigene Interessen Platz haben. Die Angebote sind freiwillig\, kostenlos und richten sich nach den Wünschen der Jugendlichen.\r\nDas Team der mobilen Jugendarbeit freut sich auf euch!\r\n\r\n✨ Ohne Anmeldung – alle sind herzlich willkommen! ✨\r\n\r\nKomm einfach vorbei und mach mit!
URL;VALUE=URI:https://www.unser-ferienprogramm.de/jugendbuero-waltrop/veranstaltung.php?id=299116
SUMMARY:Offener Treff für Teens im Cliquentreff
DTSTART;TZID=Europe/Berlin:20260202T160000
END:VEVENT


BEGIN:VEVENT
DTEND;TZID=Europe/Berlin:20260209T200000
UID:69e90bfc022693
DTSTAMP:20260422T195716
LOCATION:Hafenstraße 74a
DESCRIPTION:Offene Kinder- und Jugendarbeit am Cliquentreff \r\n\r\nDer Cliquentreff in der Hafenstraße 74 (hinter der Skatefläche) bietet offene Kinder- und Jugendarbeit für Teens im Alter von 10 bis 16 Jahren an.\r\nJeden Montag von 16:00 bis 20:00 Uhr haben Jugendliche die Möglichkeit\, ihre Freizeit in einer lockeren und sicheren Atmosphäre zu verbringen.\r\n\r\nOb abhängen mit Freund*innen\, neue Leute kennenlernen\, spielen\, kreativ sein oder einfach entspannen – der Cliquentreff ist ein Ort\, an dem eigene Interessen Platz haben. Die Angebote sind freiwillig\, kostenlos und richten sich nach den Wünschen der Jugendlichen.\r\nDas Team der mobilen Jugendarbeit freut sich auf euch!\r\n\r\n✨ Ohne Anmeldung – alle sind herzlich willkommen! ✨\r\n\r\nKomm einfach vorbei und mach mit!
URL;VALUE=URI:https://www.unser-ferienprogramm.de/jugendbuero-waltrop/veranstaltung.php?id=299116
SUMMARY:Offener Treff für Teens im Cliquentreff
DTSTART;TZID=Europe/Berlin:20260209T160000
END:VEVENT


BEGIN:VEVENT
DTEND;TZID=Europe/Berlin:20260216T200000
UID:69e90bfc022774
DTSTAMP:20260422T195716
LOCATION:Hafenstraße 74a
DESCRIPTION:Offene Kinder- und Jugendarbeit am Cliquentreff \r\n\r\nDer Cliquentreff in der Hafenstraße 74 (hinter der Skatefläche) bietet offene Kinder- und Jugendarbeit für Teens im Alter von 10 bis 16 Jahren an.\r\nJeden Montag von 16:00 bis 20:00 Uhr haben Jugendliche die Möglichkeit\, ihre Freizeit in einer lockeren und sicheren Atmosphäre zu verbringen.\r\n\r\nOb abhängen mit Freund*innen\, neue Leute kennenlernen\, spielen\, kreativ sein oder einfach entspannen – der Cliquentreff ist ein Ort\, an dem eigene Interessen Platz haben. Die Angebote sind freiwillig\, kostenlos und richten sich nach den Wünschen der Jugendlichen.\r\nDas Team der mobilen Jugendarbeit freut sich auf euch!\r\n\r\n✨ Ohne Anmeldung – alle sind herzlich willkommen! ✨\r\n\r\nKomm einfach vorbei und mach mit!
URL;VALUE=URI:https://www.unser-ferienprogramm.de/jugendbuero-waltrop/veranstaltung.php?id=299116
SUMMARY:Offener Treff für Teens im Cliquentreff
DTSTART;TZID=Europe/Berlin:20260216T160000
END:VEVENT


BEGIN:VEVENT
DTEND;TZID=Europe/Berlin:20260223T200000
UID:69e90bfc022845
DTSTAMP:20260422T195716
LOCATION:Hafenstraße 74a
DESCRIPTION:Offene Kinder- und Jugendarbeit am Cliquentreff \r\n\r\nDer Cliquentreff in der Hafenstraße 74 (hinter der Skatefläche) bietet offene Kinder- und Jugendarbeit für Teens im Alter von 10 bis 16 Jahren an.\r\nJeden Montag von 16:00 bis 20:00 Uhr haben Jugendliche die Möglichkeit\, ihre Freizeit in einer lockeren und sicheren Atmosphäre zu verbringen.\r\n\r\nOb abhängen mit Freund*innen\, neue Leute kennenlernen\, spielen\, kreativ sein oder einfach entspannen – der Cliquentreff ist ein Ort\, an dem eigene Interessen Platz haben. Die Angebote sind freiwillig\, kostenlos und richten sich nach den Wünschen der Jugendlichen.\r\nDas Team der mobilen Jugendarbeit freut sich auf euch!\r\n\r\n✨ Ohne Anmeldung – alle sind herzlich willkommen! ✨\r\n\r\nKomm einfach vorbei und mach mit!
URL;VALUE=URI:https://www.unser-ferienprogramm.de/jugendbuero-waltrop/veranstaltung.php?id=299116
SUMMARY:Offener Treff für Teens im Cliquentreff
DTSTART;TZID=Europe/Berlin:20260223T160000
END:VEVENT


BEGIN:VEVENT
DTEND;TZID=Europe/Berlin:20260302T200000
UID:69e90bfc022906
DTSTAMP:20260422T195716
LOCATION:Hafenstraße 74a
DESCRIPTION:Offene Kinder- und Jugendarbeit am Cliquentreff \r\n\r\nDer Cliquentreff in der Hafenstraße 74 (hinter der Skatefläche) bietet offene Kinder- und Jugendarbeit für Teens im Alter von 10 bis 16 Jahren an.\r\nJeden Montag von 16:00 bis 20:00 Uhr haben Jugendliche die Möglichkeit\, ihre Freizeit in einer lockeren und sicheren Atmosphäre zu verbringen.\r\n\r\nOb abhängen mit Freund*innen\, neue Leute kennenlernen\, spielen\, kreativ sein oder einfach entspannen – der Cliquentreff ist ein Ort\, an dem eigene Interessen Platz haben. Die Angebote sind freiwillig\, kostenlos und richten sich nach den Wünschen der Jugendlichen.\r\nDas Team der mobilen Jugendarbeit freut sich auf euch!\r\n\r\n✨ Ohne Anmeldung – alle sind herzlich willkommen! ✨\r\n\r\nKomm einfach vorbei und mach mit!
URL;VALUE=URI:https://www.unser-ferienprogramm.de/jugendbuero-waltrop/veranstaltung.php?id=299116
SUMMARY:Offener Treff für Teens im Cliquentreff
DTSTART;TZID=Europe/Berlin:20260302T160000
END:VEVENT


BEGIN:VEVENT
DTEND;TZID=Europe/Berlin:20260309T200000
UID:69e90bfc0229d7
DTSTAMP:20260422T195716
LOCATION:Hafenstraße 74a
DESCRIPTION:Offene Kinder- und Jugendarbeit am Cliquentreff \r\n\r\nDer Cliquentreff in der Hafenstraße 74 (hinter der Skatefläche) bietet offene Kinder- und Jugendarbeit für Teens im Alter von 10 bis 16 Jahren an.\r\nJeden Montag von 16:00 bis 20:00 Uhr haben Jugendliche die Möglichkeit\, ihre Freizeit in einer lockeren und sicheren Atmosphäre zu verbringen.\r\n\r\nOb abhängen mit Freund*innen\, neue Leute kennenlernen\, spielen\, kreativ sein oder einfach entspannen – der Cliquentreff ist ein Ort\, an dem eigene Interessen Platz haben. Die Angebote sind freiwillig\, kostenlos und richten sich nach den Wünschen der Jugendlichen.\r\nDas Team der mobilen Jugendarbeit freut sich auf euch!\r\n\r\n✨ Ohne Anmeldung – alle sind herzlich willkommen! ✨\r\n\r\nKomm einfach vorbei und mach mit!
URL;VALUE=URI:https://www.unser-ferienprogramm.de/jugendbuero-waltrop/veranstaltung.php?id=299116
SUMMARY:Offener Treff für Teens im Cliquentreff
DTSTART;TZID=Europe/Berlin:20260309T160000
END:VEVENT


BEGIN:VEVENT
DTEND;TZID=Europe/Berlin:20260316T200000
UID:69e90bfc022a98
DTSTAMP:20260422T195716
LOCATION:Hafenstraße 74a
DESCRIPTION:Offene Kinder- und Jugendarbeit am Cliquentreff \r\n\r\nDer Cliquentreff in der Hafenstraße 74 (hinter der Skatefläche) bietet offene Kinder- und Jugendarbeit für Teens im Alter von 10 bis 16 Jahren an.\r\nJeden Montag von 16:00 bis 20:00 Uhr haben Jugendliche die Möglichkeit\, ihre Freizeit in einer lockeren und sicheren Atmosphäre zu verbringen.\r\n\r\nOb abhängen mit Freund*innen\, neue Leute kennenlernen\, spielen\, kreativ sein oder einfach entspannen – der Cliquentreff ist ein Ort\, an dem eigene Interessen Platz haben. Die Angebote sind freiwillig\, kostenlos und richten sich nach den Wünschen der Jugendlichen.\r\nDas Team der mobilen Jugendarbeit freut sich auf euch!\r\n\r\n✨ Ohne Anmeldung – alle sind herzlich willkommen! ✨\r\n\r\nKomm einfach vorbei und mach mit!
URL;VALUE=URI:https://www.unser-ferienprogramm.de/jugendbuero-waltrop/veranstaltung.php?id=299116
SUMMARY:Offener Treff für Teens im Cliquentreff
DTSTART;TZID=Europe/Berlin:20260316T160000
END:VEVENT


BEGIN:VEVENT
DTEND;TZID=Europe/Berlin:20260323T200000
UID:69e90bfc022b69
DTSTAMP:20260422T195716
LOCATION:Hafenstraße 74a
DESCRIPTION:Offene Kinder- und Jugendarbeit am Cliquentreff \r\n\r\nDer Cliquentreff in der Hafenstraße 74 (hinter der Skatefläche) bietet offene Kinder- und Jugendarbeit für Teens im Alter von 10 bis 16 Jahren an.\r\nJeden Montag von 16:00 bis 20:00 Uhr haben Jugendliche die Möglichkeit\, ihre Freizeit in einer lockeren und sicheren Atmosphäre zu verbringen.\r\n\r\nOb abhängen mit Freund*innen\, neue Leute kennenlernen\, spielen\, kreativ sein oder einfach entspannen – der Cliquentreff ist ein Ort\, an dem eigene Interessen Platz haben. Die Angebote sind freiwillig\, kostenlos und richten sich nach den Wünschen der Jugendlichen.\r\nDas Team der mobilen Jugendarbeit freut sich auf euch!\r\n\r\n✨ Ohne Anmeldung – alle sind herzlich willkommen! ✨\r\n\r\nKomm einfach vorbei und mach mit!
URL;VALUE=URI:https://www.unser-ferienprogramm.de/jugendbuero-waltrop/veranstaltung.php?id=299116
SUMMARY:Offener Treff für Teens im Cliquentreff
DTSTART;TZID=Europe/Berlin:20260323T160000
END:VEVENT


BEGIN:VEVENT
DTEND;TZID=Europe/Berlin:20260330T200000
UID:69e90bfc022c210
DTSTAMP:20260422T195716
LOCATION:Hafenstraße 74a
DESCRIPTION:Offene Kinder- und Jugendarbeit am Cliquentreff \r\n\r\nDer Cliquentreff in der Hafenstraße 74 (hinter der Skatefläche) bietet offene Kinder- und Jugendarbeit für Teens im Alter von 10 bis 16 Jahren an.\r\nJeden Montag von 16:00 bis 20:00 Uhr haben Jugendliche die Möglichkeit\, ihre Freizeit in einer lockeren und sicheren Atmosphäre zu verbringen.\r\n\r\nOb abhängen mit Freund*innen\, neue Leute kennenlernen\, spielen\, kreativ sein oder einfach entspannen – der Cliquentreff ist ein Ort\, an dem eigene Interessen Platz haben. Die Angebote sind freiwillig\, kostenlos und richten sich nach den Wünschen der Jugendlichen.\r\nDas Team der mobilen Jugendarbeit freut sich auf euch!\r\n\r\n✨ Ohne Anmeldung – alle sind herzlich willkommen! ✨\r\n\r\nKomm einfach vorbei und mach mit!
URL;VALUE=URI:https://www.unser-ferienprogramm.de/jugendbuero-waltrop/veranstaltung.php?id=299116
SUMMARY:Offener Treff für Teens im Cliquentreff
DTSTART;TZID=Europe/Berlin:20260330T160000
END:VEVENT


BEGIN:VEVENT
DTEND;TZID=Europe/Berlin:20260413T200000
UID:69e90bfc022cf11
DTSTAMP:20260422T195716
LOCATION:Hafenstraße 74a
DESCRIPTION:Offene Kinder- und Jugendarbeit am Cliquentreff \r\n\r\nDer Cliquentreff in der Hafenstraße 74 (hinter der Skatefläche) bietet offene Kinder- und Jugendarbeit für Teens im Alter von 10 bis 16 Jahren an.\r\nJeden Montag von 16:00 bis 20:00 Uhr haben Jugendliche die Möglichkeit\, ihre Freizeit in einer lockeren und sicheren Atmosphäre zu verbringen.\r\n\r\nOb abhängen mit Freund*innen\, neue Leute kennenlernen\, spielen\, kreativ sein oder einfach entspannen – der Cliquentreff ist ein Ort\, an dem eigene Interessen Platz haben. Die Angebote sind freiwillig\, kostenlos und richten sich nach den Wünschen der Jugendlichen.\r\nDas Team der mobilen Jugendarbeit freut sich auf euch!\r\n\r\n✨ Ohne Anmeldung – alle sind herzlich willkommen! ✨\r\n\r\nKomm einfach vorbei und mach mit!
URL;VALUE=URI:https://www.unser-ferienprogramm.de/jugendbuero-waltrop/veranstaltung.php?id=299116
SUMMARY:Offener Treff für Teens im Cliquentreff
DTSTART;TZID=Europe/Berlin:20260413T160000
END:VEVENT


BEGIN:VEVENT
DTEND;TZID=Europe/Berlin:20260420T200000
UID:69e90bfc022dc12
DTSTAMP:20260422T195716
LOCATION:Hafenstraße 74a
DESCRIPTION:Offene Kinder- und Jugendarbeit am Cliquentreff \r\n\r\nDer Cliquentreff in der Hafenstraße 74 (hinter der Skatefläche) bietet offene Kinder- und Jugendarbeit für Teens im Alter von 10 bis 16 Jahren an.\r\nJeden Montag von 16:00 bis 20:00 Uhr haben Jugendliche die Möglichkeit\, ihre Freizeit in einer lockeren und sicheren Atmosphäre zu verbringen.\r\n\r\nOb abhängen mit Freund*innen\, neue Leute kennenlernen\, spielen\, kreativ sein oder einfach entspannen – der Cliquentreff ist ein Ort\, an dem eigene Interessen Platz haben. Die Angebote sind freiwillig\, kostenlos und richten sich nach den Wünschen der Jugendlichen.\r\nDas Team der mobilen Jugendarbeit freut sich auf euch!\r\n\r\n✨ Ohne Anmeldung – alle sind herzlich willkommen! ✨\r\n\r\nKomm einfach vorbei und mach mit!
URL;VALUE=URI:https://www.unser-ferienprogramm.de/jugendbuero-waltrop/veranstaltung.php?id=299116
SUMMARY:Offener Treff für Teens im Cliquentreff
DTSTART;TZID=Europe/Berlin:20260420T160000
END:VEVENT


BEGIN:VEVENT
DTEND;TZID=Europe/Berlin:20260427T200000
UID:69e90bfc022e813
DTSTAMP:20260422T195716
LOCATION:Hafenstraße 74a
DESCRIPTION:Offene Kinder- und Jugendarbeit am Cliquentreff \r\n\r\nDer Cliquentreff in der Hafenstraße 74 (hinter der Skatefläche) bietet offene Kinder- und Jugendarbeit für Teens im Alter von 10 bis 16 Jahren an.\r\nJeden Montag von 16:00 bis 20:00 Uhr haben Jugendliche die Möglichkeit\, ihre Freizeit in einer lockeren und sicheren Atmosphäre zu verbringen.\r\n\r\nOb abhängen mit Freund*innen\, neue Leute kennenlernen\, spielen\, kreativ sein oder einfach entspannen – der Cliquentreff ist ein Ort\, an dem eigene Interessen Platz haben. Die Angebote sind freiwillig\, kostenlos und richten sich nach den Wünschen der Jugendlichen.\r\nDas Team der mobilen Jugendarbeit freut sich auf euch!\r\n\r\n✨ Ohne Anmeldung – alle sind herzlich willkommen! ✨\r\n\r\nKomm einfach vorbei und mach mit!
URL;VALUE=URI:https://www.unser-ferienprogramm.de/jugendbuero-waltrop/veranstaltung.php?id=299116
SUMMARY:Offener Treff für Teens im Cliquentreff
DTSTART;TZID=Europe/Berlin:20260427T160000
END:VEVENT


BEGIN:VEVENT
DTEND;TZID=Europe/Berlin:20260504T200000
UID:69e90bfc022f414
DTSTAMP:20260422T195716
LOCATION:Hafenstraße 74a
DESCRIPTION:Offene Kinder- und Jugendarbeit am Cliquentreff \r\n\r\nDer Cliquentreff in der Hafenstraße 74 (hinter der Skatefläche) bietet offene Kinder- und Jugendarbeit für Teens im Alter von 10 bis 16 Jahren an.\r\nJeden Montag von 16:00 bis 20:00 Uhr haben Jugendliche die Möglichkeit\, ihre Freizeit in einer lockeren und sicheren Atmosphäre zu verbringen.\r\n\r\nOb abhängen mit Freund*innen\, neue Leute kennenlernen\, spielen\, kreativ sein oder einfach entspannen – der Cliquentreff ist ein Ort\, an dem eigene Interessen Platz haben. Die Angebote sind freiwillig\, kostenlos und richten sich nach den Wünschen der Jugendlichen.\r\nDas Team der mobilen Jugendarbeit freut sich auf euch!\r\n\r\n✨ Ohne Anmeldung – alle sind herzlich willkommen! ✨\r\n\r\nKomm einfach vorbei und mach mit!
URL;VALUE=URI:https://www.unser-ferienprogramm.de/jugendbuero-waltrop/veranstaltung.php?id=299116
SUMMARY:Offener Treff für Teens im Cliquentreff
DTSTART;TZID=Europe/Berlin:20260504T160000
END:VEVENT


BEGIN:VEVENT
DTEND;TZID=Europe/Berlin:20260511T200000
UID:69e90bfc0230115
DTSTAMP:20260422T195716
LOCATION:Hafenstraße 74a
DESCRIPTION:Offene Kinder- und Jugendarbeit am Cliquentreff \r\n\r\nDer Cliquentreff in der Hafenstraße 74 (hinter der Skatefläche) bietet offene Kinder- und Jugendarbeit für Teens im Alter von 10 bis 16 Jahren an.\r\nJeden Montag von 16:00 bis 20:00 Uhr haben Jugendliche die Möglichkeit\, ihre Freizeit in einer lockeren und sicheren Atmosphäre zu verbringen.\r\n\r\nOb abhängen mit Freund*innen\, neue Leute kennenlernen\, spielen\, kreativ sein oder einfach entspannen – der Cliquentreff ist ein Ort\, an dem eigene Interessen Platz haben. Die Angebote sind freiwillig\, kostenlos und richten sich nach den Wünschen der Jugendlichen.\r\nDas Team der mobilen Jugendarbeit freut sich auf euch!\r\n\r\n✨ Ohne Anmeldung – alle sind herzlich willkommen! ✨\r\n\r\nKomm einfach vorbei und mach mit!
URL;VALUE=URI:https://www.unser-ferienprogramm.de/jugendbuero-waltrop/veranstaltung.php?id=299116
SUMMARY:Offener Treff für Teens im Cliquentreff
DTSTART;TZID=Europe/Berlin:20260511T160000
END:VEVENT

END:VCALENDAR
