BEGIN:VCALENDAR
VERSION:2.0
PRODID:-//hacksw/handcal//NONSGML v1.0//EN
CALSCALE:GREGORIAN
BEGIN:VTIMEZONE
TZID:Europe/Berlin
X-LIC-LOCATION:Europe/Berlin
BEGIN:DAYLIGHT
TZOFFSETFROM:+0100
TZOFFSETTO:+0200
TZNAME:CEST
DTSTART:19700329T020000
RRULE:FREQ=YEARLY;BYDAY=-1SU;BYMONTH=3
END:DAYLIGHT
BEGIN:STANDARD
TZOFFSETFROM:+0200
TZOFFSETTO:+0100
TZNAME:CET
DTSTART:19701025T030000
RRULE:FREQ=YEARLY;BYDAY=-1SU;BYMONTH=10
END:STANDARD
END:VTIMEZONE
BEGIN:VEVENT
DTEND;TZID=Europe/Berlin:20260623T163000
UID:69ea5ddff22eb
DTSTAMP:20260423T195855
LOCATION:Iffothek Medienhaus Iffezheim 
DESCRIPTION:Die Möwe Vagabundus liebt das Meer\, frischen Hering und den Hamburger Fischmarkt. Denn hier ist sie zu Hause. Zusammen mit Möwenfreundin Emma\, Fischverkäuferin Katja und Flaschensammler Bodo verbringt Vagabundus fröhliche Stunden zwischen all den Menschen\, die sich auf dem Markt tummeln. Doch eines Tages ist es damit vorbei. Die Menschen ziehen sich in ihre Wohnungen zurück\, kümmern sich nicht mehr umeinander oder um ihre Stadt. So kann es nicht weitergehen. Vagabundus und Emma schmieden einen Plan … \r\nhttps://www.penguin.de\r\n\r\nDu bastelst die Möwe Vagabundus\, die auch gleich eine Idee hat\, wie man Müll noch sinnvoll nutzen kann.
URL;VALUE=URI:https://www.unser-ferienprogramm.de/iffezheim/veranstaltung.php?id=307498
SUMMARY:Die Möwe Vagabundus
DTSTART;TZID=Europe/Berlin:20260623T153000
END:VEVENT

END:VCALENDAR
