BEGIN:VCALENDAR
VERSION:2.0
PRODID:-//hacksw/handcal//NONSGML v1.0//EN
CALSCALE:GREGORIAN
BEGIN:VTIMEZONE
TZID:Europe/Berlin
X-LIC-LOCATION:Europe/Berlin
BEGIN:DAYLIGHT
TZOFFSETFROM:+0100
TZOFFSETTO:+0200
TZNAME:CEST
DTSTART:19700329T020000
RRULE:FREQ=YEARLY;BYDAY=-1SU;BYMONTH=3
END:DAYLIGHT
BEGIN:STANDARD
TZOFFSETFROM:+0200
TZOFFSETTO:+0100
TZNAME:CET
DTSTART:19701025T030000
RRULE:FREQ=YEARLY;BYDAY=-1SU;BYMONTH=10
END:STANDARD
END:VTIMEZONE
BEGIN:VEVENT
DTEND;TZID=Europe/Berlin:20260616T163000
UID:69ea5df0bc7a4
DTSTAMP:20260423T195912
LOCATION:Iffothek Medienhaus Iffezheim
DESCRIPTION:"Ängste haben nicht nur die Kleinen\, sondern auch die Großen! Sybille Hein über Schlotterbacken\, Angstbeutel\, Hasenfüße und andere HosenscheißerEin originelles Anti-Angst-Bilderbuch zum Mitlachen für Klein und Groß - denn auch Erwachsene sind manchmal riesige Hasenfüße: Sie kriegen einen Schreikrampf\, nur weil eine Maus durch den Hof läuft. Pieseln sich fast in die Hose\, wenn sie zum Zahnarzt müssen. Und schlottern am ganzen Körper\, wenn die Kinder mal auf Bäume klettern. Große sind solche Schisser! Natürlich gruseln sich auch Kleine ab und zu - vor Hörgeräten und lautem Schnarchen zum Beispiel\, wie Nele\, Adam und Zaima. Aber vor Gewittern oder schwarzen Katzen weglaufen? Das macht die Angst nur größer\, finden sie. Und beschließen\, der Angst auf die Pelle zu rücken und in den Bauch zu pieksen. So vertreiben sie nicht nur ihren eigenen Schrecken\, sondern auch so manche Angst der Großen. " \r\n\r\nDu darfst dir ein Angst-Fresserchen basteln.\r\n\r\n\r\n
URL;VALUE=URI:https://www.unser-ferienprogramm.de/iffezheim/veranstaltung.php?id=307378
SUMMARY:Große sind Schisser
DTSTART;TZID=Europe/Berlin:20260616T153000
END:VEVENT

END:VCALENDAR
