BEGIN:VCALENDAR
VERSION:2.0
PRODID:-//hacksw/handcal//NONSGML v1.0//EN
CALSCALE:GREGORIAN
BEGIN:VTIMEZONE
TZID:Europe/Berlin
X-LIC-LOCATION:Europe/Berlin
BEGIN:DAYLIGHT
TZOFFSETFROM:+0100
TZOFFSETTO:+0200
TZNAME:CEST
DTSTART:19700329T020000
RRULE:FREQ=YEARLY;BYDAY=-1SU;BYMONTH=3
END:DAYLIGHT
BEGIN:STANDARD
TZOFFSETFROM:+0200
TZOFFSETTO:+0100
TZNAME:CET
DTSTART:19701025T030000
RRULE:FREQ=YEARLY;BYDAY=-1SU;BYMONTH=10
END:STANDARD
END:VTIMEZONE
BEGIN:VEVENT
DTEND;TZID=Europe/Berlin:20260611T180000
UID:69ea5ddf9fae2
DTSTAMP:20260423T195855
LOCATION:Grillhütte Iffezheim
DESCRIPTION:Der Weltspieltag ist ein jährlicher Aktionstag am 11. Juni\, der das Kinderrecht auf Spiel (gemäß UN-Kinderrechtskonvention) unterstreicht. \r\n\r\nWir treffen uns an der Grillhütte und spielen gemeinsam. \r\nUm 17:00 Uhr werden wir mit den Eltern Stockbrot und Würste am Lagerfeuer grillen.\r\n\r\nBitte bezahlen Sie die 5€ vor Ort.
URL;VALUE=URI:https://www.unser-ferienprogramm.de/iffezheim/veranstaltung.php?id=307354
SUMMARY:Weltspieletag an der Grillhütte
DTSTART;TZID=Europe/Berlin:20260611T150000
END:VEVENT

END:VCALENDAR
