BEGIN:VCALENDAR
VERSION:2.0
PRODID:-//hacksw/handcal//NONSGML v1.0//EN
CALSCALE:GREGORIAN
BEGIN:VTIMEZONE
TZID:Europe/Berlin
X-LIC-LOCATION:Europe/Berlin
BEGIN:DAYLIGHT
TZOFFSETFROM:+0100
TZOFFSETTO:+0200
TZNAME:CEST
DTSTART:19700329T020000
RRULE:FREQ=YEARLY;BYDAY=-1SU;BYMONTH=3
END:DAYLIGHT
BEGIN:STANDARD
TZOFFSETFROM:+0200
TZOFFSETTO:+0100
TZNAME:CET
DTSTART:19701025T030000
RRULE:FREQ=YEARLY;BYDAY=-1SU;BYMONTH=10
END:STANDARD
END:VTIMEZONE
BEGIN:VEVENT
DTEND;TZID=Europe/Berlin:20260610T163000
UID:69ea5d81f26fe
DTSTAMP:20260423T195721
LOCATION:Iffothek Medienhaus Iffezheim 
DESCRIPTION:Benny Bärentatze packt die Abenteuerlust! Zusammen mit seiner Freundin Finchen Fuchs geht er auf große Reise. Sie durchqueren reißende Pfützen\, erklimmen die höchsten Hügel und stellen sich gefährlichen Schmetterlingen. Solche Abenteuer machen natürlich hungrig. Wie gut\, dass Mama Bär mit dem herrlich duftenden Kuchen gleich am anderen Ende des Gartens wartet. Zu Hause ist es eben doch am schönsten - und aufregend sowieso.\r\n\r\nDu bastelst eine Abenteuerlandschaft.
URL;VALUE=URI:https://www.unser-ferienprogramm.de/iffezheim/veranstaltung.php?id=307231
SUMMARY:Benny Bärentatze und die kleine Weltreise
DTSTART;TZID=Europe/Berlin:20260610T153000
END:VEVENT

END:VCALENDAR
