BEGIN:VCALENDAR
VERSION:2.0
PRODID:-//hacksw/handcal//NONSGML v1.0//EN
CALSCALE:GREGORIAN
BEGIN:VTIMEZONE
TZID:Europe/Berlin
X-LIC-LOCATION:Europe/Berlin
BEGIN:DAYLIGHT
TZOFFSETFROM:+0100
TZOFFSETTO:+0200
TZNAME:CEST
DTSTART:19700329T020000
RRULE:FREQ=YEARLY;BYDAY=-1SU;BYMONTH=3
END:DAYLIGHT
BEGIN:STANDARD
TZOFFSETFROM:+0200
TZOFFSETTO:+0100
TZNAME:CET
DTSTART:19701025T030000
RRULE:FREQ=YEARLY;BYDAY=-1SU;BYMONTH=10
END:STANDARD
END:VTIMEZONE
BEGIN:VEVENT
DTEND;TZID=Europe/Berlin:20260523T111500
UID:69ea5d9c0e09c
DTSTAMP:20260423T195748
LOCATION:Iffothek Medienhaus Iffezheim 
DESCRIPTION:"Der kleine Affenjunge Mono möchte für seine Mama den größten Schatz der Welt finden. Den ganzen Tag ist er im Dschungel unterwegs und trifft dabei viele fremde Tiere. Aber einen Schatz findet er nicht.\r\nAls es nach einem aufregenden Tag schnell dunkel wird\, wartet seine Mama schon sehnsüchtig auf ihren größten Schatz ... Eine herzerwärmende Geschichte für Große und Kleine."\r\n(www.buchhandel.de)\r\n\r\nNach der Lesung können die Familien einen Rahmen für ein Erinnerungsfoto basteln. Das Foto machen wir gerne für Sie mit Ihrem Handy.
URL;VALUE=URI:https://www.unser-ferienprogramm.de/iffezheim/veranstaltung.php?id=307216
SUMMARY:Familienlesung - Der größte Schatz der Welt
DTSTART;TZID=Europe/Berlin:20260523T103000
END:VEVENT

END:VCALENDAR
