BEGIN:VCALENDAR
VERSION:2.0
PRODID:-//hacksw/handcal//NONSGML v1.0//EN
CALSCALE:GREGORIAN
BEGIN:VTIMEZONE
TZID:Europe/Berlin
X-LIC-LOCATION:Europe/Berlin
BEGIN:DAYLIGHT
TZOFFSETFROM:+0100
TZOFFSETTO:+0200
TZNAME:CEST
DTSTART:19700329T020000
RRULE:FREQ=YEARLY;BYDAY=-1SU;BYMONTH=3
END:DAYLIGHT
BEGIN:STANDARD
TZOFFSETFROM:+0200
TZOFFSETTO:+0100
TZNAME:CET
DTSTART:19701025T030000
RRULE:FREQ=YEARLY;BYDAY=-1SU;BYMONTH=10
END:STANDARD
END:VTIMEZONE
BEGIN:VEVENT
DTEND;TZID=Europe/Berlin:20260520T161500
UID:69ea5d9c771f1
DTSTAMP:20260423T195748
LOCATION:Iffothek Medienhaus Iffezheim 
DESCRIPTION:"Elefant ist müde. Er mag nicht mehr laufen und hätte gern ein Fahrzeug. Der kleine Pit bietet ihm seinen Puppenwagen an. Doch der ist zu eng für Elefant. Das Fahrrad der langen Lilli ist zu wackelig und im Bus ist es Elefant zu laut. Gibt es für Elefant etwa gar kein Fahrzeug? "\r\n(www.buchhandel.de)\r\n\r\nDu bastelst einen Elefanten.
URL;VALUE=URI:https://www.unser-ferienprogramm.de/iffezheim/veranstaltung.php?id=307207
SUMMARY:Elefant fährt los
DTSTART;TZID=Europe/Berlin:20260520T153000
END:VEVENT

END:VCALENDAR
