BEGIN:VCALENDAR
VERSION:2.0
PRODID:-//hacksw/handcal//NONSGML v1.0//EN
CALSCALE:GREGORIAN
BEGIN:VTIMEZONE
TZID:Europe/Berlin
X-LIC-LOCATION:Europe/Berlin
BEGIN:DAYLIGHT
TZOFFSETFROM:+0100
TZOFFSETTO:+0200
TZNAME:CEST
DTSTART:19700329T020000
RRULE:FREQ=YEARLY;BYDAY=-1SU;BYMONTH=3
END:DAYLIGHT
BEGIN:STANDARD
TZOFFSETFROM:+0200
TZOFFSETTO:+0100
TZNAME:CET
DTSTART:19701025T030000
RRULE:FREQ=YEARLY;BYDAY=-1SU;BYMONTH=10
END:STANDARD
END:VTIMEZONE
BEGIN:VEVENT
DTEND;TZID=Europe/Berlin:20260428T163000
UID:69ea5dfad0195
DTSTAMP:20260423T195922
LOCATION:Medienhaus Iffezheim\, Iffothek 
DESCRIPTION:Du hast Spaß am strategischen Denken?\r\nDann bist Du beim Spielenachmittag Quirkle genau richtig!\r\nWir spielen in zwei Gruppen
URL;VALUE=URI:https://www.unser-ferienprogramm.de/iffezheim/veranstaltung.php?id=307190
SUMMARY:Let´s play! - Quirkle
DTSTART;TZID=Europe/Berlin:20260428T153000
END:VEVENT

END:VCALENDAR
