BEGIN:VCALENDAR
VERSION:2.0
PRODID:-//hacksw/handcal//NONSGML v1.0//EN
CALSCALE:GREGORIAN
BEGIN:VTIMEZONE
TZID:Europe/Berlin
X-LIC-LOCATION:Europe/Berlin
BEGIN:DAYLIGHT
TZOFFSETFROM:+0100
TZOFFSETTO:+0200
TZNAME:CEST
DTSTART:19700329T020000
RRULE:FREQ=YEARLY;BYDAY=-1SU;BYMONTH=3
END:DAYLIGHT
BEGIN:STANDARD
TZOFFSETFROM:+0200
TZOFFSETTO:+0100
TZNAME:CET
DTSTART:19701025T030000
RRULE:FREQ=YEARLY;BYDAY=-1SU;BYMONTH=10
END:STANDARD
END:VTIMEZONE
BEGIN:VEVENT
DTEND;TZID=Europe/Berlin:20260429T163000
UID:69ea5e298c929
DTSTAMP:20260423T200009
LOCATION:Iffothek Medienhaus Iffezheim 
DESCRIPTION:"Es ist Frühling! Die ersten wärmenden Sonnenstrahlen erreichen den Grund des Mühlenweihers. Auch der kleine Wassermann erwacht aus dem Winterschlaf. Neugierig und voller Tatendrang macht er sich nach dem Frühstück auf\, um seine Umgebung zu erkunden. Ob seine Freunde noch alle da sind?"\r\n(www.buchhandel.de)\r\n\r\nDu darfst ein Blumengirlande basteln.
URL;VALUE=URI:https://www.unser-ferienprogramm.de/iffezheim/veranstaltung.php?id=307132
SUMMARY:Der kleine Wassermann: Frühling im Mühlenweiher
DTSTART;TZID=Europe/Berlin:20260429T153000
END:VEVENT

END:VCALENDAR
