BEGIN:VCALENDAR
VERSION:2.0
PRODID:-//hacksw/handcal//NONSGML v1.0//EN
CALSCALE:GREGORIAN
BEGIN:VTIMEZONE
TZID:Europe/Berlin
X-LIC-LOCATION:Europe/Berlin
BEGIN:DAYLIGHT
TZOFFSETFROM:+0100
TZOFFSETTO:+0200
TZNAME:CEST
DTSTART:19700329T020000
RRULE:FREQ=YEARLY;BYDAY=-1SU;BYMONTH=3
END:DAYLIGHT
BEGIN:STANDARD
TZOFFSETFROM:+0200
TZOFFSETTO:+0100
TZNAME:CET
DTSTART:19701025T030000
RRULE:FREQ=YEARLY;BYDAY=-1SU;BYMONTH=10
END:STANDARD
END:VTIMEZONE
BEGIN:VEVENT
DTEND;TZID=Europe/Berlin:20260210T163000
UID:69ea5dfa6434c
DTSTAMP:20260423T195922
LOCATION:Iffothek Medienhaus Iffezheim 
DESCRIPTION:Du interessierst dich für die Natur und den Garten?\r\nDann bist du bei den Gartendetektiven genau richtig. Wir beobachten\, wie sich aus winzigen Samenkörnern Pflanzen entwickeln\, wie diese wachsen und schließlich Früchte tragen. Diese Früchte können wir uns schmecken lassen - wir können daraus aber auch neues Saatgut gewinnen. Natürlich werden wir bei unseren Treffen auch basteln.\r\n\r\nWichtig: Wir sehen uns einmal im Monat. Du solltest an den Veranstaltungstagen Zeit haben und möglichst alle Termine besuchen.\r\n\r\nBei den Treffen mit dabei ist Rüdiger Nold vom Obst- und Gartenbauverein Iffezheim. Er ist unser Meister-Garten-Detektiv\, der die schwierigsten Fälle lösen kann. 
URL;VALUE=URI:https://www.unser-ferienprogramm.de/iffezheim/veranstaltung.php?id=295526
SUMMARY:Gartendetektive
DTSTART;TZID=Europe/Berlin:20260210T153000
END:VEVENT


BEGIN:VEVENT
DTEND;TZID=Europe/Berlin:20260310T163000
UID:69ea5dfa643671
DTSTAMP:20260423T195922
LOCATION:Iffothek Medienhaus Iffezheim 
DESCRIPTION:Du interessierst dich für die Natur und den Garten?\r\nDann bist du bei den Gartendetektiven genau richtig. Wir beobachten\, wie sich aus winzigen Samenkörnern Pflanzen entwickeln\, wie diese wachsen und schließlich Früchte tragen. Diese Früchte können wir uns schmecken lassen - wir können daraus aber auch neues Saatgut gewinnen. Natürlich werden wir bei unseren Treffen auch basteln.\r\n\r\nWichtig: Wir sehen uns einmal im Monat. Du solltest an den Veranstaltungstagen Zeit haben und möglichst alle Termine besuchen.\r\n\r\nBei den Treffen mit dabei ist Rüdiger Nold vom Obst- und Gartenbauverein Iffezheim. Er ist unser Meister-Garten-Detektiv\, der die schwierigsten Fälle lösen kann. 
URL;VALUE=URI:https://www.unser-ferienprogramm.de/iffezheim/veranstaltung.php?id=295526
SUMMARY:Gartendetektive
DTSTART;TZID=Europe/Berlin:20260310T153000
END:VEVENT


BEGIN:VEVENT
DTEND;TZID=Europe/Berlin:20260414T163000
UID:69ea5dfa643752
DTSTAMP:20260423T195922
LOCATION:Iffothek Medienhaus Iffezheim 
DESCRIPTION:Du interessierst dich für die Natur und den Garten?\r\nDann bist du bei den Gartendetektiven genau richtig. Wir beobachten\, wie sich aus winzigen Samenkörnern Pflanzen entwickeln\, wie diese wachsen und schließlich Früchte tragen. Diese Früchte können wir uns schmecken lassen - wir können daraus aber auch neues Saatgut gewinnen. Natürlich werden wir bei unseren Treffen auch basteln.\r\n\r\nWichtig: Wir sehen uns einmal im Monat. Du solltest an den Veranstaltungstagen Zeit haben und möglichst alle Termine besuchen.\r\n\r\nBei den Treffen mit dabei ist Rüdiger Nold vom Obst- und Gartenbauverein Iffezheim. Er ist unser Meister-Garten-Detektiv\, der die schwierigsten Fälle lösen kann. 
URL;VALUE=URI:https://www.unser-ferienprogramm.de/iffezheim/veranstaltung.php?id=295526
SUMMARY:Gartendetektive
DTSTART;TZID=Europe/Berlin:20260414T153000
END:VEVENT


BEGIN:VEVENT
DTEND;TZID=Europe/Berlin:20260505T163000
UID:69ea5dfa643813
DTSTAMP:20260423T195922
LOCATION:Iffothek Medienhaus Iffezheim 
DESCRIPTION:Du interessierst dich für die Natur und den Garten?\r\nDann bist du bei den Gartendetektiven genau richtig. Wir beobachten\, wie sich aus winzigen Samenkörnern Pflanzen entwickeln\, wie diese wachsen und schließlich Früchte tragen. Diese Früchte können wir uns schmecken lassen - wir können daraus aber auch neues Saatgut gewinnen. Natürlich werden wir bei unseren Treffen auch basteln.\r\n\r\nWichtig: Wir sehen uns einmal im Monat. Du solltest an den Veranstaltungstagen Zeit haben und möglichst alle Termine besuchen.\r\n\r\nBei den Treffen mit dabei ist Rüdiger Nold vom Obst- und Gartenbauverein Iffezheim. Er ist unser Meister-Garten-Detektiv\, der die schwierigsten Fälle lösen kann. 
URL;VALUE=URI:https://www.unser-ferienprogramm.de/iffezheim/veranstaltung.php?id=295526
SUMMARY:Gartendetektive
DTSTART;TZID=Europe/Berlin:20260505T153000
END:VEVENT


BEGIN:VEVENT
DTEND;TZID=Europe/Berlin:20260609T163000
UID:69ea5dfa6438c4
DTSTAMP:20260423T195922
LOCATION:Iffothek Medienhaus Iffezheim 
DESCRIPTION:Du interessierst dich für die Natur und den Garten?\r\nDann bist du bei den Gartendetektiven genau richtig. Wir beobachten\, wie sich aus winzigen Samenkörnern Pflanzen entwickeln\, wie diese wachsen und schließlich Früchte tragen. Diese Früchte können wir uns schmecken lassen - wir können daraus aber auch neues Saatgut gewinnen. Natürlich werden wir bei unseren Treffen auch basteln.\r\n\r\nWichtig: Wir sehen uns einmal im Monat. Du solltest an den Veranstaltungstagen Zeit haben und möglichst alle Termine besuchen.\r\n\r\nBei den Treffen mit dabei ist Rüdiger Nold vom Obst- und Gartenbauverein Iffezheim. Er ist unser Meister-Garten-Detektiv\, der die schwierigsten Fälle lösen kann. 
URL;VALUE=URI:https://www.unser-ferienprogramm.de/iffezheim/veranstaltung.php?id=295526
SUMMARY:Gartendetektive
DTSTART;TZID=Europe/Berlin:20260609T153000
END:VEVENT


BEGIN:VEVENT
DTEND;TZID=Europe/Berlin:20260707T163000
UID:69ea5dfa643965
DTSTAMP:20260423T195922
LOCATION:Iffothek Medienhaus Iffezheim 
DESCRIPTION:Du interessierst dich für die Natur und den Garten?\r\nDann bist du bei den Gartendetektiven genau richtig. Wir beobachten\, wie sich aus winzigen Samenkörnern Pflanzen entwickeln\, wie diese wachsen und schließlich Früchte tragen. Diese Früchte können wir uns schmecken lassen - wir können daraus aber auch neues Saatgut gewinnen. Natürlich werden wir bei unseren Treffen auch basteln.\r\n\r\nWichtig: Wir sehen uns einmal im Monat. Du solltest an den Veranstaltungstagen Zeit haben und möglichst alle Termine besuchen.\r\n\r\nBei den Treffen mit dabei ist Rüdiger Nold vom Obst- und Gartenbauverein Iffezheim. Er ist unser Meister-Garten-Detektiv\, der die schwierigsten Fälle lösen kann. 
URL;VALUE=URI:https://www.unser-ferienprogramm.de/iffezheim/veranstaltung.php?id=295526
SUMMARY:Gartendetektive
DTSTART;TZID=Europe/Berlin:20260707T153000
END:VEVENT


BEGIN:VEVENT
DTEND;TZID=Europe/Berlin:20260728T163000
UID:69ea5dfa643a06
DTSTAMP:20260423T195922
LOCATION:Iffothek Medienhaus Iffezheim 
DESCRIPTION:Du interessierst dich für die Natur und den Garten?\r\nDann bist du bei den Gartendetektiven genau richtig. Wir beobachten\, wie sich aus winzigen Samenkörnern Pflanzen entwickeln\, wie diese wachsen und schließlich Früchte tragen. Diese Früchte können wir uns schmecken lassen - wir können daraus aber auch neues Saatgut gewinnen. Natürlich werden wir bei unseren Treffen auch basteln.\r\n\r\nWichtig: Wir sehen uns einmal im Monat. Du solltest an den Veranstaltungstagen Zeit haben und möglichst alle Termine besuchen.\r\n\r\nBei den Treffen mit dabei ist Rüdiger Nold vom Obst- und Gartenbauverein Iffezheim. Er ist unser Meister-Garten-Detektiv\, der die schwierigsten Fälle lösen kann. 
URL;VALUE=URI:https://www.unser-ferienprogramm.de/iffezheim/veranstaltung.php?id=295526
SUMMARY:Gartendetektive
DTSTART;TZID=Europe/Berlin:20260728T153000
END:VEVENT

END:VCALENDAR
