BEGIN:VCALENDAR
VERSION:2.0
PRODID:-//hacksw/handcal//NONSGML v1.0//EN
CALSCALE:GREGORIAN
BEGIN:VTIMEZONE
TZID:Europe/Berlin
X-LIC-LOCATION:Europe/Berlin
BEGIN:DAYLIGHT
TZOFFSETFROM:+0100
TZOFFSETTO:+0200
TZNAME:CEST
DTSTART:19700329T020000
RRULE:FREQ=YEARLY;BYDAY=-1SU;BYMONTH=3
END:DAYLIGHT
BEGIN:STANDARD
TZOFFSETFROM:+0200
TZOFFSETTO:+0100
TZNAME:CET
DTSTART:19701025T030000
RRULE:FREQ=YEARLY;BYDAY=-1SU;BYMONTH=10
END:STANDARD
END:VTIMEZONE
BEGIN:VEVENT
DTEND;TZID=Europe/Berlin:20251023T170000
UID:69ea5da6c2d2f
DTSTAMP:20260423T195758
LOCATION:Iffothek Medienhaus Iffezheim
DESCRIPTION:In der Forscherbande gehen wir spannenden Fragen nach und entdecken gemeinsam die Naturwissenschaften.\r\n\r\nWir experimentieren\, erkunden das Weltall\, schauen durchs Mikroskop winzige Dinge an\, lernen Moleküle und Elemente kennen und beschäftigen uns mit Klima und Umwelt. Dabei lernen wir\, wie man forscht\, spannende Experimente macht und mit echten Fakten die Welt besser versteht.\r\n\r\nWenn du 8 bis 10 Jahre alt bist\, großes Interesse an Naturwissenschaften hast und den Dingen gerne auf den Grund gehen möchtest\, dann werde für ein Jahr einmal monatlich Teil der Forscherbande und entdecke die Welt mit Forscheraugen!
URL;VALUE=URI:https://www.unser-ferienprogramm.de/iffezheim/veranstaltung.php?id=292142
SUMMARY:Forscherbande
DTSTART;TZID=Europe/Berlin:20251023T153000
END:VEVENT


BEGIN:VEVENT
DTEND;TZID=Europe/Berlin:20251113T170000
UID:69ea5da6c2d481
DTSTAMP:20260423T195758
LOCATION:Iffothek Medienhaus Iffezheim
DESCRIPTION:In der Forscherbande gehen wir spannenden Fragen nach und entdecken gemeinsam die Naturwissenschaften.\r\n\r\nWir experimentieren\, erkunden das Weltall\, schauen durchs Mikroskop winzige Dinge an\, lernen Moleküle und Elemente kennen und beschäftigen uns mit Klima und Umwelt. Dabei lernen wir\, wie man forscht\, spannende Experimente macht und mit echten Fakten die Welt besser versteht.\r\n\r\nWenn du 8 bis 10 Jahre alt bist\, großes Interesse an Naturwissenschaften hast und den Dingen gerne auf den Grund gehen möchtest\, dann werde für ein Jahr einmal monatlich Teil der Forscherbande und entdecke die Welt mit Forscheraugen!
URL;VALUE=URI:https://www.unser-ferienprogramm.de/iffezheim/veranstaltung.php?id=292142
SUMMARY:Forscherbande
DTSTART;TZID=Europe/Berlin:20251113T153000
END:VEVENT


BEGIN:VEVENT
DTEND;TZID=Europe/Berlin:20251218T170000
UID:69ea5da6c2d562
DTSTAMP:20260423T195758
LOCATION:Iffothek Medienhaus Iffezheim
DESCRIPTION:In der Forscherbande gehen wir spannenden Fragen nach und entdecken gemeinsam die Naturwissenschaften.\r\n\r\nWir experimentieren\, erkunden das Weltall\, schauen durchs Mikroskop winzige Dinge an\, lernen Moleküle und Elemente kennen und beschäftigen uns mit Klima und Umwelt. Dabei lernen wir\, wie man forscht\, spannende Experimente macht und mit echten Fakten die Welt besser versteht.\r\n\r\nWenn du 8 bis 10 Jahre alt bist\, großes Interesse an Naturwissenschaften hast und den Dingen gerne auf den Grund gehen möchtest\, dann werde für ein Jahr einmal monatlich Teil der Forscherbande und entdecke die Welt mit Forscheraugen!
URL;VALUE=URI:https://www.unser-ferienprogramm.de/iffezheim/veranstaltung.php?id=292142
SUMMARY:Forscherbande
DTSTART;TZID=Europe/Berlin:20251218T153000
END:VEVENT


BEGIN:VEVENT
DTEND;TZID=Europe/Berlin:20260115T170000
UID:69ea5da6c2d613
DTSTAMP:20260423T195758
LOCATION:Iffothek Medienhaus Iffezheim
DESCRIPTION:In der Forscherbande gehen wir spannenden Fragen nach und entdecken gemeinsam die Naturwissenschaften.\r\n\r\nWir experimentieren\, erkunden das Weltall\, schauen durchs Mikroskop winzige Dinge an\, lernen Moleküle und Elemente kennen und beschäftigen uns mit Klima und Umwelt. Dabei lernen wir\, wie man forscht\, spannende Experimente macht und mit echten Fakten die Welt besser versteht.\r\n\r\nWenn du 8 bis 10 Jahre alt bist\, großes Interesse an Naturwissenschaften hast und den Dingen gerne auf den Grund gehen möchtest\, dann werde für ein Jahr einmal monatlich Teil der Forscherbande und entdecke die Welt mit Forscheraugen!
URL;VALUE=URI:https://www.unser-ferienprogramm.de/iffezheim/veranstaltung.php?id=292142
SUMMARY:Forscherbande
DTSTART;TZID=Europe/Berlin:20260115T153000
END:VEVENT


BEGIN:VEVENT
DTEND;TZID=Europe/Berlin:20260205T170000
UID:69ea5da6c2d6c4
DTSTAMP:20260423T195758
LOCATION:Iffothek Medienhaus Iffezheim
DESCRIPTION:In der Forscherbande gehen wir spannenden Fragen nach und entdecken gemeinsam die Naturwissenschaften.\r\n\r\nWir experimentieren\, erkunden das Weltall\, schauen durchs Mikroskop winzige Dinge an\, lernen Moleküle und Elemente kennen und beschäftigen uns mit Klima und Umwelt. Dabei lernen wir\, wie man forscht\, spannende Experimente macht und mit echten Fakten die Welt besser versteht.\r\n\r\nWenn du 8 bis 10 Jahre alt bist\, großes Interesse an Naturwissenschaften hast und den Dingen gerne auf den Grund gehen möchtest\, dann werde für ein Jahr einmal monatlich Teil der Forscherbande und entdecke die Welt mit Forscheraugen!
URL;VALUE=URI:https://www.unser-ferienprogramm.de/iffezheim/veranstaltung.php?id=292142
SUMMARY:Forscherbande
DTSTART;TZID=Europe/Berlin:20260205T153000
END:VEVENT


BEGIN:VEVENT
DTEND;TZID=Europe/Berlin:20260312T170000
UID:69ea5da6c2d755
DTSTAMP:20260423T195758
LOCATION:Iffothek Medienhaus Iffezheim
DESCRIPTION:In der Forscherbande gehen wir spannenden Fragen nach und entdecken gemeinsam die Naturwissenschaften.\r\n\r\nWir experimentieren\, erkunden das Weltall\, schauen durchs Mikroskop winzige Dinge an\, lernen Moleküle und Elemente kennen und beschäftigen uns mit Klima und Umwelt. Dabei lernen wir\, wie man forscht\, spannende Experimente macht und mit echten Fakten die Welt besser versteht.\r\n\r\nWenn du 8 bis 10 Jahre alt bist\, großes Interesse an Naturwissenschaften hast und den Dingen gerne auf den Grund gehen möchtest\, dann werde für ein Jahr einmal monatlich Teil der Forscherbande und entdecke die Welt mit Forscheraugen!
URL;VALUE=URI:https://www.unser-ferienprogramm.de/iffezheim/veranstaltung.php?id=292142
SUMMARY:Forscherbande
DTSTART;TZID=Europe/Berlin:20260312T153000
END:VEVENT


BEGIN:VEVENT
DTEND;TZID=Europe/Berlin:20260416T170000
UID:69ea5da6c2d7e6
DTSTAMP:20260423T195758
LOCATION:Iffothek Medienhaus Iffezheim
DESCRIPTION:In der Forscherbande gehen wir spannenden Fragen nach und entdecken gemeinsam die Naturwissenschaften.\r\n\r\nWir experimentieren\, erkunden das Weltall\, schauen durchs Mikroskop winzige Dinge an\, lernen Moleküle und Elemente kennen und beschäftigen uns mit Klima und Umwelt. Dabei lernen wir\, wie man forscht\, spannende Experimente macht und mit echten Fakten die Welt besser versteht.\r\n\r\nWenn du 8 bis 10 Jahre alt bist\, großes Interesse an Naturwissenschaften hast und den Dingen gerne auf den Grund gehen möchtest\, dann werde für ein Jahr einmal monatlich Teil der Forscherbande und entdecke die Welt mit Forscheraugen!
URL;VALUE=URI:https://www.unser-ferienprogramm.de/iffezheim/veranstaltung.php?id=292142
SUMMARY:Forscherbande
DTSTART;TZID=Europe/Berlin:20260416T153000
END:VEVENT


BEGIN:VEVENT
DTEND;TZID=Europe/Berlin:20260507T170000
UID:69ea5da6c2d877
DTSTAMP:20260423T195758
LOCATION:Iffothek Medienhaus Iffezheim
DESCRIPTION:In der Forscherbande gehen wir spannenden Fragen nach und entdecken gemeinsam die Naturwissenschaften.\r\n\r\nWir experimentieren\, erkunden das Weltall\, schauen durchs Mikroskop winzige Dinge an\, lernen Moleküle und Elemente kennen und beschäftigen uns mit Klima und Umwelt. Dabei lernen wir\, wie man forscht\, spannende Experimente macht und mit echten Fakten die Welt besser versteht.\r\n\r\nWenn du 8 bis 10 Jahre alt bist\, großes Interesse an Naturwissenschaften hast und den Dingen gerne auf den Grund gehen möchtest\, dann werde für ein Jahr einmal monatlich Teil der Forscherbande und entdecke die Welt mit Forscheraugen!
URL;VALUE=URI:https://www.unser-ferienprogramm.de/iffezheim/veranstaltung.php?id=292142
SUMMARY:Forscherbande
DTSTART;TZID=Europe/Berlin:20260507T153000
END:VEVENT


BEGIN:VEVENT
DTEND;TZID=Europe/Berlin:20260618T170000
UID:69ea5da6c2d918
DTSTAMP:20260423T195758
LOCATION:Iffothek Medienhaus Iffezheim
DESCRIPTION:In der Forscherbande gehen wir spannenden Fragen nach und entdecken gemeinsam die Naturwissenschaften.\r\n\r\nWir experimentieren\, erkunden das Weltall\, schauen durchs Mikroskop winzige Dinge an\, lernen Moleküle und Elemente kennen und beschäftigen uns mit Klima und Umwelt. Dabei lernen wir\, wie man forscht\, spannende Experimente macht und mit echten Fakten die Welt besser versteht.\r\n\r\nWenn du 8 bis 10 Jahre alt bist\, großes Interesse an Naturwissenschaften hast und den Dingen gerne auf den Grund gehen möchtest\, dann werde für ein Jahr einmal monatlich Teil der Forscherbande und entdecke die Welt mit Forscheraugen!
URL;VALUE=URI:https://www.unser-ferienprogramm.de/iffezheim/veranstaltung.php?id=292142
SUMMARY:Forscherbande
DTSTART;TZID=Europe/Berlin:20260618T153000
END:VEVENT


BEGIN:VEVENT
DTEND;TZID=Europe/Berlin:20260716T170000
UID:69ea5da6c2d9a9
DTSTAMP:20260423T195758
LOCATION:Iffothek Medienhaus Iffezheim
DESCRIPTION:In der Forscherbande gehen wir spannenden Fragen nach und entdecken gemeinsam die Naturwissenschaften.\r\n\r\nWir experimentieren\, erkunden das Weltall\, schauen durchs Mikroskop winzige Dinge an\, lernen Moleküle und Elemente kennen und beschäftigen uns mit Klima und Umwelt. Dabei lernen wir\, wie man forscht\, spannende Experimente macht und mit echten Fakten die Welt besser versteht.\r\n\r\nWenn du 8 bis 10 Jahre alt bist\, großes Interesse an Naturwissenschaften hast und den Dingen gerne auf den Grund gehen möchtest\, dann werde für ein Jahr einmal monatlich Teil der Forscherbande und entdecke die Welt mit Forscheraugen!
URL;VALUE=URI:https://www.unser-ferienprogramm.de/iffezheim/veranstaltung.php?id=292142
SUMMARY:Forscherbande
DTSTART;TZID=Europe/Berlin:20260716T153000
END:VEVENT

END:VCALENDAR
