BEGIN:VCALENDAR
VERSION:2.0
PRODID:-//hacksw/handcal//NONSGML v1.0//EN
CALSCALE:GREGORIAN
BEGIN:VTIMEZONE
TZID:Europe/Berlin
X-LIC-LOCATION:Europe/Berlin
BEGIN:DAYLIGHT
TZOFFSETFROM:+0100
TZOFFSETTO:+0200
TZNAME:CEST
DTSTART:19700329T020000
RRULE:FREQ=YEARLY;BYDAY=-1SU;BYMONTH=3
END:DAYLIGHT
BEGIN:STANDARD
TZOFFSETFROM:+0200
TZOFFSETTO:+0100
TZNAME:CET
DTSTART:19701025T030000
RRULE:FREQ=YEARLY;BYDAY=-1SU;BYMONTH=10
END:STANDARD
END:VTIMEZONE
BEGIN:VEVENT
DTEND;TZID=Europe/Berlin:20260814T170000
UID:69e9b2474bb1b
DTSTAMP:20260423T074647
LOCATION:Mittelschule Hösbach
DESCRIPTION:In der Mittelschule Hösbach wird eine Woche lang eine eigene Stadt errichtet - mit allem was dazu gehört!\r\nMit einer richtigen Bürgermeisterwahl\, täglichen Bürgerversammlungen und wechselnden Jobs. Es werden Tätigkeiten im Rathaus\, dem Planungsamt\, der Küche\, der Handwerkskammer oder der Stadtzeitung ausprobiert.\r\nZ.B. wird in der Küche das Snacks vorbereitet oder gebacken\, in der Handwerkskammer ist deine Kreativität gefragt und im Planungsbüro des Rathauses wird die Stadt geplant  (so richtig mit Namen\, Wappen und Fahne) der in der Stadtzeitung das Tagesblättchen gestaltet.\r\n\r\n\r\nFür die Aufgaben am Morgen bekommst du Häisbische Taler\, mit denen du nach dem warmen Mittagessen\, coole Aktionen bezahlen kannst. Zum Beispiel kannst du ins Kino gehen\, T-Shirts bemalen\, den Kiosk besuchen\, an Aktionen wie einem Fußballturnier teilnehmen\, an einem Ausflug zum Spielplatz teilnehmen oder in einem Verein\, wie bei der Feuerwehr aktiv werden.\r\nAm Samstag werden wir vormittags ein Stadtfest planen. Am Freitagnachmittag dürfen dann eure Eltern eure Stadt auf dem Stadtfest besuchen und eure Ergebnisse der Woche anschauen.
URL;VALUE=URI:https://www.unser-ferienprogramm.de/hoesbach/veranstaltung.php?id=303349
SUMMARY:Betreuungswoche Spielestadt 
DTSTART;TZID=Europe/Berlin:20260810T073000
END:VEVENT

END:VCALENDAR
