BEGIN:VCALENDAR
VERSION:2.0
PRODID:-//hacksw/handcal//NONSGML v1.0//EN
CALSCALE:GREGORIAN
BEGIN:VTIMEZONE
TZID:Europe/Berlin
X-LIC-LOCATION:Europe/Berlin
BEGIN:DAYLIGHT
TZOFFSETFROM:+0100
TZOFFSETTO:+0200
TZNAME:CEST
DTSTART:19700329T020000
RRULE:FREQ=YEARLY;BYDAY=-1SU;BYMONTH=3
END:DAYLIGHT
BEGIN:STANDARD
TZOFFSETFROM:+0200
TZOFFSETTO:+0100
TZNAME:CET
DTSTART:19701025T030000
RRULE:FREQ=YEARLY;BYDAY=-1SU;BYMONTH=10
END:STANDARD
END:VTIMEZONE
BEGIN:VEVENT
DTEND;TZID=Europe/Berlin:20260306T213000
UID:69e9df17a6495
DTSTAMP:20260423T105759
LOCATION:Bürgersaal Hösbach
DESCRIPTION:Wenn Ihr Kind an der Veranstaltung teilnehmen möchte\, melden Sie es bitte an\, da dies für unsere Planung sehr wichtig ist.\r\nFür Sie entstehen keine Kosten\, da es sich um ein kostenloses Angebot handelt.\r\nAlternativ können Sie Ihr Kind auch per E-Mail an jugendpflege@hoesbach.de\r\nanmelden\, falls Sie keinen NUPIAN-Account haben oder diesen nicht nutzen möchten.\r\n\r\nDanke für ihr Verständnis!
URL;VALUE=URI:https://www.unser-ferienprogramm.de/hoesbach/veranstaltung.php?id=302919
SUMMARY:Kino im Bürgersaal ABGESAGT
DTSTART;TZID=Europe/Berlin:20260306T193000
END:VEVENT

END:VCALENDAR
