BEGIN:VCALENDAR
VERSION:2.0
PRODID:-//hacksw/handcal//NONSGML v1.0//EN
CALSCALE:GREGORIAN
BEGIN:VTIMEZONE
TZID:Europe/Berlin
X-LIC-LOCATION:Europe/Berlin
BEGIN:DAYLIGHT
TZOFFSETFROM:+0100
TZOFFSETTO:+0200
TZNAME:CEST
DTSTART:19700329T020000
RRULE:FREQ=YEARLY;BYDAY=-1SU;BYMONTH=3
END:DAYLIGHT
BEGIN:STANDARD
TZOFFSETFROM:+0200
TZOFFSETTO:+0100
TZNAME:CET
DTSTART:19701025T030000
RRULE:FREQ=YEARLY;BYDAY=-1SU;BYMONTH=10
END:STANDARD
END:VTIMEZONE
BEGIN:VEVENT
DTEND;TZID=Europe/Berlin:20260607T133000
UID:69e9b130c6cb8
DTSTAMP:20260423T074208
LOCATION:Burgruine Wildenstein (bei Eschau)
DESCRIPTION:Zwei Nächte draußen. Kein Komfort. Echte Erfahrung.\r\n\r\nErlebe zwei Nächte in der Natur – nur du\, die Gruppe und ein Kompass\, der euch den Weg zu einer verlassenen Ruine weist.\r\nGeschlafen wird unter freiem Himmel\, fernab von Zivilisation und gewohnten Sicherheiten.\r\n\r\nFür Wärme und eine warme Mahlzeit braucht es Feuer. Ein Feuerzeug gibt es nicht.\r\nEine Axt steht zur Verfügung – doch Feuerholz finden\, Zunder sammeln und ein Feuer entfachen wird zur gemeinsamen Aufgabe.\r\n\r\nUnterwegs entdeckt ihr vielleicht essbare Wildpflanzen\, aus denen sich ein Tee zubereiten lässt.\r\nDoch eine zentrale Frage bleibt: Woher kommt sauberes Trinkwasser?\r\nSchafft ihr es\, mit einfachen Mitteln einen funktionierenden Wasserfilter zu bauen?\r\n\r\nIst dieses Szenario realistisch – oder stoßen selbst wir gemeinsam mit Outdoor-Experte Matthias Richter an unsere Grenzen?\r\n\r\nZwei Nächte unter dem offenen Himmel bedeuten Verzicht\, Teamarbeit und intensive Naturerfahrung.\r\nWie fühlt es sich an\, wenn das Wesentliche plötzlich zählt?\r\n\r\nLasst es uns herausfinden.\r\n
URL;VALUE=URI:https://www.unser-ferienprogramm.de/hoesbach/veranstaltung.php?id=302850
SUMMARY:Ab in die Wildnis -Hösbach spezial
DTSTART;TZID=Europe/Berlin:20260605T170000
END:VEVENT

END:VCALENDAR
