BEGIN:VCALENDAR
VERSION:2.0
PRODID:-//hacksw/handcal//NONSGML v1.0//EN
CALSCALE:GREGORIAN
BEGIN:VTIMEZONE
TZID:Europe/Berlin
X-LIC-LOCATION:Europe/Berlin
BEGIN:DAYLIGHT
TZOFFSETFROM:+0100
TZOFFSETTO:+0200
TZNAME:CEST
DTSTART:19700329T020000
RRULE:FREQ=YEARLY;BYDAY=-1SU;BYMONTH=3
END:DAYLIGHT
BEGIN:STANDARD
TZOFFSETFROM:+0200
TZOFFSETTO:+0100
TZNAME:CET
DTSTART:19701025T030000
RRULE:FREQ=YEARLY;BYDAY=-1SU;BYMONTH=10
END:STANDARD
END:VTIMEZONE
BEGIN:VEVENT
DTEND;TZID=Europe/Berlin:20260220T170000
UID:69e9e0e820fc4
DTSTAMP:20260423T110544
LOCATION:Kultur- und Sportpark Hösbach
DESCRIPTION:An diesen Tagen dreht sich alles um das Spielen!\r\nEgal ob Gesellschafts-\, Brett- oder Kartenspiele – hier ist für Groß und Klein etwas dabei.\r\nDie Spiele sind für alle Altersgruppen geeignet\, von Krippenkindern bis ins Erwachsenenalter\, und können an diesen Tagen ganz unkompliziert ausprobiert und gespielt werden.\r\n\r\nAußerdem gibt es einen Spiele-Tausch-Basar:\r\nBring gerne ein altes Spiel von dir mit und tausche es gegen eines der beim Tauschbasar ausgelegten Spiele.\r\n\r\nZusätzlich erwarten euch eine Tombola\, bei der jedes Los gewinnt\, eine Hüpfburg sowie Kinderschminken.
URL;VALUE=URI:https://www.unser-ferienprogramm.de/hoesbach/veranstaltung.php?id=300899
SUMMARY:Familienspieletage
DTSTART;TZID=Europe/Berlin:20260220T110000
END:VEVENT

END:VCALENDAR
