BEGIN:VCALENDAR
VERSION:2.0
PRODID:-//hacksw/handcal//NONSGML v1.0//EN
CALSCALE:GREGORIAN
BEGIN:VTIMEZONE
TZID:Europe/Berlin
X-LIC-LOCATION:Europe/Berlin
BEGIN:DAYLIGHT
TZOFFSETFROM:+0100
TZOFFSETTO:+0200
TZNAME:CEST
DTSTART:19700329T020000
RRULE:FREQ=YEARLY;BYDAY=-1SU;BYMONTH=3
END:DAYLIGHT
BEGIN:STANDARD
TZOFFSETFROM:+0200
TZOFFSETTO:+0100
TZNAME:CET
DTSTART:19701025T030000
RRULE:FREQ=YEARLY;BYDAY=-1SU;BYMONTH=10
END:STANDARD
END:VTIMEZONE
BEGIN:VEVENT
DTEND;TZID=Europe/Berlin:20260527T130000
UID:69e9b1010ad56
DTSTAMP:20260423T074121
LOCATION:BonBonwerkstatt Dreieich
DESCRIPTION:Wir fahren zusammen in die Bonbonwerkstatt und dürfen dort hinter die Kulissen schauen.\r\nWie werden Bonbons eigentlich hergestellt und aus welchen Zutaten bestehen sie? All das und noch viel mehr werden wir vor Ort erfahren.\r\nDas aller coolste an der Sache: Wir werden unsere eigenen Bonbons herstellen!
URL;VALUE=URI:https://www.unser-ferienprogramm.de/hoesbach/veranstaltung.php?id=298197
SUMMARY:BonBon Werkstatt
DTSTART;TZID=Europe/Berlin:20260527T090000
END:VEVENT

END:VCALENDAR
