BEGIN:VCALENDAR
VERSION:2.0
PRODID:-//hacksw/handcal//NONSGML v1.0//EN
CALSCALE:GREGORIAN
BEGIN:VTIMEZONE
TZID:Europe/Berlin
X-LIC-LOCATION:Europe/Berlin
BEGIN:DAYLIGHT
TZOFFSETFROM:+0100
TZOFFSETTO:+0200
TZNAME:CEST
DTSTART:19700329T020000
RRULE:FREQ=YEARLY;BYDAY=-1SU;BYMONTH=3
END:DAYLIGHT
BEGIN:STANDARD
TZOFFSETFROM:+0200
TZOFFSETTO:+0100
TZNAME:CET
DTSTART:19701025T030000
RRULE:FREQ=YEARLY;BYDAY=-1SU;BYMONTH=10
END:STANDARD
END:VTIMEZONE
BEGIN:VEVENT
DTEND;TZID=Europe/Berlin:20260807T140000
UID:69e76c0923a2c
DTSTAMP:20260421T142233
LOCATION:Von-Thünen-Str. 7\, 31135 Hildesheim
DESCRIPTION:Der Akki verwandelt sich für eine Woche in einen Ort vielfältiger Angebote\, in die du dich mit deinen\r\nInteressen einbringen kannst.\r\nProbiere dich in kreativen\, künstlerischen\, handwerklichen und sportlichen Workshops aus und verbringe aufregende Tage bei uns.\r\n\r\nUnsere diesjährigen Betreuungswochen ab August 2026 werden vor allem für Kinder im Grundschulalter und Kinder\, die eingeschult werden angeboten. Dies betrifft also die Betreuungswoche „Akki-Kreativ-Basar“ auf dem Aktivspielplatz sowie den 5-tägigen „Theaterworkshop“ im Kinder- und Jugendhaus Drispenstedt.\r\nWir freuen uns darauf Familien entsprechend ihres gesetzlichen Anspruchs für eine Betreuung in den Ferien (GaFöG) zu unterstützen. Im Schuljahr 26/27 gilt der Anspruch für Kinder in Klasse 1.\r\n\r\n\r\n\r\n\r\n
URL;VALUE=URI:https://www.unser-ferienprogramm.de/hildesheim/veranstaltung.php?id=149890
SUMMARY:Betreuungswoche: Akki-Kreativ-Basar
DTSTART;TZID=Europe/Berlin:20260803T080000
END:VEVENT

END:VCALENDAR
