BEGIN:VCALENDAR
VERSION:2.0
PRODID:-//hacksw/handcal//NONSGML v1.0//EN
CALSCALE:GREGORIAN
BEGIN:VTIMEZONE
TZID:Europe/Berlin
X-LIC-LOCATION:Europe/Berlin
BEGIN:DAYLIGHT
TZOFFSETFROM:+0100
TZOFFSETTO:+0200
TZNAME:CEST
DTSTART:19700329T020000
RRULE:FREQ=YEARLY;BYDAY=-1SU;BYMONTH=3
END:DAYLIGHT
BEGIN:STANDARD
TZOFFSETFROM:+0200
TZOFFSETTO:+0100
TZNAME:CET
DTSTART:19701025T030000
RRULE:FREQ=YEARLY;BYDAY=-1SU;BYMONTH=10
END:STANDARD
END:VTIMEZONE
BEGIN:VEVENT
DTEND;TZID=Europe/Berlin:20250814T110000
UID:69e5faa9672fd
DTSTAMP:20260420T120633
LOCATION:Winkelhof Steinsbrunn 3\, 88633 Heiligenberg
DESCRIPTION:Mein Bauernhoferlebnis- Tiere streicheln\, füttern\, frische Eier holen und in der Heuhüpfburg toben – ein unvergesslicher Vormittag auf dem Bauernhof wartet auf alle kleinen Abenteurer
URL;VALUE=URI:https://www.unser-ferienprogramm.de/heiligenberg/veranstaltung.php?id=286387
SUMMARY:Mein Bauernhoferlebnis
DTSTART;TZID=Europe/Berlin:20250814T090000
END:VEVENT

END:VCALENDAR
