BEGIN:VCALENDAR
VERSION:2.0
PRODID:-//hacksw/handcal//NONSGML v1.0//EN
CALSCALE:GREGORIAN
BEGIN:VTIMEZONE
TZID:Europe/Berlin
X-LIC-LOCATION:Europe/Berlin
BEGIN:DAYLIGHT
TZOFFSETFROM:+0100
TZOFFSETTO:+0200
TZNAME:CEST
DTSTART:19700329T020000
RRULE:FREQ=YEARLY;BYDAY=-1SU;BYMONTH=3
END:DAYLIGHT
BEGIN:STANDARD
TZOFFSETFROM:+0200
TZOFFSETTO:+0100
TZNAME:CET
DTSTART:19701025T030000
RRULE:FREQ=YEARLY;BYDAY=-1SU;BYMONTH=10
END:STANDARD
END:VTIMEZONE
BEGIN:VEVENT
DTEND;TZID=Europe/Berlin:20250828T180000
UID:69e60fe89c913
DTSTAMP:20260420T133712
LOCATION:Grundschule Heiligenberg
DESCRIPTION:Lust auf Abenteuer an der frischen Luft? Dann bist du bei unserer Garten-Gaudi genau richtig! Gemeinsam machen wir unseren Garten unsicher – mit Spielen\, kleinen Entdecker-Missionen und vielen spannenden Aktionen rund um Pflanzen\, Tiere und Natur.\r\n\r\nWir basteln mit\, spielen lustige Garten- und Bewegungsspiele und erleben jede Menge Spaß im Grünen. Zum krönenden Abschluss wird am Lagerfeuer gegrillt.
URL;VALUE=URI:https://www.unser-ferienprogramm.de/heiligenberg/veranstaltung.php?id=285224
SUMMARY:Garten-Gaudi
DTSTART;TZID=Europe/Berlin:20250828T143000
END:VEVENT

END:VCALENDAR
