BEGIN:VCALENDAR
VERSION:2.0
PRODID:-//hacksw/handcal//NONSGML v1.0//EN
CALSCALE:GREGORIAN
BEGIN:VTIMEZONE
TZID:Europe/Berlin
X-LIC-LOCATION:Europe/Berlin
BEGIN:DAYLIGHT
TZOFFSETFROM:+0100
TZOFFSETTO:+0200
TZNAME:CEST
DTSTART:19700329T020000
RRULE:FREQ=YEARLY;BYDAY=-1SU;BYMONTH=3
END:DAYLIGHT
BEGIN:STANDARD
TZOFFSETFROM:+0200
TZOFFSETTO:+0100
TZNAME:CET
DTSTART:19701025T030000
RRULE:FREQ=YEARLY;BYDAY=-1SU;BYMONTH=10
END:STANDARD
END:VTIMEZONE
BEGIN:VEVENT
DTEND;TZID=Europe/Berlin:20250829T180000
UID:69e5fabbadb4c
DTSTAMP:20260420T120651
LOCATION:Betenbrunn an der Kirche
DESCRIPTION:Waldentdecker – Abenteuer in der Natur!\r\n\r\nBist du bereit für ein Abenteuer? Dann komm mit uns – wir werden zu echten Waldentdeckern! Gemeinsam streifen wir durch den Wald\, lauschen den Vogelstimmen\, suchen Tierspuren und entdecken geheime Plätze zwischen Bäumen und Büschen.\r\n\r\nIn unserem Ferienprogramm lernst du spannende Dinge über den Wald:\r\nWelche Bäume wachsen hier?\r\nWelche Tiere leben im Unterholz?\r\nWelche Pilze und Pflanzen kann man finden – und was sollte man besser nicht anfassen?\r\n\r\nJeder Tag steckt voller Überraschungen – und vielleicht begegnen wir sogar einem Reh\, einem Eichhörnchen oder einem Fuchs!
URL;VALUE=URI:https://www.unser-ferienprogramm.de/heiligenberg/veranstaltung.php?id=284868
SUMMARY:Waldentdecker
DTSTART;TZID=Europe/Berlin:20250829T133000
END:VEVENT

END:VCALENDAR
