BEGIN:VCALENDAR
VERSION:2.0
PRODID:-//hacksw/handcal//NONSGML v1.0//EN
CALSCALE:GREGORIAN
BEGIN:VTIMEZONE
TZID:Europe/Berlin
X-LIC-LOCATION:Europe/Berlin
BEGIN:DAYLIGHT
TZOFFSETFROM:+0100
TZOFFSETTO:+0200
TZNAME:CEST
DTSTART:19700329T020000
RRULE:FREQ=YEARLY;BYDAY=-1SU;BYMONTH=3
END:DAYLIGHT
BEGIN:STANDARD
TZOFFSETFROM:+0200
TZOFFSETTO:+0100
TZNAME:CET
DTSTART:19701025T030000
RRULE:FREQ=YEARLY;BYDAY=-1SU;BYMONTH=10
END:STANDARD
END:VTIMEZONE
BEGIN:VEVENT
DTEND;TZID=Europe/Berlin:20250821T160000
UID:69e5fd188ce0a
DTSTAMP:20260420T121656
LOCATION:Grundschule Heiligenberg - Musikraum
DESCRIPTION:Tauche ein in eine Welt voller Musik\, Magie und Fantasie! In unserem musikalischen Märchen erwecken wir mit Tönen\, Klängen und Bewegung eine ganz besondere Geschichte zum Leben.\r\n\r\nGemeinsam erfinden wir ein Märchen\, gestalten Kostüme\, basteln einfache Requisiten – und begleiten die Geschichte mit Musik und Geräuschen\, die wir selbst machen! Ob mit Instrumenten\, Alltagsgegenständen oder der eigenen Stimme: Jeder kann mitmachen und ein Teil des Märchens sein.\r\n\r\nAm Ende führen wir unser kleines Klangmärchen sogar auf – für uns selbst\, unsere Freunde oder die Familie! 
URL;VALUE=URI:https://www.unser-ferienprogramm.de/heiligenberg/veranstaltung.php?id=282611
SUMMARY:Ein musikalisches Märchen 
DTSTART;TZID=Europe/Berlin:20250821T140000
END:VEVENT

END:VCALENDAR
