BEGIN:VCALENDAR
VERSION:2.0
PRODID:-//hacksw/handcal//NONSGML v1.0//EN
CALSCALE:GREGORIAN
BEGIN:VTIMEZONE
TZID:Europe/Berlin
X-LIC-LOCATION:Europe/Berlin
BEGIN:DAYLIGHT
TZOFFSETFROM:+0100
TZOFFSETTO:+0200
TZNAME:CEST
DTSTART:19700329T020000
RRULE:FREQ=YEARLY;BYDAY=-1SU;BYMONTH=3
END:DAYLIGHT
BEGIN:STANDARD
TZOFFSETFROM:+0200
TZOFFSETTO:+0100
TZNAME:CET
DTSTART:19701025T030000
RRULE:FREQ=YEARLY;BYDAY=-1SU;BYMONTH=10
END:STANDARD
END:VTIMEZONE
BEGIN:VEVENT
DTEND;TZID=Europe/Berlin:20250818T190000
UID:69e60fe95b85e
DTSTAMP:20260420T133713
LOCATION:Halle am Segelflugplatz Heiligenberg
DESCRIPTION:Es geht hoch hinaus!\r\nNach einer Einführung übers Segelfliegen und das Verhalten am Flugplatz geht es aber in die Lüfte!\r\nJeder Teilnehmer bekommt einen Segelflugstart an der Winde. Dauer je nach Thermik zwischen 5 und 20 Minuten.
URL;VALUE=URI:https://www.unser-ferienprogramm.de/heiligenberg/veranstaltung.php?id=279945
SUMMARY:Faszination Segelflug
DTSTART;TZID=Europe/Berlin:20250818T100000
END:VEVENT

END:VCALENDAR
