BEGIN:VCALENDAR
VERSION:2.0
PRODID:-//hacksw/handcal//NONSGML v1.0//EN
CALSCALE:GREGORIAN
BEGIN:VTIMEZONE
TZID:Europe/Berlin
X-LIC-LOCATION:Europe/Berlin
BEGIN:DAYLIGHT
TZOFFSETFROM:+0100
TZOFFSETTO:+0200
TZNAME:CEST
DTSTART:19700329T020000
RRULE:FREQ=YEARLY;BYDAY=-1SU;BYMONTH=3
END:DAYLIGHT
BEGIN:STANDARD
TZOFFSETFROM:+0200
TZOFFSETTO:+0100
TZNAME:CET
DTSTART:19701025T030000
RRULE:FREQ=YEARLY;BYDAY=-1SU;BYMONTH=10
END:STANDARD
END:VTIMEZONE
BEGIN:VEVENT
DTEND;TZID=Europe/Berlin:20250826T120000
UID:69e60fe790942
DTSTAMP:20260420T133711
LOCATION:Freibad Heiligenberg
DESCRIPTION:Unter dem Motto "Ab ins Wasser" erwartet Euch ein vielseitiges und abwechslungsreiches Angebot an Attraktionen und Spielzeugen im Heiligenberger Freibad. \r\nSpiel\, Spaß und soziale Interaktionen mit anderen Kindern bietet unser Spieletag für Kinder von 6 bis 12 Jahren.
URL;VALUE=URI:https://www.unser-ferienprogramm.de/heiligenberg/veranstaltung.php?id=279943
SUMMARY:Ab ins Wasser
DTSTART;TZID=Europe/Berlin:20250826T100000
END:VEVENT

END:VCALENDAR
