BEGIN:VCALENDAR
VERSION:2.0
PRODID:-//hacksw/handcal//NONSGML v1.0//EN
CALSCALE:GREGORIAN
BEGIN:VTIMEZONE
TZID:Europe/Berlin
X-LIC-LOCATION:Europe/Berlin
BEGIN:DAYLIGHT
TZOFFSETFROM:+0100
TZOFFSETTO:+0200
TZNAME:CEST
DTSTART:19700329T020000
RRULE:FREQ=YEARLY;BYDAY=-1SU;BYMONTH=3
END:DAYLIGHT
BEGIN:STANDARD
TZOFFSETFROM:+0200
TZOFFSETTO:+0100
TZNAME:CET
DTSTART:19701025T030000
RRULE:FREQ=YEARLY;BYDAY=-1SU;BYMONTH=10
END:STANDARD
END:VTIMEZONE
BEGIN:VEVENT
DTEND;TZID=Europe/Berlin:20250816T180000
UID:69e5fc99a298c
DTSTAMP:20260420T121449
LOCATION:Fußballplatz Heiligenberg Sportheim
DESCRIPTION:Du liebst Abenteuer\, Rätsel und Technik? Dann ist unsere Fuchsjagd mit Peilempfänger genau das Richtige für dich!\r\n\r\nMit einem echten Peilempfänger gehst du auf die Suche nach dem „Fuchs“ – einem versteckten Sender\, der geheimnisvolle Signale aussendet. Wie kleine Detektive folgen wir den Spuren quer durchs Gelände\, durch Wiesen\, Büsche und geheime Verstecke. Wer findet den Fuchs am schnellsten?\r\n\r\nBevor es losgeht\, bekommst du natürlich eine deutliche Einweisung in die Geräte und die Regeln – damit alle sicher unterwegs sind und wissen\, worauf es ankommt.\r\n\r\nGanz nebenbei lernst du\, wie Funktechnik funktioniert und wie man mit einfachen Geräten auf Schatzsuche geht – ein spannender Mix aus Natur\, Technik und Teamgeist!\r\n\r\nZum Abschluss gibt es eine feierliche Siegerehrung 
URL;VALUE=URI:https://www.unser-ferienprogramm.de/heiligenberg/veranstaltung.php?id=279937
SUMMARY:Fuchsjagd mit Peilempfänger
DTSTART;TZID=Europe/Berlin:20250816T140000
END:VEVENT

END:VCALENDAR
