BEGIN:VCALENDAR
VERSION:2.0
PRODID:-//hacksw/handcal//NONSGML v1.0//EN
CALSCALE:GREGORIAN
BEGIN:VTIMEZONE
TZID:Europe/Berlin
X-LIC-LOCATION:Europe/Berlin
BEGIN:DAYLIGHT
TZOFFSETFROM:+0100
TZOFFSETTO:+0200
TZNAME:CEST
DTSTART:19700329T020000
RRULE:FREQ=YEARLY;BYDAY=-1SU;BYMONTH=3
END:DAYLIGHT
BEGIN:STANDARD
TZOFFSETFROM:+0200
TZOFFSETTO:+0100
TZNAME:CET
DTSTART:19701025T030000
RRULE:FREQ=YEARLY;BYDAY=-1SU;BYMONTH=10
END:STANDARD
END:VTIMEZONE
BEGIN:VEVENT
DTEND;TZID=Europe/Berlin:20250816T170000
UID:69e60fe92390c
DTSTAMP:20260420T133713
LOCATION:Freibad Heiligenberg
DESCRIPTION:Bereit für echtes Urlaubsfeeling mitten in den Ferien? Dann komm zu unserer Beach Party! Wir holen den Strand direkt zu uns – mit Musik\, Spielen und guter Laune!\r\n\r\nFreu dich auf coole Strandspiele und viele weitere Aktionen\, bei denen du dich so richtig austoben kannst. Natürlich darf bei einer echten Beach Party auch die Musik nicht fehlen – es wird getanzt\, gelacht und gefeiert! \r\nZur Stärkung gibt es leckere alkoholfreie Cocktails
URL;VALUE=URI:https://www.unser-ferienprogramm.de/heiligenberg/veranstaltung.php?id=279933
SUMMARY:Beach-Party
DTSTART;TZID=Europe/Berlin:20250816T143000
END:VEVENT

END:VCALENDAR
