BEGIN:VCALENDAR
VERSION:2.0
PRODID:-//hacksw/handcal//NONSGML v1.0//EN
CALSCALE:GREGORIAN
BEGIN:VTIMEZONE
TZID:Europe/Berlin
X-LIC-LOCATION:Europe/Berlin
BEGIN:DAYLIGHT
TZOFFSETFROM:+0100
TZOFFSETTO:+0200
TZNAME:CEST
DTSTART:19700329T020000
RRULE:FREQ=YEARLY;BYDAY=-1SU;BYMONTH=3
END:DAYLIGHT
BEGIN:STANDARD
TZOFFSETFROM:+0200
TZOFFSETTO:+0100
TZNAME:CET
DTSTART:19701025T030000
RRULE:FREQ=YEARLY;BYDAY=-1SU;BYMONTH=10
END:STANDARD
END:VTIMEZONE
BEGIN:VEVENT
DTEND;TZID=Europe/Berlin:20250819T160000
UID:69e614a63e656
DTSTAMP:20260420T135726
LOCATION:Grundschule Heiligenberg - Musikraum
DESCRIPTION:Hast du Lust\, den Rhythmus Afrikas zu spüren? Dann mach mit beim Ferienprogramm„Trommeln wie in Afrika“!\r\n\r\nGemeinsam mit Frau Boemans erarbeitet ihr auf original afrikanischen Trommeln verschiedene Rhythmen und lernt\, wie Musik auch ohne Worte verbindet. Mit Spaß\, Bewegung und viel Gefühl für den Takt entsteht ein mitreißendes Trommelerlebnis\, das garantiert in die Beine geht!\r\n\r\nHöhepunkt des Tages:\r\nUm 16:00 Uhr könnt ihr das Gelernte bei einer kleinen Aufführung euren Eltern\, Geschwistern und Freunden präsentieren – ein echtes Trommelkonzert zum Staunen und Mitklatschen!
URL;VALUE=URI:https://www.unser-ferienprogramm.de/heiligenberg/veranstaltung.php?id=279924
SUMMARY:Trommeln wie in Afrika 
DTSTART;TZID=Europe/Berlin:20250819T140000
END:VEVENT

END:VCALENDAR
