BEGIN:VCALENDAR
VERSION:2.0
PRODID:-//hacksw/handcal//NONSGML v1.0//EN
CALSCALE:GREGORIAN
BEGIN:VTIMEZONE
TZID:Europe/Berlin
X-LIC-LOCATION:Europe/Berlin
BEGIN:DAYLIGHT
TZOFFSETFROM:+0100
TZOFFSETTO:+0200
TZNAME:CEST
DTSTART:19700329T020000
RRULE:FREQ=YEARLY;BYDAY=-1SU;BYMONTH=3
END:DAYLIGHT
BEGIN:STANDARD
TZOFFSETFROM:+0200
TZOFFSETTO:+0100
TZNAME:CET
DTSTART:19701025T030000
RRULE:FREQ=YEARLY;BYDAY=-1SU;BYMONTH=10
END:STANDARD
END:VTIMEZONE
BEGIN:VEVENT
DTEND;TZID=Europe/Berlin:20250811T170000
UID:69e62cc3888f8
DTSTAMP:20260420T154019
LOCATION:Sportplatz Heiligenberg
DESCRIPTION:Du liebst Fußball oder möchtest es einfach mal ausprobieren? Dann bist du beim Ferienprogramm des SV Heiligenberg genau richtig!\r\n\r\nHier könnt ihr in die Rolle eurer Lieblings-Fußballstars schlüpfen\, Tore schießen wie die Profis und euer Können auf dem Platz zeigen. Egal ob Anfänger oder Fußballfan – bei uns steht der Spaß am Spiel im Vordergrund!\r\n
URL;VALUE=URI:https://www.unser-ferienprogramm.de/heiligenberg/veranstaltung.php?id=279912
SUMMARY:Fußball beim SV Heiligenberg
DTSTART;TZID=Europe/Berlin:20250811T143000
END:VEVENT

END:VCALENDAR
