BEGIN:VCALENDAR
VERSION:2.0
PRODID:-//hacksw/handcal//NONSGML v1.0//EN
CALSCALE:GREGORIAN
BEGIN:VTIMEZONE
TZID:Europe/Berlin
X-LIC-LOCATION:Europe/Berlin
BEGIN:DAYLIGHT
TZOFFSETFROM:+0100
TZOFFSETTO:+0200
TZNAME:CEST
DTSTART:19700329T020000
RRULE:FREQ=YEARLY;BYDAY=-1SU;BYMONTH=3
END:DAYLIGHT
BEGIN:STANDARD
TZOFFSETFROM:+0200
TZOFFSETTO:+0100
TZNAME:CET
DTSTART:19701025T030000
RRULE:FREQ=YEARLY;BYDAY=-1SU;BYMONTH=10
END:STANDARD
END:VTIMEZONE
BEGIN:VEVENT
DTEND;TZID=Europe/Berlin:20250813T123000
UID:69e614a617511
DTSTAMP:20260420T135726
LOCATION:Pfullendorfer Straße 10
DESCRIPTION:Du hast Lust\, in den Ferien etwas Neues auszuprobieren?\r\nDu willst kreativ sein und etwas mit den eigenen Händen schaffen?\r\n\r\nDann mach mit bei unseren Ferienspielen und entdecke die Welt des Strickens! Ob du schon einmal Nadeln in der Hand hattest oder ganz am Anfang stehst – hier bist du genau richtig.\r\n\r\nGemeinsam lernen wir die Grundlagen: vom Maschenanschlag bis zu ersten kleinen Projekten. \r\nDabei kannst du deiner Kreativität freien Lauf lassen und stolz auf das sein\, was du selbst gemacht hast. \r\n\r\nStricken macht nicht nur Spaß\, es fördert auch Konzentration\, Geduld und Fingerfertigkeit – und ganz nebenbei entstehen dabei echte Unikate.\r\n\r\nFrau Kriese freut sich auch über HelferInnen die bereits stricken können.
URL;VALUE=URI:https://www.unser-ferienprogramm.de/heiligenberg/veranstaltung.php?id=278037
SUMMARY:Stricken lernen 
DTSTART;TZID=Europe/Berlin:20250813T100000
END:VEVENT

END:VCALENDAR
