BEGIN:VCALENDAR
VERSION:2.0
PRODID:-//hacksw/handcal//NONSGML v1.0//EN
CALSCALE:GREGORIAN
BEGIN:VTIMEZONE
TZID:Europe/Berlin
X-LIC-LOCATION:Europe/Berlin
BEGIN:DAYLIGHT
TZOFFSETFROM:+0100
TZOFFSETTO:+0200
TZNAME:CEST
DTSTART:19700329T020000
RRULE:FREQ=YEARLY;BYDAY=-1SU;BYMONTH=3
END:DAYLIGHT
BEGIN:STANDARD
TZOFFSETFROM:+0200
TZOFFSETTO:+0100
TZNAME:CET
DTSTART:19701025T030000
RRULE:FREQ=YEARLY;BYDAY=-1SU;BYMONTH=10
END:STANDARD
END:VTIMEZONE
BEGIN:VEVENT
DTEND;TZID=Europe/Berlin:20250815T170000
UID:69e5fcc34fc24
DTSTAMP:20260420T121531
LOCATION:Riedlehof zwischen Hattenweiler und Kirnbach
DESCRIPTION:Mit den Jägern Melanie Fritz und Edgar Reichelt (Mitglied der Badischen Jäger Überlingen) geht es auf Erkundungstour durch den Wald.\r\n\r\nWelche Tiere leben im Wald\, wieviel frisst ein Reh am Tag\, wie fühlt sich das Fell eines Fuchses an und was muss ein Jagdhund eigentlich alles können? Auf diese und viele andere Fragen werden wir gemeinsam auf einem Rundgang Antworten finden.\r\n\r\nMit verschiedenen Spielen und einer spannenden Suche nach Waldtieren kommt keine Langeweile auf.\r\n\r\nFür eine Stärkung zwischendurch ist natürlich gesorgt.\r\n
URL;VALUE=URI:https://www.unser-ferienprogramm.de/heiligenberg/veranstaltung.php?id=277845
SUMMARY:Im Walde mit den Jägern
DTSTART;TZID=Europe/Berlin:20250815T140000
END:VEVENT

END:VCALENDAR
