BEGIN:VCALENDAR
VERSION:2.0
PRODID:-//hacksw/handcal//NONSGML v1.0//EN
CALSCALE:GREGORIAN
BEGIN:VTIMEZONE
TZID:Europe/Berlin
X-LIC-LOCATION:Europe/Berlin
BEGIN:DAYLIGHT
TZOFFSETFROM:+0100
TZOFFSETTO:+0200
TZNAME:CEST
DTSTART:19700329T020000
RRULE:FREQ=YEARLY;BYDAY=-1SU;BYMONTH=3
END:DAYLIGHT
BEGIN:STANDARD
TZOFFSETFROM:+0200
TZOFFSETTO:+0100
TZNAME:CET
DTSTART:19701025T030000
RRULE:FREQ=YEARLY;BYDAY=-1SU;BYMONTH=10
END:STANDARD
END:VTIMEZONE
BEGIN:VEVENT
DTEND;TZID=Europe/Berlin:20250820T163000
UID:69e600f147068
DTSTAMP:20260420T123321
LOCATION:Postplatz 3\, 88633 Heiligenberg
DESCRIPTION:Die Teilnehmer werden in verschiedene Altersgruppen eingeteilt.\r\nDas Ziel ist es\, mit einem Kettcar einen Parcour in der schnellsten Rundenzeit zu schaffen.\r\nJeder Teilnehmer erhält eine Medaille\, die Teilnehmer mit der schnellsten Rundenzeit je Altersgruppe bekommen einen Pokal überreicht.\r\n\r\n\r\n
URL;VALUE=URI:https://www.unser-ferienprogramm.de/heiligenberg/veranstaltung.php?id=276101
SUMMARY:Wer wird Volksbank Rennfahrer 2025
DTSTART;TZID=Europe/Berlin:20250820T150000
END:VEVENT

END:VCALENDAR
