BEGIN:VCALENDAR
VERSION:2.0
PRODID:-//hacksw/handcal//NONSGML v1.0//EN
CALSCALE:GREGORIAN
BEGIN:VTIMEZONE
TZID:Europe/Berlin
X-LIC-LOCATION:Europe/Berlin
BEGIN:DAYLIGHT
TZOFFSETFROM:+0100
TZOFFSETTO:+0200
TZNAME:CEST
DTSTART:19700329T020000
RRULE:FREQ=YEARLY;BYDAY=-1SU;BYMONTH=3
END:DAYLIGHT
BEGIN:STANDARD
TZOFFSETFROM:+0200
TZOFFSETTO:+0100
TZNAME:CET
DTSTART:19701025T030000
RRULE:FREQ=YEARLY;BYDAY=-1SU;BYMONTH=10
END:STANDARD
END:VTIMEZONE
BEGIN:VEVENT
DTEND;TZID=Europe/Berlin:20250724T160000
UID:69e67f4cc2476
DTSTAMP:20260420T213228
LOCATION:EVA- Evangelisches Kinder- und Jugendzentrum Havixbeck\, Schulstraße 12
DESCRIPTION:Trocken bleiben wird heute schwierig. Gemeinsam versuchen wir riesige Seifenblasen herzustellen und testen euer Wurfgeschick bei einer spannenden Wasserschlacht. 
URL;VALUE=URI:https://www.unser-ferienprogramm.de/havixbeck/veranstaltung.php?id=97694
SUMMARY:Auf das Wasser\, fertig und los geht`s!
DTSTART;TZID=Europe/Berlin:20250724T143000
END:VEVENT

END:VCALENDAR
