BEGIN:VCALENDAR
VERSION:2.0
PRODID:-//hacksw/handcal//NONSGML v1.0//EN
CALSCALE:GREGORIAN
BEGIN:VTIMEZONE
TZID:Europe/Berlin
X-LIC-LOCATION:Europe/Berlin
BEGIN:DAYLIGHT
TZOFFSETFROM:+0100
TZOFFSETTO:+0200
TZNAME:CEST
DTSTART:19700329T020000
RRULE:FREQ=YEARLY;BYDAY=-1SU;BYMONTH=3
END:DAYLIGHT
BEGIN:STANDARD
TZOFFSETFROM:+0200
TZOFFSETTO:+0100
TZNAME:CET
DTSTART:19701025T030000
RRULE:FREQ=YEARLY;BYDAY=-1SU;BYMONTH=10
END:STANDARD
END:VTIMEZONE
BEGIN:VEVENT
DTEND;TZID=Europe/Berlin:20250826T150000
UID:69e68075d97a6
DTSTAMP:20260420T213725
LOCATION:Althoffsweg 41\, 48329 Havixbeck
DESCRIPTION:DAS ERWARTET DICH:\r\n-Einführung in das olympische Sportschießen\r\n-Anfängertraining mit Luftgewehr und Luftpistole (ab 12 Jahre) und Lichtsportgeräten (ab 6 Jahre)\r\n-Lerne unsere jungen Teilnehmer/innen von Landes- und Deutschen Meisterschaften kennen\r\n-Fördere deine Kraft\, Ausdauer\, Konzentration und Koordination – und vor allem dein -Verantwortungsbewusstsein!\r\n-Professionelle Anleitung durch sachkundige Kinder- und Jugendbetreuer.\r\n-Sportler-Mittagesssen und kostenlose Getränke.\r\n-Spannende Wettkämpfe (Luftdruck- und Lichtsportgeräte) mit anschließender Siegerehrung!\r\n\r\nBESONDERES EXTRA:\r\nAlle erfolgreichen Teilnehmenden erhalten auf Wunsch eine kostenlose Vereinsmitgliedschaft bis zum Jahresende!\r\n\r\nJETZT ANMELDEN UND WIE EIN ECHTER OLYMPIONIKE SCHIESSEN!\r\n\r\nPS: Kommt bitte in Sportkleidung. \;)
URL;VALUE=URI:https://www.unser-ferienprogramm.de/havixbeck/veranstaltung.php?id=288830
SUMMARY:Sportschießen wie bei den Olympischen Spielen
DTSTART;TZID=Europe/Berlin:20250826T110000
END:VEVENT

END:VCALENDAR
