BEGIN:VCALENDAR
VERSION:2.0
PRODID:-//hacksw/handcal//NONSGML v1.0//EN
CALSCALE:GREGORIAN
BEGIN:VTIMEZONE
TZID:Europe/Berlin
X-LIC-LOCATION:Europe/Berlin
BEGIN:DAYLIGHT
TZOFFSETFROM:+0100
TZOFFSETTO:+0200
TZNAME:CEST
DTSTART:19700329T020000
RRULE:FREQ=YEARLY;BYDAY=-1SU;BYMONTH=3
END:DAYLIGHT
BEGIN:STANDARD
TZOFFSETFROM:+0200
TZOFFSETTO:+0100
TZNAME:CET
DTSTART:19701025T030000
RRULE:FREQ=YEARLY;BYDAY=-1SU;BYMONTH=10
END:STANDARD
END:VTIMEZONE
BEGIN:VEVENT
DTEND;TZID=Europe/Berlin:20250715T193000
UID:69e66a7462352
DTSTAMP:20260420T200332
LOCATION:Sportzentrum Flothfeld Althofsweg 41
DESCRIPTION:Werde fit – hol dir dein Sportabzeichen! \r\n\r\nDu liebst Laufen\, Springen\, Werfen oder Schwimmen?\r\nDann mach mit beim Training für das Deutsche Sportabzeichen!\r\nEgal ob du zum ersten Mal dabei bist oder schon ein kleiner Sportprofi  – hier kannst du zeigen\, was in dir steckt!\r\n\r\nWir üben gemeinsam\, haben Spaß und bereiten uns auf die Abnahme vor.\r\nWer will\, kann am Ende sein Abzeichen in Gold\, Silber oder Bronze schaffen!\r\n\r\nMach mit und werde ein Sportheld!\r\n\r\n
URL;VALUE=URI:https://www.unser-ferienprogramm.de/havixbeck/veranstaltung.php?id=286306
SUMMARY:Mach dich fit - hol dir dein Abzeichen! 
DTSTART;TZID=Europe/Berlin:20250715T180000
END:VEVENT


BEGIN:VEVENT
DTEND;TZID=Europe/Berlin:20250722T193000
UID:69e66a74623921
DTSTAMP:20260420T200332
LOCATION:Sportzentrum Flothfeld Althofsweg 41
DESCRIPTION:Werde fit – hol dir dein Sportabzeichen! \r\n\r\nDu liebst Laufen\, Springen\, Werfen oder Schwimmen?\r\nDann mach mit beim Training für das Deutsche Sportabzeichen!\r\nEgal ob du zum ersten Mal dabei bist oder schon ein kleiner Sportprofi  – hier kannst du zeigen\, was in dir steckt!\r\n\r\nWir üben gemeinsam\, haben Spaß und bereiten uns auf die Abnahme vor.\r\nWer will\, kann am Ende sein Abzeichen in Gold\, Silber oder Bronze schaffen!\r\n\r\nMach mit und werde ein Sportheld!\r\n\r\n
URL;VALUE=URI:https://www.unser-ferienprogramm.de/havixbeck/veranstaltung.php?id=286306
SUMMARY:Mach dich fit - hol dir dein Abzeichen! 
DTSTART;TZID=Europe/Berlin:20250722T180000
END:VEVENT


BEGIN:VEVENT
DTEND;TZID=Europe/Berlin:20250729T193000
UID:69e66a74623a32
DTSTAMP:20260420T200332
LOCATION:Sportzentrum Flothfeld Althofsweg 41
DESCRIPTION:Werde fit – hol dir dein Sportabzeichen! \r\n\r\nDu liebst Laufen\, Springen\, Werfen oder Schwimmen?\r\nDann mach mit beim Training für das Deutsche Sportabzeichen!\r\nEgal ob du zum ersten Mal dabei bist oder schon ein kleiner Sportprofi  – hier kannst du zeigen\, was in dir steckt!\r\n\r\nWir üben gemeinsam\, haben Spaß und bereiten uns auf die Abnahme vor.\r\nWer will\, kann am Ende sein Abzeichen in Gold\, Silber oder Bronze schaffen!\r\n\r\nMach mit und werde ein Sportheld!\r\n\r\n
URL;VALUE=URI:https://www.unser-ferienprogramm.de/havixbeck/veranstaltung.php?id=286306
SUMMARY:Mach dich fit - hol dir dein Abzeichen! 
DTSTART;TZID=Europe/Berlin:20250729T180000
END:VEVENT


BEGIN:VEVENT
DTEND;TZID=Europe/Berlin:20250805T193000
UID:69e66a74623af3
DTSTAMP:20260420T200332
LOCATION:Sportzentrum Flothfeld Althofsweg 41
DESCRIPTION:Werde fit – hol dir dein Sportabzeichen! \r\n\r\nDu liebst Laufen\, Springen\, Werfen oder Schwimmen?\r\nDann mach mit beim Training für das Deutsche Sportabzeichen!\r\nEgal ob du zum ersten Mal dabei bist oder schon ein kleiner Sportprofi  – hier kannst du zeigen\, was in dir steckt!\r\n\r\nWir üben gemeinsam\, haben Spaß und bereiten uns auf die Abnahme vor.\r\nWer will\, kann am Ende sein Abzeichen in Gold\, Silber oder Bronze schaffen!\r\n\r\nMach mit und werde ein Sportheld!\r\n\r\n
URL;VALUE=URI:https://www.unser-ferienprogramm.de/havixbeck/veranstaltung.php?id=286306
SUMMARY:Mach dich fit - hol dir dein Abzeichen! 
DTSTART;TZID=Europe/Berlin:20250805T180000
END:VEVENT


BEGIN:VEVENT
DTEND;TZID=Europe/Berlin:20250812T193000
UID:69e66a74623b94
DTSTAMP:20260420T200332
LOCATION:Sportzentrum Flothfeld Althofsweg 41
DESCRIPTION:Werde fit – hol dir dein Sportabzeichen! \r\n\r\nDu liebst Laufen\, Springen\, Werfen oder Schwimmen?\r\nDann mach mit beim Training für das Deutsche Sportabzeichen!\r\nEgal ob du zum ersten Mal dabei bist oder schon ein kleiner Sportprofi  – hier kannst du zeigen\, was in dir steckt!\r\n\r\nWir üben gemeinsam\, haben Spaß und bereiten uns auf die Abnahme vor.\r\nWer will\, kann am Ende sein Abzeichen in Gold\, Silber oder Bronze schaffen!\r\n\r\nMach mit und werde ein Sportheld!\r\n\r\n
URL;VALUE=URI:https://www.unser-ferienprogramm.de/havixbeck/veranstaltung.php?id=286306
SUMMARY:Mach dich fit - hol dir dein Abzeichen! 
DTSTART;TZID=Europe/Berlin:20250812T180000
END:VEVENT


BEGIN:VEVENT
DTEND;TZID=Europe/Berlin:20250819T193000
UID:69e66a74623c35
DTSTAMP:20260420T200332
LOCATION:Sportzentrum Flothfeld Althofsweg 41
DESCRIPTION:Werde fit – hol dir dein Sportabzeichen! \r\n\r\nDu liebst Laufen\, Springen\, Werfen oder Schwimmen?\r\nDann mach mit beim Training für das Deutsche Sportabzeichen!\r\nEgal ob du zum ersten Mal dabei bist oder schon ein kleiner Sportprofi  – hier kannst du zeigen\, was in dir steckt!\r\n\r\nWir üben gemeinsam\, haben Spaß und bereiten uns auf die Abnahme vor.\r\nWer will\, kann am Ende sein Abzeichen in Gold\, Silber oder Bronze schaffen!\r\n\r\nMach mit und werde ein Sportheld!\r\n\r\n
URL;VALUE=URI:https://www.unser-ferienprogramm.de/havixbeck/veranstaltung.php?id=286306
SUMMARY:Mach dich fit - hol dir dein Abzeichen! 
DTSTART;TZID=Europe/Berlin:20250819T180000
END:VEVENT


BEGIN:VEVENT
DTEND;TZID=Europe/Berlin:20250826T193000
UID:69e66a74623cd6
DTSTAMP:20260420T200332
LOCATION:Sportzentrum Flothfeld Althofsweg 41
DESCRIPTION:Werde fit – hol dir dein Sportabzeichen! \r\n\r\nDu liebst Laufen\, Springen\, Werfen oder Schwimmen?\r\nDann mach mit beim Training für das Deutsche Sportabzeichen!\r\nEgal ob du zum ersten Mal dabei bist oder schon ein kleiner Sportprofi  – hier kannst du zeigen\, was in dir steckt!\r\n\r\nWir üben gemeinsam\, haben Spaß und bereiten uns auf die Abnahme vor.\r\nWer will\, kann am Ende sein Abzeichen in Gold\, Silber oder Bronze schaffen!\r\n\r\nMach mit und werde ein Sportheld!\r\n\r\n
URL;VALUE=URI:https://www.unser-ferienprogramm.de/havixbeck/veranstaltung.php?id=286306
SUMMARY:Mach dich fit - hol dir dein Abzeichen! 
DTSTART;TZID=Europe/Berlin:20250826T180000
END:VEVENT

END:VCALENDAR
