BEGIN:VCALENDAR
VERSION:2.0
PRODID:-//hacksw/handcal//NONSGML v1.0//EN
CALSCALE:GREGORIAN
BEGIN:VTIMEZONE
TZID:Europe/Berlin
X-LIC-LOCATION:Europe/Berlin
BEGIN:DAYLIGHT
TZOFFSETFROM:+0100
TZOFFSETTO:+0200
TZNAME:CEST
DTSTART:19700329T020000
RRULE:FREQ=YEARLY;BYDAY=-1SU;BYMONTH=3
END:DAYLIGHT
BEGIN:STANDARD
TZOFFSETFROM:+0200
TZOFFSETTO:+0100
TZNAME:CET
DTSTART:19701025T030000
RRULE:FREQ=YEARLY;BYDAY=-1SU;BYMONTH=10
END:STANDARD
END:VTIMEZONE
BEGIN:VEVENT
DTEND;TZID=Europe/Berlin:20250722T170000
UID:69e680cfd959f
DTSTAMP:20260420T213855
LOCATION:Forum der Anne Frank Gesamtschule
DESCRIPTION:Du liebst es\, dich zu bewegen und in verschiedene Rollen zu schlüpfen? Du hast Lust etwas Theatererfahrung zu sammeln? Dann ist unser Theater-Workshop genau das Richtige für dich!\r\n\r\nIn diesem Workshop für Kinder im Alter von 6 bis 14 Jahren tauchen wir gemeinsam in die Welt des Theaters ein. Mit viel Spaß und tollen Spielen werden wir unsere Fantasie anregen und zusammen kreativ werden. Es warten lustige Schauspielübungen\, spannende Improvisationen und jede Menge Bewegung auf dich!\r\n\r\nEgal\, ob du schon Erfahrungen auf der Bühne hast oder einfach nur neugierig bist – hier ist jeder willkommen! Wir freuen uns auf Dich!\r\n\r\n
URL;VALUE=URI:https://www.unser-ferienprogramm.de/havixbeck/veranstaltung.php?id=284631
SUMMARY:Bühne frei für kleine Talente! Theaterworkshop für Kids
DTSTART;TZID=Europe/Berlin:20250722T153000
END:VEVENT

END:VCALENDAR
